BEGIN:VCALENDAR
VERSION:2.0
PRODID:-//Diari del Maestrat - ECPv6.4.0//NONSGML v1.0//EN
CALSCALE:GREGORIAN
METHOD:PUBLISH
X-WR-CALNAME:Diari del Maestrat
X-ORIGINAL-URL:https://diaridelmaestrat.com
X-WR-CALDESC:Events for Diari del Maestrat
REFRESH-INTERVAL;VALUE=DURATION:PT1H
X-Robots-Tag:noindex
X-PUBLISHED-TTL:PT1H
BEGIN:VTIMEZONE
TZID:Europe/Helsinki
BEGIN:DAYLIGHT
TZOFFSETFROM:+0200
TZOFFSETTO:+0300
TZNAME:EEST
DTSTART:20240331T010000
END:DAYLIGHT
BEGIN:STANDARD
TZOFFSETFROM:+0300
TZOFFSETTO:+0200
TZNAME:EET
DTSTART:20241027T010000
END:STANDARD
END:VTIMEZONE
BEGIN:VEVENT
DTSTART;VALUE=DATE:20240518
DTEND;VALUE=DATE:20240521
DTSTAMP:20260422T222756
CREATED:20240515T111601Z
LAST-MODIFIED:20240517T120614Z
UID:334000-1715990400-1716249599@diaridelmaestrat.com
SUMMARY:Benassal - Festes de Sant Cristòfol
DESCRIPTION:DISSABTE 18 DE MAIG \n\n11:00 h: Al carrer Sant Francesc\, jocs de fusta per a tots els xiquets i xiquetes.\n12:00 h: A la Plaça Espanya\, Corro de Vaques de la Ramadería “Hmnos. Bellés”.\n14:30 h: Dinar de Germanor al caller Valterra.\n\nEntrades: Adults (a partir de 12 anys) Anticipada 18 euros i Taquilla 20 euros; Infantils (de 5 a 12 anys) Anticipada 8 euros i Taquilla 10 euros; Menors de 5 anys\, entrada gratuita (previa adquisició) \n\n17:30 h: A la Plaça Espanya\, Corro de Vaques de la Ramadería “La Espuela”.\n18:00 h: “Tardeo” amb Isra Maldonado\, seguidament DiscoMòbil “The Luxe”.\n21:00 h: Plaça Espanya\, servei d’hamburgueses per a sopar.\n23:00 h: Embolada d’un bou de la Ramadería “La Espuela”. A continuació\, actuació de “Paynamoon” y DiscoMòbil “The Luxe” fins a la matinada.\n\nVENDA ANTICIPADA A LA MOLA \n\nDissabte 4 i 11 de maig: De 18:00 h a 20:00 h.\nDiumenge 5 i 12 de maig: De 11:00 h a 13:30 h.\n\nDIUMENGE\, 19 DE MAIG \n\n09:30 h: Volteig de campanes en honor a Sant Cristòfol.\n10:45 h: Volteig de campanes en honor a Sant Cristòfol.\n11:15 h: Missa Major en honor a Sant Cristòfol amb Rondalla i Cor de Benassal.\n12:15 h: Volteig de campanes en honor al Sant i benedicció de vehicles i lliurament de banderins.\n18:00 h: A la sala d’usos múltiples de l’Escola\, CINEMA PER A TOTS ELS XIQUETS I XIQUETES.\n20:00 h: Volteig de campanes en honor a Sant Cristòfol.\n\nDILLUNS\, 20 DE MAIG  \n\n09:00 h: Volteig de campanes i eixida en processó de la Romeria des de l’Esglesia Nostra Senyora de l’Assumpció cap a Sant Cristòfol.\n09:15 h: Eixida de la Rècua guarnida amb els aparells típics.\n10:15 h: Arribada a Sant Liberi\, cant de “L’ OBERE DEUS”. Repartiment de dolços\, arribada de la Rècua i eixida en Processó cap a l’ermita.\n12:00 h: Santa Missa a l’Ermita de Sant Cristòfol. Cant dels gojos en honor al sant. A continuació benedicció i repartiment de primes.\n17:00 h: Eixida de la processó cap a Benassal.\n18:30 h: Arribada de la romeria a Benassal i vol·leig de campanes. Responsum per als difunts i cant dels gojos en honor a Sant Cristòfol. Tot seguit\, Ball Pla a la Plaça Espanya amenitzat per la Banda Municipal Font D’En Segures de Benassal.
URL:https://diaridelmaestrat.com/agenda/benassal-festes-de-sant-cristofol-actes-del-divendres/
LOCATION:Benassal\, Benassal
CATEGORIES:Benassal
ATTACH;FMTTYPE=image/jpeg:https://diaridelmaestrat.com/wp-content/uploads/2024/05/Tradicio-i-festa-en-els-actes-de-Benassal-en-honor-a-Sant-Cristofol.jpg
END:VEVENT
BEGIN:VEVENT
DTSTART;TZID=Europe/Helsinki:20240518T190000
DTEND;TZID=Europe/Helsinki:20240519T220000
DTSTAMP:20260422T222756
CREATED:20240514T112136Z
LAST-MODIFIED:20240517T120648Z
UID:333831-1716058800-1716156000@diaridelmaestrat.com
SUMMARY:Alcanar - Representació de l'obra Sister Act
DESCRIPTION:1 obra el dissabte a les 19:00 h i dues obres el diumenge (1 a les 17:00 h i una altra a les 20:00 h)\n\nSinopsis: \nDeloris\, la cantante de un cabaret de Philadelphia\, es testigo de un terrible asesinato perpetrado por su amante\, el mas temible mafioso de la ciudad\, Curtis Jackson. Debido a ello se ve obligada a meterse en un programa de protección de testigos y refugiarse en el Convento de Nuestra Señora de los Ángeles\, en peligro de cerrar sus puertas por falta de donativos e ingresos. \nDeberá hacerse pasar por una de las monjas bajo el nombre de María Clarisa y eso significará toda una revolución para la comunidad de monjas\, sobre todo para la madre superiora. \nSu misión será dirigir el coro del convento y conseguir que no cierren sus puertas con nuevas canciones\, sin que la comunidad\, y ella misma\, estén en peligro por el acecho de Curtis. \n¿Será capaz Deloris de sobrevivir? ¿Podrán todas las monjas sobrevivir a Deloris? ¡No puedes perderte esta aventura tan celestial! \nHazte con tu entrada: https://lafarsacompanyia.com
URL:https://diaridelmaestrat.com/agenda/alcanar-representacio-de-lobra-sister-act/
LOCATION:Teatre Auditori d’Alcanar\, Avinguda de Catalunya\, 78\, 43530\, Alcanar\, Tarragona\, 43530\, España
CATEGORIES:Alcanar,Obres de Teatre
ATTACH;FMTTYPE=image/jpeg:https://diaridelmaestrat.com/wp-content/uploads/2024/05/92b883a6-a100-4afb-8e7d-c73e760f1838.jpeg
END:VEVENT
BEGIN:VEVENT
DTSTART;TZID=Europe/Helsinki:20240518T200000
DTEND;TZID=Europe/Helsinki:20240519T020000
DTSTAMP:20260422T222756
CREATED:20240514T111440Z
LAST-MODIFIED:20240517T122004Z
UID:333825-1716062400-1716084000@diaridelmaestrat.com
SUMMARY:Vinaròs/Alcanar - Fase Social Senior del Club Pesca El Llangostí
DESCRIPTION:
URL:https://diaridelmaestrat.com/agenda/vinaros-alcanar-fase-social-senior-del-club-pesca-el-llangosti/
LOCATION:Platja del Marjal\, Alcanar\, Tarragona\, 43530\, España
CATEGORIES:Alcanar,Esports,VINARÒS
ATTACH;FMTTYPE=image/jpeg:https://diaridelmaestrat.com/wp-content/uploads/2024/05/6a-FASE-SOCIAL-SENIOR-MARICEL-2024-1.jpg
END:VEVENT
BEGIN:VEVENT
DTSTART;VALUE=DATE:20240519
DTEND;VALUE=DATE:20240520
DTSTAMP:20260422T222756
CREATED:20240507T101455Z
LAST-MODIFIED:20240517T122014Z
UID:331860-1716076800-1716163199@diaridelmaestrat.com
SUMMARY:Vinaròs - Campionat Províncial Absolut de Tennis Taula
DESCRIPTION:Campionat Províncial Absolut de Tennis Taula al Pavelló Poliesportiu de Vinaròs
URL:https://diaridelmaestrat.com/agenda/campionat-provincial-absolut-de-tennis-taula/
LOCATION:Pavelló Poliesportiu de Vinaròs\, Av. de Tarragona\, 12500 Vinaròs\, Vinaròs\, Castellón\, 12500\, España
CATEGORIES:Esports,VINARÒS
ATTACH;FMTTYPE=image/jpeg:https://diaridelmaestrat.com/wp-content/uploads/2024/05/Cartell-tenis-taula_page-0001-1.jpg
END:VEVENT
BEGIN:VEVENT
DTSTART;TZID=Europe/Helsinki:20240519T100000
DTEND;TZID=Europe/Helsinki:20240519T130000
DTSTAMP:20260422T222756
CREATED:20240516T104236Z
LAST-MODIFIED:20240517T122023Z
UID:334152-1716112800-1716123600@diaridelmaestrat.com
SUMMARY:Benicarló - IIIª Marxa Solidària Contra El Càncer
DESCRIPTION:Inscripcions: \n\nOnline: hj-crono.es\nPresencial: Mercat (Dimecres de 10-12 h); C/ Sant Joan 7 (Dimecres 19 h a 20 h) i a l’Òptica Benicarló\, al carrer Pius XII\, 23.
URL:https://diaridelmaestrat.com/agenda/benicarlo-iiia-marxa-solidaria-contra-el-cancer/
LOCATION:Plaça Constitució\, Plaça Constitució\, Benicarló\, Castellón\, 12580\, España
CATEGORIES:BENICARLÓ,Esports
ATTACH;FMTTYPE=image/jpeg:https://diaridelmaestrat.com/wp-content/uploads/2024/05/marxa2.jpeg
END:VEVENT
BEGIN:VEVENT
DTSTART;TZID=Europe/Helsinki:20240519T100000
DTEND;TZID=Europe/Helsinki:20240519T183000
DTSTAMP:20260422T222756
CREATED:20240517T112205Z
LAST-MODIFIED:20240517T122040Z
UID:334574-1716112800-1716143400@diaridelmaestrat.com
SUMMARY:Vinaròs - Dia de les Families
DESCRIPTION:
URL:https://diaridelmaestrat.com/agenda/vinaros-dia-de-les-families/
LOCATION:Carpa de l’Atlàntic\, Avinguda de l'Atlàntic\, 15\, Vinaròs\, Castellón\, 12500\, España
CATEGORIES:VINARÒS
ATTACH;FMTTYPE=image/jpeg:https://diaridelmaestrat.com/wp-content/uploads/2024/05/428366484_787342586856168_4130140044914505299_n.jpg
END:VEVENT
BEGIN:VEVENT
DTSTART;TZID=Europe/Helsinki:20240519T110000
DTEND;TZID=Europe/Helsinki:20240519T120000
DTSTAMP:20260422T222756
CREATED:20240514T114116Z
LAST-MODIFIED:20240517T122435Z
UID:333846-1716116400-1716120000@diaridelmaestrat.com
SUMMARY:Benicarló - III Jornades de Convivència Cooperativa Sant Isidre 2024 (Missa)
DESCRIPTION:11:oo h: Missa Major a l’Església Parroquial de Sant Bartomeu. Ofrena dels fruits del camp per part dels xiquets i xiquetes i benedicció simbòlica de les partides del terme municipal
URL:https://diaridelmaestrat.com/agenda/benicarlo-iii-jornades-de-convivencia-cooperativa-sant-isidre-2024-missa/
LOCATION:Església Parroquial de Sant Bertomeu\, Plaça de Sant Bartomeu\, 23\, 12580 Benicarló\, Benicarló\, Castellón\, 12580\, España
CATEGORIES:BENICARLÓ
ATTACH;FMTTYPE=image/jpeg:https://diaridelmaestrat.com/wp-content/uploads/2024/05/7881c8a6-7e06-49c9-aff4-57218cf15e56-1.jpeg
END:VEVENT
END:VCALENDAR