BEGIN:VCALENDAR
VERSION:2.0
PRODID:-//Diari del Maestrat - ECPv6.4.0//NONSGML v1.0//EN
CALSCALE:GREGORIAN
METHOD:PUBLISH
X-WR-CALNAME:Diari del Maestrat
X-ORIGINAL-URL:https://diaridelmaestrat.com
X-WR-CALDESC:Events for Diari del Maestrat
REFRESH-INTERVAL;VALUE=DURATION:PT1H
X-Robots-Tag:noindex
X-PUBLISHED-TTL:PT1H
BEGIN:VTIMEZONE
TZID:Europe/Helsinki
BEGIN:DAYLIGHT
TZOFFSETFROM:+0200
TZOFFSETTO:+0300
TZNAME:EEST
DTSTART:20240331T010000
END:DAYLIGHT
BEGIN:STANDARD
TZOFFSETFROM:+0300
TZOFFSETTO:+0200
TZNAME:EET
DTSTART:20241027T010000
END:STANDARD
END:VTIMEZONE
BEGIN:VEVENT
DTSTART;TZID=Europe/Helsinki:20240520T080000
DTEND;TZID=Europe/Helsinki:20240609T200000
DTSTAMP:20260422T222756
CREATED:20240516T112518Z
LAST-MODIFIED:20240517T122455Z
UID:334202-1716192000-1717963200@diaridelmaestrat.com
SUMMARY:Vinaròs - Jornades de la Cuina del Llangostí
DESCRIPTION:
URL:https://diaridelmaestrat.com/agenda/vinaros-jornades-de-la-cuina-del-llangosti/
LOCATION:Vinaròs
CATEGORIES:Gastronomia,VINARÒS
ATTACH;FMTTYPE=image/jpeg:https://diaridelmaestrat.com/wp-content/uploads/2024/05/Cartells-ConcursJornades-2024-2_page-0001.jpg
END:VEVENT
END:VCALENDAR