BEGIN:VCALENDAR
VERSION:2.0
PRODID:-//Diari del Maestrat - ECPv6.4.0//NONSGML v1.0//EN
CALSCALE:GREGORIAN
METHOD:PUBLISH
X-ORIGINAL-URL:https://diaridelmaestrat.com
X-WR-CALDESC:Events for Diari del Maestrat
REFRESH-INTERVAL;VALUE=DURATION:PT1H
X-Robots-Tag:noindex
X-PUBLISHED-TTL:PT1H
BEGIN:VTIMEZONE
TZID:Europe/Helsinki
BEGIN:DAYLIGHT
TZOFFSETFROM:+0200
TZOFFSETTO:+0300
TZNAME:EEST
DTSTART:20240331T010000
END:DAYLIGHT
BEGIN:STANDARD
TZOFFSETFROM:+0300
TZOFFSETTO:+0200
TZNAME:EET
DTSTART:20241027T010000
END:STANDARD
END:VTIMEZONE
BEGIN:VEVENT
DTSTART;TZID=Europe/Helsinki:20240520T080000
DTEND;TZID=Europe/Helsinki:20240609T200000
DTSTAMP:20260422T222809
CREATED:20240516T112518Z
LAST-MODIFIED:20240517T122455Z
UID:334202-1716192000-1717963200@diaridelmaestrat.com
SUMMARY:Vinaròs - Jornades de la Cuina del Llangostí
DESCRIPTION:
URL:https://diaridelmaestrat.com/agenda/vinaros-jornades-de-la-cuina-del-llangosti/
LOCATION:Vinaròs
CATEGORIES:Gastronomia,VINARÒS
ATTACH;FMTTYPE=image/jpeg:https://diaridelmaestrat.com/wp-content/uploads/2024/05/Cartells-ConcursJornades-2024-2_page-0001.jpg
END:VEVENT
BEGIN:VEVENT
DTSTART;TZID=Europe/Helsinki:20240524T080000
DTEND;TZID=Europe/Helsinki:20240701T000000
DTSTAMP:20260422T222809
CREATED:20240523T105707Z
LAST-MODIFIED:20240523T105707Z
UID:336073-1716537600-1719792000@diaridelmaestrat.com
SUMMARY:Benicarló - XLI Certamen de Pintura Ciutat de Benicarló
DESCRIPTION:
URL:https://diaridelmaestrat.com/agenda/benicarlo-xli-certamen-de-pintura-ciutat-de-benicarlo/
LOCATION:Castellón
CATEGORIES:BENICARLÓ
ATTACH;FMTTYPE=image/jpeg:https://diaridelmaestrat.com/wp-content/uploads/2024/05/PUBLICACIO_-Biennal-pintura.jpg
END:VEVENT
BEGIN:VEVENT
DTSTART;TZID=Europe/Helsinki:20240524T120000
DTEND;TZID=Europe/Helsinki:20240605T170000
DTSTAMP:20260422T222809
CREATED:20240522T114818Z
LAST-MODIFIED:20240522T114818Z
UID:335949-1716552000-1717606800@diaridelmaestrat.com
SUMMARY:Benicarló - Exposició de treballs del Cicle d'Artista Faller i Escenografia
DESCRIPTION:Inauguració: Divendres\, dia 24 de maig de 2024\, a les 12.00 h. \n 
URL:https://diaridelmaestrat.com/agenda/benicarlo-exposicio-de-treballs-del-cicle-dartista-faller-i-escenografia/
LOCATION:Museu de la Ciutat de Benicarló (MUCBE)\, Carrer de la Pau\, 2\, 12580 Benicarló\, Benicarló\, Castellón\, 12580\, España
CATEGORIES:BENICARLÓ,Exposicions,Falles
ATTACH;FMTTYPE=image/jpeg:https://diaridelmaestrat.com/wp-content/uploads/2024/05/30703-1.jpeg
END:VEVENT
BEGIN:VEVENT
DTSTART;TZID=Europe/Helsinki:20240524T170000
DTEND;TZID=Europe/Helsinki:20240526T190000
DTSTAMP:20260422T222809
CREATED:20240516T115200Z
LAST-MODIFIED:20240517T122540Z
UID:334216-1716570000-1716750000@diaridelmaestrat.com
SUMMARY:Peníscola - Festival RocartCultura
DESCRIPTION:DIVENDRES\, 24 DE MAIG \n\nDe 17.00h a 21.00h: Museu Efímer de Peníscola a tots els espais habilitats com a galeries efímeres\, a les galeries d’art locals\, locals d’artistes\, artesans\, carrers ia les sales municipals la Casa de l’Aigua i la Sala del Cos de Guàrdia del Portal Fosc.\n19.00h: A la plaça Santa Maria\, espectacle de dansa Desconviure\, a càrrec de la companyia La Infame.\n20.00h: A la llibreria La Templanza presentació de Satori Ediciones\, especialitzada en literatura japonesa. Es podran adquirir llibres a la mateixa llibreria i durant el festival al seu espai a l’Hostal Peníscola. A continuació\, concert de Pumchimama (folklore argentí fusió).\n\nDISSABTE\, 25 DE MAIG \n\nD’11.00h a 14.00h i de 17.00h a 21.00h: Museu Efímer als llocs detallats. \nD’11.00 ha 14.00 h: Taller d’Haikus a càrrec del japonès Yoshi Hioki. Màxim 12 participants. Pots fer la teva inscripció al mail: info@festivalesarteycultura.com o tel. 619754615. Lloc: La Templanza. Aportació simbòlica: 5 euros. \n11.00h: Des de la Casa de l´Aigua\, visita guiada pel nucli antic\, els tallers d´artistes i totes les propostes del festival (durada aproximada 1\,30h). Activitat gratuïta. \n17.00h: Des de la Casa de l’Aigua visita guiada pel nucli antic\, els tallers d’artistes i totes les propostes del festival (durada aproximada 1\,30h). Activitat gratuïta. \n19.00h: Performance-Mo a càrrec d’Anne Barton. Lloc: Cos de Guàrdia del Portal Fosc. Entrada gratuïta\, aforament limitat. \n21.30h: Contacontes japonès per a adults amb Yoshi Hioki\, narrador oral. Lloc: Casa de l’Aigua. Entrada gratuïta. Places limitades.\n\nDIUMENGE\, 26 DE MAIG \n\nD’11.00h a 14.30h i de 17.00h a 19.30h: Museu Efímer als llocs detallats en aquest programa.\nD’11.00h a 15.00h: Mercat d’antiguitats i col·leccionisme. Lloc: plaça Santa Maria.\nDe 11.00h a 12.30h: Taller de cianotípia a càrrec de Tawny Blume. Màxim 12 participants. Pots fer la teva inscripció al mail: info@festivalesarteycultura.com o tel. 619754615. Lloc: Casa de l’Aigua. Aportació simbòlica: 5 euros.\n12.00h: Des de la Casa de l’Aigua visita guiada pel nucli antic\, els tallers d’artistes i totes les propostes del festival (durada aproximada 1\,30h.) Activitat gratuïta.\n12.30h: Vermut musical a càrrec de Theo & Lissy\, amb música pop i rock de tots els temps\, a la plaça Santa Maria. Entrada gratuïta.\nDe 17.00h a 19.00h: Taller de collage a càrrec de La Dmuda. Màxim 12 participants. Inscripcions al mail: info@festivalesarteycultura.com o tel. 619754615. Lloc: Cos de Guàrdia del Portal Fosc. Aportació simbòlica: 5 euros.\n\nDurant tota la jornada podràs veure els Urban Sketchers Maestrat dibuixant pels nostres carrers
URL:https://diaridelmaestrat.com/agenda/peniscola-festival-rocartcultura/
LOCATION:Peníscola\, Peníscola\, Castellón\, 12598\, España
CATEGORIES:Festivals,PENÍSCOLA
ATTACH;FMTTYPE=image/jpeg:https://diaridelmaestrat.com/wp-content/uploads/2024/05/b2828fb1-96e7-4618-8b03-7746155f509c-1.jpeg
END:VEVENT
BEGIN:VEVENT
DTSTART;TZID=Europe/Helsinki:20240525T090000
DTEND;TZID=Europe/Helsinki:20240525T200000
DTSTAMP:20260422T222809
CREATED:20240523T112352Z
LAST-MODIFIED:20240523T112406Z
UID:336098-1716627600-1716667200@diaridelmaestrat.com
SUMMARY:Peníscola - I Torneig Benedicto's Cup Futbol 7
DESCRIPTION:
URL:https://diaridelmaestrat.com/agenda/peniscola-i-torneig-benedictos-cup-futbol-7/
LOCATION:Camp Municipal Benedicto XIII\, C/ Marjal\, Peníscola\, Peníscola\, Castellón\, 12598\, España
CATEGORIES:Esports,PENÍSCOLA
ATTACH;FMTTYPE=image/jpeg:https://diaridelmaestrat.com/wp-content/uploads/2024/05/imagen14838g.jpg
END:VEVENT
BEGIN:VEVENT
DTSTART;TZID=Europe/Helsinki:20240525T090000
DTEND;TZID=Europe/Helsinki:20240526T130000
DTSTAMP:20260422T222809
CREATED:20240516T103445Z
LAST-MODIFIED:20240517T122630Z
UID:334147-1716627600-1716728400@diaridelmaestrat.com
SUMMARY:Vinaròs - Lliga Handbol Platja
DESCRIPTION:
URL:https://diaridelmaestrat.com/agenda/vinaros-lliga-handbol-platja/
LOCATION:Platja del Fora Forat\, Passeig de Fora del Forat\, Vinaròs\, Castellón\, 12500\, España
CATEGORIES:Esports,VINARÒS
ATTACH;FMTTYPE=image/jpeg:https://diaridelmaestrat.com/wp-content/uploads/2024/05/LLIHA-HANDBOL-PLATJA-Cartel.jpg
END:VEVENT
BEGIN:VEVENT
DTSTART;TZID=Europe/Helsinki:20240525T093000
DTEND;TZID=Europe/Helsinki:20240525T140000
DTSTAMP:20260422T222809
CREATED:20240520T130151Z
LAST-MODIFIED:20240520T130151Z
UID:335589-1716629400-1716645600@diaridelmaestrat.com
SUMMARY:Tinença de Benifassà - Ruta Guiada "El Portell De L'Infern"
DESCRIPTION:
URL:https://diaridelmaestrat.com/agenda/tinenca-de-benifassa-ruta-guiada-el-portell-de-linfern/
LOCATION:Parc Natural De La Tinença de Benifassà\, M57G+P6\, El Bellestar\, Castellón\, 12599\, España
CATEGORIES:COMARQUES,Rutes Guiades
ATTACH;FMTTYPE=image/png:https://diaridelmaestrat.com/wp-content/uploads/2024/05/DEP_PORTELL-TINENCA_NETA.png
END:VEVENT
BEGIN:VEVENT
DTSTART;TZID=Europe/Helsinki:20240525T100000
DTEND;TZID=Europe/Helsinki:20240525T230000
DTSTAMP:20260422T222809
CREATED:20240515T114825Z
LAST-MODIFIED:20240517T122700Z
UID:334016-1716631200-1716678000@diaridelmaestrat.com
SUMMARY:Càlig - 11º Premis Maestrat Viu
DESCRIPTION:QUÈ POTS FER PEL VALENCIÀ? JORNADA PER A LA LLENGUA AL MAESTRAT SOBRE LES POLÍTIQUES LINGÜÍSTIQUES D’AVUI \n\n10:00 h: Benviguda a càrrec d’Ernestina Borràs Bayarri\, alcaldessa de Càlig\, i de Miquel Roda Prats\, president de Maestrat Viu.\n10:15 h: Conferència “Vitalitat i ús del valencià: una revitalització necessària en un entorn de conflicte”\, a càrrec de Miquel Àngel Pradilla Cardona\, catedràtic de Sociolingüística Catalana de la Universitat Rovira i Virgili de Tarragona.\n11: 00 h: Esmorzar.\n11:30 h: Conferència “Igualtat (mai intentada) o llibertat (per marginar-nos): què no s’ha fet i que volen fer-nos amb la llengua” a càrrec d’Alfons Esteve i Gómez\, cap del Servei de Llengües i Política Lingüística de la Universitat de València.\n12:15 h: Taula rodona “I ara què\, resistència o reacció? Vies valentes pel valencià d’avui i de demà?” a càrrec de José Francisco Chulvi Español\, portaveu adjunt del PSPV-PSOE a les Corts Valencianes; Nathalie Torres García\, diputada de Compromís a les Corts Valencianes; Marc Candela Ruiz\, coordinador d’Acció Sindical i de Política Lingüística de STEPV i de Política Lingüística d’Intersindical Valenciana; i Josep Enric Escribano Hellín\, president de l’entitat cívica “El Tempir”.\n13:30 h: Clausura de la jornada amb la lectura del “Manifest pel valencià d’avui i demà”.\n\nVISITA GUIADA A LA TORRE MEDIEVAL DE CÀLIG: 16:30 h\, a la mateixa Torre\, cruïlla del carrer Major amb Sant Llorenç. \nGALA DELS PREMIS MAESTRAT VIU: 18:00 h a l’Ermita del Socors. L’acte està conduït per Susanna Sebastià Escrig i Carol Ferré Pellicer. \nSOPAR DELS PREMIS MAESTRAT VIU: 21:oo h al Bar Restaurant Casa Arroyo (carrer de Sant Roc\, 8) \nPer assistir a cadascun d’aquest actes\, cal inscriure’s a www.maestratviu.org
URL:https://diaridelmaestrat.com/agenda/calig-11o-premis-maestrat-viu/
LOCATION:Càlig\, Centre de Cultura (Av de la Constitució nº5)\, Càlig\, España
CATEGORIES:Càlig,Gala de Premis
ATTACH;FMTTYPE=image/jpeg:https://diaridelmaestrat.com/wp-content/uploads/2024/05/A3-LOGOS-con-logos_page-0001-1.jpg
END:VEVENT
BEGIN:VEVENT
DTSTART;TZID=Europe/Helsinki:20240525T180000
DTEND;TZID=Europe/Helsinki:20240526T000000
DTSTAMP:20260422T222809
CREATED:20240521T100310Z
LAST-MODIFIED:20240521T100332Z
UID:335746-1716660000-1716681600@diaridelmaestrat.com
SUMMARY:Vinaròs - VII Trofeu Olímpic Fernando Riera
DESCRIPTION:La venta anticipada dels tiquets estan a 12 euros\, mentre que la venda a taquilla serà de 15 euros.
URL:https://diaridelmaestrat.com/agenda/vinaros-vii-trofeu-olimpic-fernando-riera/
LOCATION:Pavelló Poliesportiu de Vinaròs\, Av. de Tarragona\, 12500 Vinaròs\, Vinaròs\, Castellón\, 12500\, España
CATEGORIES:Esports,VINARÒS
ATTACH;FMTTYPE=image/jpeg:https://diaridelmaestrat.com/wp-content/uploads/2024/05/436442706_391443643654995_8824412233209226844_n.jpg
END:VEVENT
BEGIN:VEVENT
DTSTART;TZID=Europe/Helsinki:20240525T190000
DTEND;TZID=Europe/Helsinki:20240525T210000
DTSTAMP:20260422T222809
CREATED:20240514T122516Z
LAST-MODIFIED:20240517T122722Z
UID:333870-1716663600-1716670800@diaridelmaestrat.com
SUMMARY:Benicarló - VI Trobada de Danses
DESCRIPTION:
URL:https://diaridelmaestrat.com/agenda/benicarlo-vi-trobada-de-danses/
LOCATION:Plaça Sant Bertomeu\, Plaça de Sant Bartomeu\, 23\, 12580 Benicarló\, Benicarló\, Castellón\, 12580\, España
CATEGORIES:BENICARLÓ,Danses
ATTACH;FMTTYPE=image/jpeg:https://diaridelmaestrat.com/wp-content/uploads/2024/05/972e7b9d-ece8-4f80-a2fc-6a6dc0f97f9f-1.jpeg
END:VEVENT
BEGIN:VEVENT
DTSTART;TZID=Europe/Helsinki:20240525T190000
DTEND;TZID=Europe/Helsinki:20240525T210000
DTSTAMP:20260422T222809
CREATED:20240520T125124Z
LAST-MODIFIED:20240520T125124Z
UID:335544-1716663600-1716670800@diaridelmaestrat.com
SUMMARY:Benicarló - Nova Edició de "L'Escola Canta"
DESCRIPTION:
URL:https://diaridelmaestrat.com/agenda/benicarlo-nova-edicio-de-lescola-canta/
LOCATION:CEIP Eduardo Martínez Ródenas\, Carrer del Port\, 39\, Benicarló\, Castellón\, 12580\, España
CATEGORIES:BENICARLÓ
ATTACH;FMTTYPE=image/png:https://diaridelmaestrat.com/wp-content/uploads/2024/05/Cartell-LEscola-Canta.png
END:VEVENT
BEGIN:VEVENT
DTSTART;TZID=Europe/Helsinki:20240525T190000
DTEND;TZID=Europe/Helsinki:20240525T210000
DTSTAMP:20260422T222809
CREATED:20240521T114828Z
LAST-MODIFIED:20240521T114828Z
UID:335792-1716663600-1716670800@diaridelmaestrat.com
SUMMARY:Vilafranca - Actuació de "Santero y Los Muchachos"
DESCRIPTION:Entrades disponibles a l’Oficina de Turisme de Vilafranca per 5 euros.
URL:https://diaridelmaestrat.com/agenda/vilafranca-actuacio-de-santero-y-los-muchachos/
LOCATION:Teatre Carles Pons\, Vilafranca\, España
CATEGORIES:Concerts,Vilafranca
ATTACH;FMTTYPE=image/jpeg:https://diaridelmaestrat.com/wp-content/uploads/2024/05/Santero-y-Los-Muchachos-porten-el-seu-rock-a-Vilafranca.jpg
END:VEVENT
BEGIN:VEVENT
DTSTART;TZID=Europe/Helsinki:20240525T190000
DTEND;TZID=Europe/Helsinki:20240525T210000
DTSTAMP:20260422T222809
CREATED:20240522T111534Z
LAST-MODIFIED:20240522T111534Z
UID:335918-1716663600-1716670800@diaridelmaestrat.com
SUMMARY:Alcanar - Representació de l'obra "Páncreas"\, de Patxo Tellería
DESCRIPTION:Dirigida per Terencio Tofanes. \nEntrades a 6 euros\, que es poden aconseguir a la web del teatre i a la taquilla el dia de l’estrena.
URL:https://diaridelmaestrat.com/agenda/alcanar-representacio-de-lobra-pancreas-de-patxo-telleria/
LOCATION:Teatre Auditori d’Alcanar\, Avinguda de Catalunya\, 78\, 43530\, Alcanar\, Tarragona\, 43530\, España
CATEGORIES:Alcanar,COMARQUES,Obres de Teatre
ATTACH;FMTTYPE=image/jpeg:https://diaridelmaestrat.com/wp-content/uploads/2024/05/pancreas_1.jpg
ORGANIZER;CN="Gr%C3%A9sol - Grup De Teatre (Alcanar -Montsi%C3%A0)":MAILTO:teatregresol@gmail.com
END:VEVENT
BEGIN:VEVENT
DTSTART;TZID=Europe/Helsinki:20240525T190000
DTEND;TZID=Europe/Helsinki:20240525T213000
DTSTAMP:20260422T222809
CREATED:20240523T110815Z
LAST-MODIFIED:20240523T110815Z
UID:336080-1716663600-1716672600@diaridelmaestrat.com
SUMMARY:Peníscola - L'Escola Canta
DESCRIPTION:
URL:https://diaridelmaestrat.com/agenda/peniscola-lescola-canta/
LOCATION:Parc d’Artilleria del Castell de Peníscola\, C. Olvido\, 18\, 12598 Peniscola\, Peníscola\, Castellón\, 12598\, España
CATEGORIES:Concerts,PENÍSCOLA
ATTACH;FMTTYPE=image/jpeg:https://diaridelmaestrat.com/wp-content/uploads/2024/05/imagen14857g.jpg
END:VEVENT
BEGIN:VEVENT
DTSTART;TZID=Europe/Helsinki:20240525T193000
DTEND;TZID=Europe/Helsinki:20240525T203000
DTSTAMP:20260422T222809
CREATED:20240523T105449Z
LAST-MODIFIED:20240523T105449Z
UID:336071-1716665400-1716669000@diaridelmaestrat.com
SUMMARY:Vinaròs - Concert d'"Amor\, Amor" de Juan Cortés
DESCRIPTION:
URL:https://diaridelmaestrat.com/agenda/vinaros-concert-damor-amor-de-juan-cortes/
LOCATION:Auditori Municipal Wenceslao Ayguals de Izco\, Plaça de Sant Agustí\, 7\, 12500 Vinaròs\, Vinaròs\, Castellón\, 12500\, España
CATEGORIES:Concerts,VINARÒS
ATTACH;FMTTYPE=image/jpeg:https://diaridelmaestrat.com/wp-content/uploads/2024/05/443819525_793459069577853_7067073927235867474_n.jpg
END:VEVENT
END:VCALENDAR