BEGIN:VCALENDAR
VERSION:2.0
PRODID:-//Diari del Maestrat - ECPv6.4.0//NONSGML v1.0//EN
CALSCALE:GREGORIAN
METHOD:PUBLISH
X-WR-CALNAME:Diari del Maestrat
X-ORIGINAL-URL:https://diaridelmaestrat.com
X-WR-CALDESC:Events for Diari del Maestrat
REFRESH-INTERVAL;VALUE=DURATION:PT1H
X-Robots-Tag:noindex
X-PUBLISHED-TTL:PT1H
BEGIN:VTIMEZONE
TZID:Europe/Helsinki
BEGIN:DAYLIGHT
TZOFFSETFROM:+0200
TZOFFSETTO:+0300
TZNAME:EEST
DTSTART:20240331T010000
END:DAYLIGHT
BEGIN:STANDARD
TZOFFSETFROM:+0300
TZOFFSETTO:+0200
TZNAME:EET
DTSTART:20241027T010000
END:STANDARD
END:VTIMEZONE
BEGIN:VEVENT
DTSTART;TZID=Europe/Helsinki:20240520T080000
DTEND;TZID=Europe/Helsinki:20240609T200000
DTSTAMP:20260422T211655
CREATED:20240516T112518Z
LAST-MODIFIED:20240517T122455Z
UID:334202-1716192000-1717963200@diaridelmaestrat.com
SUMMARY:Vinaròs - Jornades de la Cuina del Llangostí
DESCRIPTION:
URL:https://diaridelmaestrat.com/agenda/vinaros-jornades-de-la-cuina-del-llangosti/
LOCATION:Vinaròs
CATEGORIES:Gastronomia,VINARÒS
ATTACH;FMTTYPE=image/jpeg:https://diaridelmaestrat.com/wp-content/uploads/2024/05/Cartells-ConcursJornades-2024-2_page-0001.jpg
END:VEVENT
BEGIN:VEVENT
DTSTART;TZID=Europe/Helsinki:20240524T080000
DTEND;TZID=Europe/Helsinki:20240701T000000
DTSTAMP:20260422T211655
CREATED:20240523T105707Z
LAST-MODIFIED:20240523T105707Z
UID:336073-1716537600-1719792000@diaridelmaestrat.com
SUMMARY:Benicarló - XLI Certamen de Pintura Ciutat de Benicarló
DESCRIPTION:
URL:https://diaridelmaestrat.com/agenda/benicarlo-xli-certamen-de-pintura-ciutat-de-benicarlo/
LOCATION:Castellón
CATEGORIES:BENICARLÓ
ATTACH;FMTTYPE=image/jpeg:https://diaridelmaestrat.com/wp-content/uploads/2024/05/PUBLICACIO_-Biennal-pintura.jpg
END:VEVENT
BEGIN:VEVENT
DTSTART;TZID=Europe/Helsinki:20240601T100000
DTEND;TZID=Europe/Helsinki:20240608T123000
DTSTAMP:20260422T211655
CREATED:20240517T114312Z
LAST-MODIFIED:20240517T123408Z
UID:334603-1717236000-1717849800@diaridelmaestrat.com
SUMMARY:Vinaròs - Ruta Guiada "El langostino de Vinaròs: sabores y saberes de mar" 2024
DESCRIPTION:
URL:https://diaridelmaestrat.com/agenda/vinaros-ruta-guiada-el-langostino-de-vinaros-sabores-y-saberes-de-mar-2024/
LOCATION:Port de Vinaròs\, Carrer del Varador\, 239\, Vinaròs\, Castellón\, 12500\, España
CATEGORIES:Gastronomia,VINARÒS
ATTACH;FMTTYPE=image/jpeg:https://diaridelmaestrat.com/wp-content/uploads/2024/05/Cartells-ConcursJornades-2024-2_page-0001.jpg
END:VEVENT
BEGIN:VEVENT
DTSTART;TZID=Europe/Helsinki:20240602T080000
DTEND;TZID=Europe/Helsinki:20240831T000000
DTSTAMP:20260422T211655
CREATED:20240516T114432Z
LAST-MODIFIED:20240517T123945Z
UID:334207-1717315200-1725062400@diaridelmaestrat.com
SUMMARY:Ulldecona - 20es Jornades Musicals a l'Ermita de la Pietat
DESCRIPTION:JUNY \n\n2 de Juny a les 20:00: Pre – Jornades amb Clash City Rockers i Last Transmission (Preu: 8 euros)\n9 de Juny a les 20:00: Los Mambo Jambo + Benja DJ + Recol·lectors de Vinils DJ’s (Preu: 8 euros)\n16 de Juny a les 20:00: Les Rencard i Mossén Bramit Morera I Els Morts + 20è Anniversari del Goodfellah DJ + convidats (Preu: 8 euros)\n30 de Juny a les 20:00: El CaribeFunk + Bló Youth DJ’s + Benja DJ (Preu: 8 euros)\n\nJULIOL \n\n7 de Juliol a les 20:00: Los Yolos + Youngboy & Vierr + Priscila DJ (Preu: 8 euros)\n14 de Juliol a les 20:00: Franck Carducci & The Fantastic Squad + Benja DJ + Matilda & Laura Victòria DJ’s (Preu: 8 euros)\n21 de Juliol a les 20:00: Newen Afrobeat + Rice Against The Machine DJ’s + Benja DJ (Preu: 8 euros)\n28 de Juliol a les 20:00: Koko Jean & The Tonics + Goodfellah DJ + Vianda de Sentina by Mika & Jota (Preu: 8 euros)\n\nAGOST \n\n4 d’Agost a les 20:00: Culs Cults\, Don Cosmic (Preu: 8 euros)\n25 d’Agost a les 20:00: Càpsula i Fonki Cheff + LoputoKingDelScratch + Benja DJ (Preu: 8 euros)\n30 d’Agost a les 21:30: Les Testarudes + The Clitorians DJ’s (Preu: 10 euros)
URL:https://diaridelmaestrat.com/agenda/ulldecona-20es-jornades-musicals-a-lermita-de-la-pietat/
LOCATION:Ermita De La Pietat\, Ctra Ulldecona\, Carr. de Tortosa\, Km4\, Ulldecona\, Tarragona\, 43550\, España
CATEGORIES:Concerts,Ulldecona
ATTACH;FMTTYPE=image/jpeg:https://diaridelmaestrat.com/wp-content/uploads/2024/05/320x480-JMEP-24-2.jpg
END:VEVENT
BEGIN:VEVENT
DTSTART;TZID=Europe/Helsinki:20240607T080000
DTEND;TZID=Europe/Helsinki:20240609T170000
DTSTAMP:20260422T211655
CREATED:20240520T112743Z
LAST-MODIFIED:20240520T112743Z
UID:335523-1717747200-1717952400@diaridelmaestrat.com
SUMMARY:Vilafranca - XXIV Mostra de Teatre Capsigrany
DESCRIPTION:Divendres 7 per la nit: Representació de l’obra Sólo\, del premiat clown Roi Borrallas a la Sala Carles Pons.\nDissabte 8 pel matí: Representació de l’obra “Sense Lluna de la Mà” de l’artista Mirna Vilasís.\nDissabte 8 a les 17 h: Representació de l’obra “A La Fresca” de la companyia Anna Confetti a la Plaça de l’Església.\nDissabte 8 a les 19 h: Representació de l’obra “Lázaro” de la companyia valenciana Leamok a la Sala Carles Pons.\nDissabte 8 per la nit: Representació de les acrobàcies de “Projecte Kavauri” al Pavelló Poliesportiu.\nDiumenge 9 a les 12:30 h: Representació de l’obra “Back2Classics” de la companyia Planeta Trampolí a la Plaça d’en Blasc.\nDiumenge 9 per la vesprada: Representació de l’obra “Gochos” que coregrafien David Blanco & Sergio Toyos a la Casa de la Cultura.
URL:https://diaridelmaestrat.com/agenda/vilafranca-xxiv-mostra-de-teatre-capsigrany/
LOCATION:Vilafranca del Cid
CATEGORIES:Cultura,Obres de Teatre,Vilafranca
ATTACH;FMTTYPE=image/png:https://diaridelmaestrat.com/wp-content/uploads/2024/05/Cartell-Capsigrany-2024-Instagram.png
END:VEVENT
BEGIN:VEVENT
DTSTART;TZID=Europe/Helsinki:20240607T100000
DTEND;TZID=Europe/Helsinki:20240609T220000
DTSTAMP:20260422T211655
CREATED:20240523T112725Z
LAST-MODIFIED:20240523T112725Z
UID:336104-1717754400-1717970400@diaridelmaestrat.com
SUMMARY:Vinaròs / Peníscola - Torneig de Futbol Peníscola Cup
DESCRIPTION:
URL:https://diaridelmaestrat.com/agenda/vinaros-peniscola-torneig-de-futbol-peniscola-cup/
LOCATION:Castellón
CATEGORIES:Esports,PENÍSCOLA,VINARÒS
ATTACH;FMTTYPE=image/png:https://diaridelmaestrat.com/wp-content/uploads/2024/05/imagen14662g.png
END:VEVENT
BEGIN:VEVENT
DTSTART;TZID=Europe/Helsinki:20240607T180000
DTEND;TZID=Europe/Helsinki:20240608T233000
DTSTAMP:20260422T211655
CREATED:20240522T125845Z
LAST-MODIFIED:20240522T125845Z
UID:335964-1717783200-1717889400@diaridelmaestrat.com
SUMMARY:Peníscola - Peníscola Remember Festival 2024
DESCRIPTION:
URL:https://diaridelmaestrat.com/agenda/peniscola-peniscola-remember-festival-2024/
LOCATION:Port de Peníscola\, Av. del Dr. Don Marcelino Roca\, 6\, Peníscola\, Castellón\, 12598\, España
CATEGORIES:Festivals,PENÍSCOLA
ATTACH;FMTTYPE=image/jpeg:https://diaridelmaestrat.com/wp-content/uploads/2024/05/2024PRFARTISTAShistoria.jpg
END:VEVENT
BEGIN:VEVENT
DTSTART;TZID=Europe/Helsinki:20240608T090000
DTEND;TZID=Europe/Helsinki:20240608T140000
DTSTAMP:20260422T211655
CREATED:20240520T125447Z
LAST-MODIFIED:20240520T125447Z
UID:335585-1717837200-1717855200@diaridelmaestrat.com
SUMMARY:Vinaròs - Lliga de Clubs Triatló Per Equips
DESCRIPTION:
URL:https://diaridelmaestrat.com/agenda/vinaros-lliga-de-clubs-triatlo-per-equips/
LOCATION:Vinaròs
CATEGORIES:Esports,VINARÒS
ATTACH;FMTTYPE=image/jpeg:https://diaridelmaestrat.com/wp-content/uploads/2024/05/CARTEL-LLIGA-VINAROS-2024_page-0001.jpg
END:VEVENT
BEGIN:VEVENT
DTSTART;TZID=Europe/Helsinki:20240608T203000
DTEND;TZID=Europe/Helsinki:20240608T220000
DTSTAMP:20260422T211655
CREATED:20240522T113733Z
LAST-MODIFIED:20240522T113733Z
UID:335942-1717878600-1717884000@diaridelmaestrat.com
SUMMARY:Alcanar - Poemes musicals de Vicent Andrés Estellés per Andreu Valor
DESCRIPTION:Entrades: \nNormal: 10€ \nAmb descompte Carnet Cultural: 5€ \nEs pot adquirir l’entrada amb descompte cultural si es forma part dels següents col·lectius: \n\nPersones majors de seixanta-cinc anys\nMenors fins als divuit anys\nPersones amb discapacitat\nTitulars de la targeta de família nombrosa/monoparental\n\nPer tenir dret al descompte\, caldrà presentar a porta la documentació justificativa que ho corrobore (DNI\, targeta o carnet). \nEntrada web. Dimecres i dijous de 10 a 12 hores taquilla Teatre Auditori.
URL:https://diaridelmaestrat.com/agenda/alcanar-poemes-musicals-de-vicent-andres-estelles-per-andreu-valor/
LOCATION:Teatre Auditori d’Alcanar\, Avinguda de Catalunya\, 78\, 43530\, Alcanar\, Tarragona\, 43530\, España
CATEGORIES:Alcanar,COMARQUES,Cultura
ATTACH;FMTTYPE=image/jpeg:https://diaridelmaestrat.com/wp-content/uploads/2024/05/andreu-valor-estelles-cartell-logos-724x1024-1.jpg
END:VEVENT
END:VCALENDAR