BEGIN:VCALENDAR
VERSION:2.0
PRODID:-//Diari del Maestrat - ECPv6.4.0//NONSGML v1.0//EN
CALSCALE:GREGORIAN
METHOD:PUBLISH
X-WR-CALNAME:Diari del Maestrat
X-ORIGINAL-URL:https://diaridelmaestrat.com
X-WR-CALDESC:Events for Diari del Maestrat
REFRESH-INTERVAL;VALUE=DURATION:PT1H
X-Robots-Tag:noindex
X-PUBLISHED-TTL:PT1H
BEGIN:VTIMEZONE
TZID:Europe/Helsinki
BEGIN:DAYLIGHT
TZOFFSETFROM:+0200
TZOFFSETTO:+0300
TZNAME:EEST
DTSTART:20240331T010000
END:DAYLIGHT
BEGIN:STANDARD
TZOFFSETFROM:+0300
TZOFFSETTO:+0200
TZNAME:EET
DTSTART:20241027T010000
END:STANDARD
END:VTIMEZONE
BEGIN:VEVENT
DTSTART;TZID=Europe/Helsinki:20240524T080000
DTEND;TZID=Europe/Helsinki:20240701T000000
DTSTAMP:20260422T211715
CREATED:20240523T105707Z
LAST-MODIFIED:20240523T105707Z
UID:336073-1716537600-1719792000@diaridelmaestrat.com
SUMMARY:Benicarló - XLI Certamen de Pintura Ciutat de Benicarló
DESCRIPTION:
URL:https://diaridelmaestrat.com/agenda/benicarlo-xli-certamen-de-pintura-ciutat-de-benicarlo/
LOCATION:Castellón
CATEGORIES:BENICARLÓ
ATTACH;FMTTYPE=image/jpeg:https://diaridelmaestrat.com/wp-content/uploads/2024/05/PUBLICACIO_-Biennal-pintura.jpg
END:VEVENT
BEGIN:VEVENT
DTSTART;TZID=Europe/Helsinki:20240602T080000
DTEND;TZID=Europe/Helsinki:20240831T000000
DTSTAMP:20260422T211715
CREATED:20240516T114432Z
LAST-MODIFIED:20240517T123945Z
UID:334207-1717315200-1725062400@diaridelmaestrat.com
SUMMARY:Ulldecona - 20es Jornades Musicals a l'Ermita de la Pietat
DESCRIPTION:JUNY \n\n2 de Juny a les 20:00: Pre – Jornades amb Clash City Rockers i Last Transmission (Preu: 8 euros)\n9 de Juny a les 20:00: Los Mambo Jambo + Benja DJ + Recol·lectors de Vinils DJ’s (Preu: 8 euros)\n16 de Juny a les 20:00: Les Rencard i Mossén Bramit Morera I Els Morts + 20è Anniversari del Goodfellah DJ + convidats (Preu: 8 euros)\n30 de Juny a les 20:00: El CaribeFunk + Bló Youth DJ’s + Benja DJ (Preu: 8 euros)\n\nJULIOL \n\n7 de Juliol a les 20:00: Los Yolos + Youngboy & Vierr + Priscila DJ (Preu: 8 euros)\n14 de Juliol a les 20:00: Franck Carducci & The Fantastic Squad + Benja DJ + Matilda & Laura Victòria DJ’s (Preu: 8 euros)\n21 de Juliol a les 20:00: Newen Afrobeat + Rice Against The Machine DJ’s + Benja DJ (Preu: 8 euros)\n28 de Juliol a les 20:00: Koko Jean & The Tonics + Goodfellah DJ + Vianda de Sentina by Mika & Jota (Preu: 8 euros)\n\nAGOST \n\n4 d’Agost a les 20:00: Culs Cults\, Don Cosmic (Preu: 8 euros)\n25 d’Agost a les 20:00: Càpsula i Fonki Cheff + LoputoKingDelScratch + Benja DJ (Preu: 8 euros)\n30 d’Agost a les 21:30: Les Testarudes + The Clitorians DJ’s (Preu: 10 euros)
URL:https://diaridelmaestrat.com/agenda/ulldecona-20es-jornades-musicals-a-lermita-de-la-pietat/
LOCATION:Ermita De La Pietat\, Ctra Ulldecona\, Carr. de Tortosa\, Km4\, Ulldecona\, Tarragona\, 43550\, España
CATEGORIES:Concerts,Ulldecona
ATTACH;FMTTYPE=image/jpeg:https://diaridelmaestrat.com/wp-content/uploads/2024/05/320x480-JMEP-24-2.jpg
END:VEVENT
BEGIN:VEVENT
DTSTART;TZID=Europe/Helsinki:20240615T100000
DTEND;TZID=Europe/Helsinki:20240616T130000
DTSTAMP:20260422T211715
CREATED:20240612T110959Z
LAST-MODIFIED:20240612T110959Z
UID:340503-1718445600-1718542800@diaridelmaestrat.com
SUMMARY:Benassal - Fira Literària "Mostra La Teua Llengua"
DESCRIPTION:
URL:https://diaridelmaestrat.com/agenda/benassal-fira-literaria-mostra-la-teua-llengua/
LOCATION:Benassal\, Benassal
CATEGORIES:Benassal,COMARQUES,Conferències
ATTACH;FMTTYPE=image/jpeg:https://diaridelmaestrat.com/wp-content/uploads/2024/06/Benassal-defensa-lus-del-valencia-amb-la-fira-literaria-Mostra-la-teua-llengua.jpg
END:VEVENT
BEGIN:VEVENT
DTSTART;TZID=Europe/Helsinki:20240615T100000
DTEND;TZID=Europe/Helsinki:20240616T200000
DTSTAMP:20260422T211715
CREATED:20240522T133506Z
LAST-MODIFIED:20240522T133506Z
UID:335986-1718445600-1718568000@diaridelmaestrat.com
SUMMARY:Ares - Concurs de Gossos de Rabera
DESCRIPTION:El dissabte 15 funcionarà com a prèvia del gran concurs\, que es durà a terme durant tot el diumenge. El mercat de productes tindrà lloc a les 17h a la Plaça de l’Església. Al matí\, a partir de les 10h\, es celebrarà la festivitat de Sant Antoni ‘Fesoler’\, o de Pàdua\, amb una romeria cap al mas de La Vall. De forma històrica\, el veïnat venera al Sant amb una romeria fins a la centenària ermita del mas de la Vall\, amb motiu de l’època quan els agricultors sembren els fesols i preguen per una bona collita. \nEl diumenge serà el dia d’exhibició de gossos i pastors. El Pla de la Canà serà el camp on es reproduirà tota l’acció i exercicis que puntuaran per fer-se amb el preuat guardó. A les 10h es realitzarà el sorteig\, i a les 10.30h començarà el concurs\, amb possibilitat per als assistents de consumir menjar i beguda amb un servei de barra. El concurs és puntuable per a participar en el Campionat Valencià. La XVII edició finalitzarà a les 14h\, quan s’entregaran els trofeus als gossos i pastors guanyadors. El pastor local Julio Bayot lluitarà per reeditar el títol\, que ja ha aconseguit diverses vegades.’Ar
URL:https://diaridelmaestrat.com/agenda/ares-concurs-de-gossos-de-rabera/
LOCATION:Pla de la Canà\, Ares del Maestre\, Castellón\, España
CATEGORIES:Ares,COMARQUES
ATTACH;FMTTYPE=image/jpeg:https://diaridelmaestrat.com/wp-content/uploads/2024/05/Cartell-i-programa-del-concurs.jpg
END:VEVENT
END:VCALENDAR