BEGIN:VCALENDAR
VERSION:2.0
PRODID:-//Diari del Maestrat - ECPv6.4.0//NONSGML v1.0//EN
CALSCALE:GREGORIAN
METHOD:PUBLISH
X-ORIGINAL-URL:https://diaridelmaestrat.com
X-WR-CALDESC:Events for Diari del Maestrat
REFRESH-INTERVAL;VALUE=DURATION:PT1H
X-Robots-Tag:noindex
X-PUBLISHED-TTL:PT1H
BEGIN:VTIMEZONE
TZID:Europe/Helsinki
BEGIN:DAYLIGHT
TZOFFSETFROM:+0200
TZOFFSETTO:+0300
TZNAME:EEST
DTSTART:20240331T010000
END:DAYLIGHT
BEGIN:STANDARD
TZOFFSETFROM:+0300
TZOFFSETTO:+0200
TZNAME:EET
DTSTART:20241027T010000
END:STANDARD
END:VTIMEZONE
BEGIN:VEVENT
DTSTART;TZID=Europe/Helsinki:20240524T080000
DTEND;TZID=Europe/Helsinki:20240701T000000
DTSTAMP:20260422T211709
CREATED:20240523T105707Z
LAST-MODIFIED:20240523T105707Z
UID:336073-1716537600-1719792000@diaridelmaestrat.com
SUMMARY:Benicarló - XLI Certamen de Pintura Ciutat de Benicarló
DESCRIPTION:
URL:https://diaridelmaestrat.com/agenda/benicarlo-xli-certamen-de-pintura-ciutat-de-benicarlo/
LOCATION:Castellón
CATEGORIES:BENICARLÓ
ATTACH;FMTTYPE=image/jpeg:https://diaridelmaestrat.com/wp-content/uploads/2024/05/PUBLICACIO_-Biennal-pintura.jpg
END:VEVENT
BEGIN:VEVENT
DTSTART;TZID=Europe/Helsinki:20240602T080000
DTEND;TZID=Europe/Helsinki:20240831T000000
DTSTAMP:20260422T211709
CREATED:20240516T114432Z
LAST-MODIFIED:20240517T123945Z
UID:334207-1717315200-1725062400@diaridelmaestrat.com
SUMMARY:Ulldecona - 20es Jornades Musicals a l'Ermita de la Pietat
DESCRIPTION:JUNY \n\n2 de Juny a les 20:00: Pre – Jornades amb Clash City Rockers i Last Transmission (Preu: 8 euros)\n9 de Juny a les 20:00: Los Mambo Jambo + Benja DJ + Recol·lectors de Vinils DJ’s (Preu: 8 euros)\n16 de Juny a les 20:00: Les Rencard i Mossén Bramit Morera I Els Morts + 20è Anniversari del Goodfellah DJ + convidats (Preu: 8 euros)\n30 de Juny a les 20:00: El CaribeFunk + Bló Youth DJ’s + Benja DJ (Preu: 8 euros)\n\nJULIOL \n\n7 de Juliol a les 20:00: Los Yolos + Youngboy & Vierr + Priscila DJ (Preu: 8 euros)\n14 de Juliol a les 20:00: Franck Carducci & The Fantastic Squad + Benja DJ + Matilda & Laura Victòria DJ’s (Preu: 8 euros)\n21 de Juliol a les 20:00: Newen Afrobeat + Rice Against The Machine DJ’s + Benja DJ (Preu: 8 euros)\n28 de Juliol a les 20:00: Koko Jean & The Tonics + Goodfellah DJ + Vianda de Sentina by Mika & Jota (Preu: 8 euros)\n\nAGOST \n\n4 d’Agost a les 20:00: Culs Cults\, Don Cosmic (Preu: 8 euros)\n25 d’Agost a les 20:00: Càpsula i Fonki Cheff + LoputoKingDelScratch + Benja DJ (Preu: 8 euros)\n30 d’Agost a les 21:30: Les Testarudes + The Clitorians DJ’s (Preu: 10 euros)
URL:https://diaridelmaestrat.com/agenda/ulldecona-20es-jornades-musicals-a-lermita-de-la-pietat/
LOCATION:Ermita De La Pietat\, Ctra Ulldecona\, Carr. de Tortosa\, Km4\, Ulldecona\, Tarragona\, 43550\, España
CATEGORIES:Concerts,Ulldecona
ATTACH;FMTTYPE=image/jpeg:https://diaridelmaestrat.com/wp-content/uploads/2024/05/320x480-JMEP-24-2.jpg
END:VEVENT
BEGIN:VEVENT
DTSTART;TZID=Europe/Helsinki:20240621T080000
DTEND;TZID=Europe/Helsinki:20240630T170000
DTSTAMP:20260422T211709
CREATED:20240523T110908Z
LAST-MODIFIED:20240523T110908Z
UID:336087-1718956800-1719766800@diaridelmaestrat.com
SUMMARY:Vinaròs - Fira i Festes de Sant Joan i Sant Pere
DESCRIPTION:
URL:https://diaridelmaestrat.com/agenda/vinaros-fira-i-festes-de-sant-joan-i-sant-pere/
LOCATION:Vinaròs
CATEGORIES:Festes,VINARÒS
ATTACH;FMTTYPE=image/jpeg:https://diaridelmaestrat.com/wp-content/uploads/2024/05/Cartell-3.jpg
END:VEVENT
BEGIN:VEVENT
DTSTART;TZID=Europe/Helsinki:20240621T183000
DTEND;TZID=Europe/Helsinki:20240623T133000
DTSTAMP:20260422T211709
CREATED:20240515T122654Z
LAST-MODIFIED:20240517T124009Z
UID:334025-1718994600-1719149400@diaridelmaestrat.com
SUMMARY:Vilafranca - Festival Literari "Los Libros Incorrectos"
DESCRIPTION:21 DE JUNY \n\n18:30 h: Benvinguda a la Casa Social.\n19:00 h: Taula Rodona a la Casa Social amb Sabina Urraca\, Fernanda García Lao i Bárbara Blasco.\n22:00 h: A l’Alberg La Parreta\, Cinefòrum.\n\n22 DE JUNY \n\n11:00 h: Al Mas dels Armelers\, Taller amb Fernanda García Lao.\n11:30 h: A l’Alberg La Parreta\, Taller d’Escriptura Creativa con Javier López Mancho.\n12:30 h: A la Casa Social\, Taula Rodona amb autors de Vilafranca.\n17:00 h: Al Mas dels Armelers\, Taller amb Sabina Urraca.\n17:30 h: A l’Arborétum\, Poesia i Natura: Taller amb Kike Parra.\n20:00 h: A la Biblioteca Matilde Escuder\, Concurs de relats incorrectes amb Alberto T. Blandina i David Pascual.\n23:00 h: A la Plaça de l’Església\, Micro obert amb Marta Fornés.\n\n23 DE JUNY \n\n11:00 h: Al Mas dels Armelers\, Taller amb Bárbara Blasco.\n11:00 h: Al Mas dels Armelers\, Paseo taller amb la natura.\n13:30 h: Aperitiu i clausura del festival.
URL:https://diaridelmaestrat.com/agenda/vilafranca-festival-literari-los-libros-incorrectos/
LOCATION:Vilafranca del Cid
CATEGORIES:Literatura,Vilafranca
ATTACH;FMTTYPE=image/jpeg:https://diaridelmaestrat.com/wp-content/uploads/2024/05/Cartell-Los-libros-incorrectos-1.jpg
END:VEVENT
BEGIN:VEVENT
DTSTART;TZID=Europe/Helsinki:20240622T100000
DTEND;TZID=Europe/Helsinki:20240622T220000
DTSTAMP:20260422T211709
CREATED:20240522T130025Z
LAST-MODIFIED:20240522T132719Z
UID:335973-1719050400-1719093600@diaridelmaestrat.com
SUMMARY:Peníscola - Botigues Al Carrer
DESCRIPTION:
URL:https://diaridelmaestrat.com/agenda/peniscola-botigues-al-carrer/
LOCATION:Passeig Marítim Peníscola\, Passeig Marítim 12580\, Peníscola\, Castellón\, 12580\, España
CATEGORIES:PENÍSCOLA
ATTACH;FMTTYPE=image/jpeg:https://diaridelmaestrat.com/wp-content/uploads/2024/05/tendes_carrer_cartell_sensepapa.jpg
END:VEVENT
BEGIN:VEVENT
DTSTART;TZID=Europe/Helsinki:20240622T180000
DTEND;TZID=Europe/Helsinki:20240622T190000
DTSTAMP:20260422T211709
CREATED:20240522T113038Z
LAST-MODIFIED:20240522T113038Z
UID:335935-1719079200-1719082800@diaridelmaestrat.com
SUMMARY:Alcanar - Representació de l'obra de la companyia La Mecànica "Les Petites Coses"
DESCRIPTION:Normal: 7€ \nAmb descompte Carnet Cultural: 3.50€ \nEs pot adquirir l’entrada amb descompte cultural si es forma part dels següents col·lectius: \n\nPersones majors de seixanta-cinc anys\nMenors fins als divuit anys\nPersones amb discapacitat\nTitulars de la targeta de família nombrosa/monoparental\n\nPer tenir dret al descompte\, caldrà presentar a porta la documentació justificativa que ho corrobore (DNI\, targeta o carnet).
URL:https://diaridelmaestrat.com/agenda/alcanar-representacio-de-lobra-de-la-companyia-la-mecanica-les-petites-coses/
LOCATION:Teatre Auditori d’Alcanar\, Avinguda de Catalunya\, 78\, 43530\, Alcanar\, Tarragona\, 43530\, España
CATEGORIES:Alcanar,COMARQUES,Obres de Teatre
ATTACH;FMTTYPE=image/jpeg:https://diaridelmaestrat.com/wp-content/uploads/2024/05/cartell-logos-mecanica-724x1024-1.jpg
END:VEVENT
BEGIN:VEVENT
DTSTART;TZID=Europe/Helsinki:20240622T190000
DTEND;TZID=Europe/Helsinki:20240703T200000
DTSTAMP:20260422T211709
CREATED:20240612T103113Z
LAST-MODIFIED:20240612T103113Z
UID:340470-1719082800-1720036800@diaridelmaestrat.com
SUMMARY:Vinaròs - Inauguració de l'exposició de José Córdoba
DESCRIPTION:
URL:https://diaridelmaestrat.com/agenda/vinaros-inauguracio-de-lexposicio-de-jose-cordoba/
LOCATION:Sala José Córdoba\, C/Socors\, 64\, Vinaròs\, Castellón\, 12500\, España
CATEGORIES:Exposicions,VINARÒS
ATTACH;FMTTYPE=image/jpeg:https://diaridelmaestrat.com/wp-content/uploads/2024/06/cartell.jpg
END:VEVENT
END:VCALENDAR