BEGIN:VCALENDAR
VERSION:2.0
PRODID:-//Diari del Maestrat - ECPv6.4.0//NONSGML v1.0//EN
CALSCALE:GREGORIAN
METHOD:PUBLISH
X-ORIGINAL-URL:https://diaridelmaestrat.com
X-WR-CALDESC:Events for Diari del Maestrat
REFRESH-INTERVAL;VALUE=DURATION:PT1H
X-Robots-Tag:noindex
X-PUBLISHED-TTL:PT1H
BEGIN:VTIMEZONE
TZID:Europe/Helsinki
BEGIN:DAYLIGHT
TZOFFSETFROM:+0200
TZOFFSETTO:+0300
TZNAME:EEST
DTSTART:20240331T010000
END:DAYLIGHT
BEGIN:STANDARD
TZOFFSETFROM:+0300
TZOFFSETTO:+0200
TZNAME:EET
DTSTART:20241027T010000
END:STANDARD
END:VTIMEZONE
BEGIN:VEVENT
DTSTART;TZID=Europe/Helsinki:20240602T080000
DTEND;TZID=Europe/Helsinki:20240831T000000
DTSTAMP:20260422T200123
CREATED:20240516T114432Z
LAST-MODIFIED:20240517T123945Z
UID:334207-1717315200-1725062400@diaridelmaestrat.com
SUMMARY:Ulldecona - 20es Jornades Musicals a l'Ermita de la Pietat
DESCRIPTION:JUNY \n\n2 de Juny a les 20:00: Pre – Jornades amb Clash City Rockers i Last Transmission (Preu: 8 euros)\n9 de Juny a les 20:00: Los Mambo Jambo + Benja DJ + Recol·lectors de Vinils DJ’s (Preu: 8 euros)\n16 de Juny a les 20:00: Les Rencard i Mossén Bramit Morera I Els Morts + 20è Anniversari del Goodfellah DJ + convidats (Preu: 8 euros)\n30 de Juny a les 20:00: El CaribeFunk + Bló Youth DJ’s + Benja DJ (Preu: 8 euros)\n\nJULIOL \n\n7 de Juliol a les 20:00: Los Yolos + Youngboy & Vierr + Priscila DJ (Preu: 8 euros)\n14 de Juliol a les 20:00: Franck Carducci & The Fantastic Squad + Benja DJ + Matilda & Laura Victòria DJ’s (Preu: 8 euros)\n21 de Juliol a les 20:00: Newen Afrobeat + Rice Against The Machine DJ’s + Benja DJ (Preu: 8 euros)\n28 de Juliol a les 20:00: Koko Jean & The Tonics + Goodfellah DJ + Vianda de Sentina by Mika & Jota (Preu: 8 euros)\n\nAGOST \n\n4 d’Agost a les 20:00: Culs Cults\, Don Cosmic (Preu: 8 euros)\n25 d’Agost a les 20:00: Càpsula i Fonki Cheff + LoputoKingDelScratch + Benja DJ (Preu: 8 euros)\n30 d’Agost a les 21:30: Les Testarudes + The Clitorians DJ’s (Preu: 10 euros)
URL:https://diaridelmaestrat.com/agenda/ulldecona-20es-jornades-musicals-a-lermita-de-la-pietat/
LOCATION:Ermita De La Pietat\, Ctra Ulldecona\, Carr. de Tortosa\, Km4\, Ulldecona\, Tarragona\, 43550\, España
CATEGORIES:Concerts,Ulldecona
ATTACH;FMTTYPE=image/jpeg:https://diaridelmaestrat.com/wp-content/uploads/2024/05/320x480-JMEP-24-2.jpg
END:VEVENT
BEGIN:VEVENT
DTSTART;TZID=Europe/Helsinki:20240625T210000
DTEND;TZID=Europe/Helsinki:20240726T000000
DTSTAMP:20260422T200123
CREATED:20240612T103245Z
LAST-MODIFIED:20240612T103245Z
UID:340475-1719349200-1721952000@diaridelmaestrat.com
SUMMARY:Vinaròs - Degustació de Cuina Vinarossenca
DESCRIPTION:
URL:https://diaridelmaestrat.com/agenda/vinaros-degustacio-de-cuina-vinarossenca/
LOCATION:Carpa de l’Atlàntic\, Avinguda de l'Atlàntic\, 15\, Vinaròs\, Castellón\, 12500\, España
CATEGORIES:Gastronomia,VINARÒS
ATTACH;FMTTYPE=image/jpeg:https://diaridelmaestrat.com/wp-content/uploads/2024/06/cartell-cuina.jpg
END:VEVENT
BEGIN:VEVENT
DTSTART;TZID=Europe/Helsinki:20240702T080000
DTEND;TZID=Europe/Helsinki:20240731T170000
DTSTAMP:20260422T200123
CREATED:20240702T112810Z
LAST-MODIFIED:20240702T112810Z
UID:344008-1719907200-1722445200@diaridelmaestrat.com
SUMMARY:Vinaròs - Actes de la Biblioplatja del Mes de Juliol
DESCRIPTION:
URL:https://diaridelmaestrat.com/agenda/vinaros-actes-de-la-biblioplatja-del-mes-de-juliol/
LOCATION:Biblioplatja de Vinaròs
CATEGORIES:VINARÒS
ATTACH;FMTTYPE=image/jpeg:https://diaridelmaestrat.com/wp-content/uploads/2024/07/juliol_Biblioplatja-Vinaros-2024.jpg
END:VEVENT
BEGIN:VEVENT
DTSTART;TZID=Europe/Helsinki:20240702T100000
DTEND;TZID=Europe/Helsinki:20240728T200000
DTSTAMP:20260422T200123
CREATED:20240702T115219Z
LAST-MODIFIED:20240702T115219Z
UID:344050-1719914400-1722196800@diaridelmaestrat.com
SUMMARY:Benicarló - Exposició "De Temor i Seda\, Les Talaies de la Costa"
DESCRIPTION:
URL:https://diaridelmaestrat.com/agenda/benicarlo-exposicio-de-temor-i-seda-les-talaies-de-la-costa/
LOCATION:Museu de la Ciutat de Benicarló (MUCBE)\, Carrer de la Pau\, 2\, 12580 Benicarló\, Benicarló\, Castellón\, 12580\, España
CATEGORIES:BENICARLÓ,Exposicions
ATTACH;FMTTYPE=image/jpeg:https://diaridelmaestrat.com/wp-content/uploads/2024/07/30889-1.jpeg
END:VEVENT
BEGIN:VEVENT
DTSTART;TZID=Europe/Helsinki:20240704T193000
DTEND;TZID=Europe/Helsinki:20240731T000000
DTSTAMP:20260422T200123
CREATED:20240702T104707Z
LAST-MODIFIED:20240702T104707Z
UID:343989-1720121400-1722384000@diaridelmaestrat.com
SUMMARY:Vinaròs - Inauguració de l'exposició "Ceràmiques De Ricardo Santos"
DESCRIPTION:
URL:https://diaridelmaestrat.com/agenda/vinaros-inauguracio-de-lexposicio-ceramiques-de-ricardo-santos/
LOCATION:Fundació Caixa Vinaròs\, Carrer de la Mare de Déu del Socors\, 64\, 12500 Vinaròs\, Castelló\, Vinaròs\, Castellón\, 12500\, España
CATEGORIES:Exposicions,VINARÒS
ATTACH;FMTTYPE=image/jpeg:https://diaridelmaestrat.com/wp-content/uploads/2024/07/cartell-plats-ricardo-santos-copia.jpg
END:VEVENT
BEGIN:VEVENT
DTSTART;TZID=Europe/Helsinki:20240705T080000
DTEND;TZID=Europe/Helsinki:20240728T170000
DTSTAMP:20260422T200123
CREATED:20240702T123026Z
LAST-MODIFIED:20240702T123026Z
UID:344064-1720166400-1722186000@diaridelmaestrat.com
SUMMARY:Benicarló - Exposició de treballs dels alumnes de Cèzanne Taller d'Art
DESCRIPTION:
URL:https://diaridelmaestrat.com/agenda/benicarlo-exposicio-de-treballs-dels-alumnes-de-cezanne-taller-dart/
LOCATION:Museu de la Ciutat de Benicarló (MUCBE)\, Carrer de la Pau\, 2\, 12580 Benicarló\, Benicarló\, Castellón\, 12580\, España
CATEGORIES:BENICARLÓ,Exposicions
ATTACH;FMTTYPE=image/jpeg:https://diaridelmaestrat.com/wp-content/uploads/2024/07/449191519_848773993972442_6048613524189651926_n.jpg
END:VEVENT
BEGIN:VEVENT
DTSTART;TZID=Europe/Helsinki:20240705T080000
DTEND;TZID=Europe/Helsinki:20240830T170000
DTSTAMP:20260422T200123
CREATED:20240704T103108Z
LAST-MODIFIED:20240704T103108Z
UID:344353-1720166400-1725037200@diaridelmaestrat.com
SUMMARY:Peníscola - Cinema al Carrer
DESCRIPTION:5 de julio Los tres mosqueteros\n\n12 de julio Oink Oink\n\n19 de julio La Sirenita\n\n26 de julio A todo tren 2\n\n2 de agosto Momias\n9 de agosto Barbie \n\n16 de agosto Salta\n\n23 de agosto Elemental \n30 de agosto Kina y Yuk
URL:https://diaridelmaestrat.com/agenda/peniscola-cinema-al-carrer/
LOCATION:Platja Sur
CATEGORIES:Pel·lícules,PENÍSCOLA
ATTACH;FMTTYPE=image/jpeg:https://diaridelmaestrat.com/wp-content/uploads/2024/07/imagen14982g.jpg
END:VEVENT
BEGIN:VEVENT
DTSTART;TZID=Europe/Helsinki:20240710T103000
DTEND;TZID=Europe/Helsinki:20240830T113000
DTSTAMP:20260422T200123
CREATED:20240708T121024Z
LAST-MODIFIED:20240708T121024Z
UID:345003-1720607400-1725017400@diaridelmaestrat.com
SUMMARY:Vinaròs - Aeròbic A La Platja
DESCRIPTION:Del 10 de juliol al 30 d’agost: de 10:30 a 11:30 h.\n\nDe dilluns a divendres.
URL:https://diaridelmaestrat.com/agenda/vinaros-aerobic-a-la-platja/
LOCATION:Castellón
CATEGORIES:VINARÒS
ATTACH;FMTTYPE=image/jpeg:https://diaridelmaestrat.com/wp-content/uploads/2024/07/294780908_2067665526738423_8679671450957146544_n.jpg
END:VEVENT
BEGIN:VEVENT
DTSTART;TZID=Europe/Helsinki:20240710T200000
DTEND;TZID=Europe/Helsinki:20240830T213000
DTSTAMP:20260422T200123
CREATED:20240708T115545Z
LAST-MODIFIED:20240708T115545Z
UID:344998-1720641600-1725053400@diaridelmaestrat.com
SUMMARY:Vinaròs - Ioga A La Platja
DESCRIPTION:Des del 10 de juliol al 30 d’agost\, de 20 a 21:30 h.\n\nDilluns\, dimecres i divendres.
URL:https://diaridelmaestrat.com/agenda/vinaros-ioga-a-la-platja/
LOCATION:Platja de Fora Al Forat
CATEGORIES:VINARÒS
ATTACH;FMTTYPE=image/jpeg:https://diaridelmaestrat.com/wp-content/uploads/2024/07/978032_172800872891574_338940867_o.jpg
END:VEVENT
BEGIN:VEVENT
DTSTART;TZID=Europe/Helsinki:20240711T080000
DTEND;TZID=Europe/Helsinki:20240829T170000
DTSTAMP:20260422T200123
CREATED:20240708T121536Z
LAST-MODIFIED:20240708T121536Z
UID:345006-1720684800-1724950800@diaridelmaestrat.com
SUMMARY:Vinaròs - Balls d'estiu: Cubbá
DESCRIPTION:De l’11 de julio al 29 d’agost: de 19:00 h a 20:00 h.\n\nDimarts i dijous.
URL:https://diaridelmaestrat.com/agenda/vinaros-balls-destiu-cubba/
LOCATION:Pérgola del Passeig de Fora del Forat
CATEGORIES:VINARÒS
END:VEVENT
BEGIN:VEVENT
DTSTART;TZID=Europe/Helsinki:20240718T093000
DTEND;TZID=Europe/Helsinki:20240822T150000
DTSTAMP:20260422T200123
CREATED:20240708T114916Z
LAST-MODIFIED:20240708T114916Z
UID:344993-1721295000-1724338800@diaridelmaestrat.com
SUMMARY:Vinaròs - Coasteering: Explora la costa de Vinaròs
DESCRIPTION:Dijous 18 de juliol i 8 d’agost\, a les 09:30 h.\nDijous 25 de juliol i 22 d’agost\, a les 12 h.\n\nPreu: 15 euros.
URL:https://diaridelmaestrat.com/agenda/vinaros-coasteering-explora-la-costa-de-vinaros/
LOCATION:Platja dels Cossis
CATEGORIES:VINARÒS
ATTACH;FMTTYPE=image/jpeg:https://diaridelmaestrat.com/wp-content/uploads/2024/07/WhatsApp-Image-2024-01-28-at-20.16.36.jpeg
END:VEVENT
BEGIN:VEVENT
DTSTART;TZID=Europe/Helsinki:20240721T210000
DTEND;TZID=Europe/Helsinki:20240721T230000
DTSTAMP:20260422T200123
CREATED:20240705T114604Z
LAST-MODIFIED:20240705T114604Z
UID:344538-1721595600-1721602800@diaridelmaestrat.com
SUMMARY:Peníscola - Concierto Bailables
DESCRIPTION:
URL:https://diaridelmaestrat.com/agenda/peniscola-concierto-bailables/
LOCATION:Parc d’Artilleria
CATEGORIES:Concerts,Cultura,PENÍSCOLA
ATTACH;FMTTYPE=image/jpeg:https://diaridelmaestrat.com/wp-content/uploads/2024/07/imagen14895g.jpg
END:VEVENT
END:VCALENDAR