BEGIN:VCALENDAR
VERSION:2.0
PRODID:-//Diari del Maestrat - ECPv6.4.0//NONSGML v1.0//EN
CALSCALE:GREGORIAN
METHOD:PUBLISH
X-ORIGINAL-URL:https://diaridelmaestrat.com
X-WR-CALDESC:Events for Diari del Maestrat
REFRESH-INTERVAL;VALUE=DURATION:PT1H
X-Robots-Tag:noindex
X-PUBLISHED-TTL:PT1H
BEGIN:VTIMEZONE
TZID:Europe/Helsinki
BEGIN:DAYLIGHT
TZOFFSETFROM:+0200
TZOFFSETTO:+0300
TZNAME:EEST
DTSTART:20240331T010000
END:DAYLIGHT
BEGIN:STANDARD
TZOFFSETFROM:+0300
TZOFFSETTO:+0200
TZNAME:EET
DTSTART:20241027T010000
END:STANDARD
END:VTIMEZONE
BEGIN:VEVENT
DTSTART;TZID=Europe/Helsinki:20240905T080000
DTEND;TZID=Europe/Helsinki:20240922T170000
DTSTAMP:20260422T173139
CREATED:20240909T125845Z
LAST-MODIFIED:20240909T125845Z
UID:355841-1725523200-1727024400@diaridelmaestrat.com
SUMMARY:Vinaròs - Exposició de Rosa Febrer Marqués
DESCRIPTION:
URL:https://diaridelmaestrat.com/agenda/vinaros-exposicio-de-rosa-febrer-marques/
LOCATION:Auditori Municipal Wenceslao Ayguals de Izco\, Plaça de Sant Agustí\, 7\, 12500 Vinaròs\, Vinaròs\, Castellón\, 12500\, España
CATEGORIES:Exposicions,VINARÒS
ATTACH;FMTTYPE=image/jpeg:https://diaridelmaestrat.com/wp-content/uploads/2024/09/CArtell-713x1024-2.jpg
END:VEVENT
BEGIN:VEVENT
DTSTART;TZID=Europe/Helsinki:20240910T080000
DTEND;TZID=Europe/Helsinki:20240910T170000
DTSTAMP:20260422T173139
CREATED:20240910T105719Z
LAST-MODIFIED:20240910T105719Z
UID:356142-1725955200-1725987600@diaridelmaestrat.com
SUMMARY:Peníscola - I Dia de Concurs de Ganaderies
DESCRIPTION:Bous de la ganaderia Benavent i solta de vaquilles per la platja de la ganaderia Bous La Ribera.
URL:https://diaridelmaestrat.com/agenda/peniscola-i-dia-de-concurs-de-ganaderies/
LOCATION:Plaça De Bous
CATEGORIES:Espectacles Taurins,PENÍSCOLA
ATTACH;FMTTYPE=image/png:https://diaridelmaestrat.com/wp-content/uploads/2024/09/cartell1-731x1024-1.png
END:VEVENT
BEGIN:VEVENT
DTSTART;TZID=Europe/Helsinki:20240910T110000
DTEND;TZID=Europe/Helsinki:20240910T120000
DTSTAMP:20260422T173139
CREATED:20240910T120417Z
LAST-MODIFIED:20240910T120417Z
UID:356166-1725966000-1725969600@diaridelmaestrat.com
SUMMARY:Peníscola - Celebració de la Santa Missa
DESCRIPTION:A l’acabar\, homenatge als octogenaris. El Grup de Moros i Cristians i el Grup Infantil de Danses dedicaran als nostres majors la seva emocionant demostració.
URL:https://diaridelmaestrat.com/agenda/peniscola-celebracio-de-la-santa-missa/
LOCATION:Capella de Santa Ana
CATEGORIES:PENÍSCOLA
ATTACH;FMTTYPE=image/png:https://diaridelmaestrat.com/wp-content/uploads/2024/09/cartell1-731x1024-1.png
END:VEVENT
BEGIN:VEVENT
DTSTART;TZID=Europe/Helsinki:20240910T130000
DTEND;TZID=Europe/Helsinki:20240910T140000
DTSTAMP:20260422T173139
CREATED:20240910T105107Z
LAST-MODIFIED:20240910T105111Z
UID:356131-1725973200-1725976800@diaridelmaestrat.com
SUMMARY:Peníscola - Inauguració Exposició de Bonsais
DESCRIPTION:Horari (de 11.00h a 13.00h y de 18.00h a 21.00h)
URL:https://diaridelmaestrat.com/agenda/peniscola-inauguracio-exposicio-de-bonsais/
LOCATION:Portal Fosc
CATEGORIES:Exposicions,PENÍSCOLA
ATTACH;FMTTYPE=image/png:https://diaridelmaestrat.com/wp-content/uploads/2024/09/cartell1-731x1024-1.png
END:VEVENT
BEGIN:VEVENT
DTSTART;TZID=Europe/Helsinki:20240910T163000
DTEND;TZID=Europe/Helsinki:20240910T170000
DTSTAMP:20260422T173139
CREATED:20240910T105509Z
LAST-MODIFIED:20240910T105509Z
UID:356139-1725985800-1725987600@diaridelmaestrat.com
SUMMARY:Peníscola - Inici de la Festa Taurina
DESCRIPTION:Passeig anunciador de la Festa Taurina per la Reina de les Festes i la seva Cort d’Honor\, Comissió Taurina\, acompanyats per la Xaranga All i Pebre de Peñíscola. \nEls primers jònencs estaran dedicats a la població femenina. \nRecorregut: Av Espanya fins a la Plaça de Bous.
URL:https://diaridelmaestrat.com/agenda/peniscola-inici-de-la-festa-taurina/
LOCATION:Avinguda Espanya
CATEGORIES:PENÍSCOLA
ATTACH;FMTTYPE=image/png:https://diaridelmaestrat.com/wp-content/uploads/2024/09/cartell1-731x1024-1.png
END:VEVENT
BEGIN:VEVENT
DTSTART;TZID=Europe/Helsinki:20240910T183000
DTEND;TZID=Europe/Helsinki:20240910T183000
DTSTAMP:20260422T173139
CREATED:20240910T105949Z
LAST-MODIFIED:20240910T105949Z
UID:356145-1725993000-1725993000@diaridelmaestrat.com
SUMMARY:Peníscola - Ruta Coordinadora de Penyes "A Peu de Carrer"
DESCRIPTION:Ruta de la Penya l’Espardenya i Penya en Almíbar con la animación de la Xaranga All i Pebre\, anunciant el primer dia d’apertura del Recinte de Penyes.
URL:https://diaridelmaestrat.com/agenda/peniscola-ruta-coordinadora-de-penyes-a-peu-de-carrer/
LOCATION:Recinte de Penyes
CATEGORIES:PENÍSCOLA
ATTACH;FMTTYPE=image/png:https://diaridelmaestrat.com/wp-content/uploads/2024/09/cartell1-731x1024-1.png
END:VEVENT
BEGIN:VEVENT
DTSTART;TZID=Europe/Helsinki:20240910T200000
DTEND;TZID=Europe/Helsinki:20240910T220000
DTSTAMP:20260422T173139
CREATED:20240909T130736Z
LAST-MODIFIED:20240909T130736Z
UID:355848-1725998400-1726005600@diaridelmaestrat.com
SUMMARY:Vinaròs - Copa Comunitat Valenciana: Club Volei Vinaròs vs UPV Léleman Conqueridor
DESCRIPTION:
URL:https://diaridelmaestrat.com/agenda/vinaros-copa-comunitat-valenciana-club-volei-vinaros-vs-upv-leleman-conqueridor/
LOCATION:Pavelló Poliesportiu de Vinaròs\, Av. de Tarragona\, 12500 Vinaròs\, Vinaròs\, Castellón\, 12500\, España
CATEGORIES:Esports,VINARÒS
ATTACH;FMTTYPE=image/jpeg:https://diaridelmaestrat.com/wp-content/uploads/2024/09/459079731_865825999007826_7704822314027614278_n.jpg
END:VEVENT
BEGIN:VEVENT
DTSTART;TZID=Europe/Helsinki:20240910T230000
DTEND;TZID=Europe/Helsinki:20240910T230000
DTSTAMP:20260422T173139
CREATED:20240910T110158Z
LAST-MODIFIED:20240910T110158Z
UID:356149-1726009200-1726009200@diaridelmaestrat.com
SUMMARY:Peníscola - Bou Embolat
DESCRIPTION:
URL:https://diaridelmaestrat.com/agenda/peniscola-bou-embolat/
LOCATION:Plaça De Bous
CATEGORIES:Espectacles Taurins,PENÍSCOLA
ATTACH;FMTTYPE=image/png:https://diaridelmaestrat.com/wp-content/uploads/2024/09/cartell1-731x1024-1.png
END:VEVENT
END:VCALENDAR