BEGIN:VCALENDAR
VERSION:2.0
PRODID:-//Diari del Maestrat - ECPv6.4.0//NONSGML v1.0//EN
CALSCALE:GREGORIAN
METHOD:PUBLISH
X-WR-CALNAME:Diari del Maestrat
X-ORIGINAL-URL:https://diaridelmaestrat.com
X-WR-CALDESC:Events for Diari del Maestrat
REFRESH-INTERVAL;VALUE=DURATION:PT1H
X-Robots-Tag:noindex
X-PUBLISHED-TTL:PT1H
BEGIN:VTIMEZONE
TZID:Europe/Helsinki
BEGIN:DAYLIGHT
TZOFFSETFROM:+0200
TZOFFSETTO:+0300
TZNAME:EEST
DTSTART:20240331T010000
END:DAYLIGHT
BEGIN:STANDARD
TZOFFSETFROM:+0300
TZOFFSETTO:+0200
TZNAME:EET
DTSTART:20241027T010000
END:STANDARD
END:VTIMEZONE
BEGIN:VEVENT
DTSTART;TZID=Europe/Helsinki:20240905T080000
DTEND;TZID=Europe/Helsinki:20240922T170000
DTSTAMP:20260422T173106
CREATED:20240909T125845Z
LAST-MODIFIED:20240909T125845Z
UID:355841-1725523200-1727024400@diaridelmaestrat.com
SUMMARY:Vinaròs - Exposició de Rosa Febrer Marqués
DESCRIPTION:
URL:https://diaridelmaestrat.com/agenda/vinaros-exposicio-de-rosa-febrer-marques/
LOCATION:Auditori Municipal Wenceslao Ayguals de Izco\, Plaça de Sant Agustí\, 7\, 12500 Vinaròs\, Vinaròs\, Castellón\, 12500\, España
CATEGORIES:Exposicions,VINARÒS
ATTACH;FMTTYPE=image/jpeg:https://diaridelmaestrat.com/wp-content/uploads/2024/09/CArtell-713x1024-2.jpg
END:VEVENT
BEGIN:VEVENT
DTSTART;TZID=Europe/Helsinki:20240913T080000
DTEND;TZID=Europe/Helsinki:20240929T170000
DTSTAMP:20260422T173106
CREATED:20240911T110541Z
LAST-MODIFIED:20240911T110541Z
UID:356482-1726214400-1727629200@diaridelmaestrat.com
SUMMARY:Vinaròs - "Vinaròs de Tapa en Tapa"
DESCRIPTION:
URL:https://diaridelmaestrat.com/agenda/vinaros-vinaros-de-tapa-en-tapa/
LOCATION:Vinaròs
CATEGORIES:Gastronomia,VINARÒS
ATTACH;FMTTYPE=image/jpeg:https://diaridelmaestrat.com/wp-content/uploads/2024/09/Cartell-Tapa-en-Tapa.jpg
END:VEVENT
BEGIN:VEVENT
DTSTART;TZID=Europe/Helsinki:20240916T090000
DTEND;TZID=Europe/Helsinki:20241008T170000
DTSTAMP:20260422T173106
CREATED:20240917T113558Z
LAST-MODIFIED:20240917T113558Z
UID:357949-1726477200-1728406800@diaridelmaestrat.com
SUMMARY:Vinaròs - II Jornades de Cuina de la Tonyina Roja
DESCRIPTION:
URL:https://diaridelmaestrat.com/agenda/vinaros-ii-jornades-de-cuina-de-la-tonyina-roja/
LOCATION:Vinaròs
CATEGORIES:Gastronomia,VINARÒS
ATTACH;FMTTYPE=image/jpeg:https://diaridelmaestrat.com/wp-content/uploads/2024/09/Jornadas-Gastronomicas-del-Atun-Rojo-Vinaros-2024_0.jpg
END:VEVENT
BEGIN:VEVENT
DTSTART;TZID=Europe/Helsinki:20240919T173000
DTEND;TZID=Europe/Helsinki:20240919T193000
DTSTAMP:20260422T173106
CREATED:20240918T115332Z
LAST-MODIFIED:20240918T115332Z
UID:358223-1726767000-1726774200@diaridelmaestrat.com
SUMMARY:Vinaròs - Xerrada i projecció del documental "Toda Una Vida"
DESCRIPTION:
URL:https://diaridelmaestrat.com/agenda/vinaros-xerrada-i-projeccio-del-documental-toda-una-vida/
LOCATION:Saló d’Actes de la Biblioteca Municipal
CATEGORIES:Conferències,VINARÒS
ATTACH;FMTTYPE=image/jpeg:https://diaridelmaestrat.com/wp-content/uploads/2024/09/460352805_872210961702663_6644471529653364823_n-1.jpg
END:VEVENT
BEGIN:VEVENT
DTSTART;TZID=Europe/Helsinki:20240919T190000
DTEND;TZID=Europe/Helsinki:20240919T200000
DTSTAMP:20260422T173106
CREATED:20240918T112219Z
LAST-MODIFIED:20240918T112219Z
UID:358191-1726772400-1726776000@diaridelmaestrat.com
SUMMARY:Peníscola - Cicle de Concerts de Música Clàssica (Pascual Gimeno)
DESCRIPTION:
URL:https://diaridelmaestrat.com/agenda/peniscola-cicle-de-concerts-de-musica-classica-pascual-gimeno/
LOCATION:Saló Gòtic del Castell
CATEGORIES:Concerts,PENÍSCOLA
ATTACH;FMTTYPE=image/jpeg:https://diaridelmaestrat.com/wp-content/uploads/2024/09/imagen15280g.jpg
END:VEVENT
END:VCALENDAR