BEGIN:VCALENDAR
VERSION:2.0
PRODID:-//Diari del Maestrat - ECPv6.4.0//NONSGML v1.0//EN
CALSCALE:GREGORIAN
METHOD:PUBLISH
X-WR-CALNAME:Diari del Maestrat
X-ORIGINAL-URL:https://diaridelmaestrat.com
X-WR-CALDESC:Events for Diari del Maestrat
REFRESH-INTERVAL;VALUE=DURATION:PT1H
X-Robots-Tag:noindex
X-PUBLISHED-TTL:PT1H
BEGIN:VTIMEZONE
TZID:Europe/Helsinki
BEGIN:DAYLIGHT
TZOFFSETFROM:+0200
TZOFFSETTO:+0300
TZNAME:EEST
DTSTART:20240331T010000
END:DAYLIGHT
BEGIN:STANDARD
TZOFFSETFROM:+0300
TZOFFSETTO:+0200
TZNAME:EET
DTSTART:20241027T010000
END:STANDARD
END:VTIMEZONE
BEGIN:VEVENT
DTSTART;TZID=Europe/Helsinki:20240905T080000
DTEND;TZID=Europe/Helsinki:20240922T170000
DTSTAMP:20260422T173107
CREATED:20240909T125845Z
LAST-MODIFIED:20240909T125845Z
UID:355841-1725523200-1727024400@diaridelmaestrat.com
SUMMARY:Vinaròs - Exposició de Rosa Febrer Marqués
DESCRIPTION:
URL:https://diaridelmaestrat.com/agenda/vinaros-exposicio-de-rosa-febrer-marques/
LOCATION:Auditori Municipal Wenceslao Ayguals de Izco\, Plaça de Sant Agustí\, 7\, 12500 Vinaròs\, Vinaròs\, Castellón\, 12500\, España
CATEGORIES:Exposicions,VINARÒS
ATTACH;FMTTYPE=image/jpeg:https://diaridelmaestrat.com/wp-content/uploads/2024/09/CArtell-713x1024-2.jpg
END:VEVENT
BEGIN:VEVENT
DTSTART;TZID=Europe/Helsinki:20240913T080000
DTEND;TZID=Europe/Helsinki:20240929T170000
DTSTAMP:20260422T173107
CREATED:20240911T110541Z
LAST-MODIFIED:20240911T110541Z
UID:356482-1726214400-1727629200@diaridelmaestrat.com
SUMMARY:Vinaròs - "Vinaròs de Tapa en Tapa"
DESCRIPTION:
URL:https://diaridelmaestrat.com/agenda/vinaros-vinaros-de-tapa-en-tapa/
LOCATION:Vinaròs
CATEGORIES:Gastronomia,VINARÒS
ATTACH;FMTTYPE=image/jpeg:https://diaridelmaestrat.com/wp-content/uploads/2024/09/Cartell-Tapa-en-Tapa.jpg
END:VEVENT
BEGIN:VEVENT
DTSTART;TZID=Europe/Helsinki:20240916T090000
DTEND;TZID=Europe/Helsinki:20241008T170000
DTSTAMP:20260422T173107
CREATED:20240917T113558Z
LAST-MODIFIED:20240917T113558Z
UID:357949-1726477200-1728406800@diaridelmaestrat.com
SUMMARY:Vinaròs - II Jornades de Cuina de la Tonyina Roja
DESCRIPTION:
URL:https://diaridelmaestrat.com/agenda/vinaros-ii-jornades-de-cuina-de-la-tonyina-roja/
LOCATION:Vinaròs
CATEGORIES:Gastronomia,VINARÒS
ATTACH;FMTTYPE=image/jpeg:https://diaridelmaestrat.com/wp-content/uploads/2024/09/Jornadas-Gastronomicas-del-Atun-Rojo-Vinaros-2024_0.jpg
END:VEVENT
BEGIN:VEVENT
DTSTART;TZID=Europe/Helsinki:20240921T003000
DTEND;TZID=Europe/Helsinki:20240921T060000
DTSTAMP:20260422T173107
CREATED:20240918T110551Z
LAST-MODIFIED:20240918T110551Z
UID:358174-1726878600-1726898400@diaridelmaestrat.com
SUMMARY:Peníscola - Moros i Cristians 2024 (Ball)
DESCRIPTION:
URL:https://diaridelmaestrat.com/agenda/peniscola-moros-i-cristians-2024-ball/
LOCATION:Carpa Fiestera al Centre d’Estudis
CATEGORIES:PENÍSCOLA
ATTACH;FMTTYPE=image/jpeg:https://diaridelmaestrat.com/wp-content/uploads/2024/09/imagen15263g.jpg
END:VEVENT
BEGIN:VEVENT
DTSTART;TZID=Europe/Helsinki:20240921T190000
DTEND;TZID=Europe/Helsinki:20240921T230000
DTSTAMP:20260422T173107
CREATED:20240918T111509Z
LAST-MODIFIED:20240918T111509Z
UID:358177-1726945200-1726959600@diaridelmaestrat.com
SUMMARY:Peníscola - Moros i Cristians 2024 (Desfilada de Moros i Cristians)
DESCRIPTION:
URL:https://diaridelmaestrat.com/agenda/peniscola-moros-i-cristians-2024-desfilada-de-moros-i-cristians/
LOCATION:Peníscola\, Peníscola\, Castellón\, 12598\, España
CATEGORIES:PENÍSCOLA
ATTACH;FMTTYPE=image/jpeg:https://diaridelmaestrat.com/wp-content/uploads/2024/09/imagen15263g.jpg
END:VEVENT
BEGIN:VEVENT
DTSTART;TZID=Europe/Helsinki:20240921T193000
DTEND;TZID=Europe/Helsinki:20240921T210000
DTSTAMP:20260422T173107
CREATED:20240909T115801Z
LAST-MODIFIED:20240918T105944Z
UID:355794-1726947000-1726952400@diaridelmaestrat.com
SUMMARY:Vinaròs - II Vinaròs de Versos: "Poetes Valencians i més"
DESCRIPTION:
URL:https://diaridelmaestrat.com/agenda/vinaros-ii-vinaros-de-versos-poetes-valencians-i-mes/
LOCATION:Auditori Municipal Wenceslao Ayguals de Izco\, Plaça de Sant Agustí\, 7\, 12500 Vinaròs\, Vinaròs\, Castellón\, 12500\, España
CATEGORIES:Recital de Poesia,VINARÒS
ATTACH;FMTTYPE=image/jpeg:https://diaridelmaestrat.com/wp-content/uploads/2024/09/459514953_1087328580059996_3459733348557922612_n.jpg
END:VEVENT
BEGIN:VEVENT
DTSTART;TZID=Europe/Helsinki:20240921T200000
DTEND;TZID=Europe/Helsinki:20240921T200000
DTSTAMP:20260422T173107
CREATED:20240708T122109Z
LAST-MODIFIED:20240708T122109Z
UID:345009-1726948800-1726948800@diaridelmaestrat.com
SUMMARY:Vinaròs - 5K / 10 K Nocturn Llagostí de Vinaròs
DESCRIPTION:Inscripció: 13 euros. \nDel 28 d’agost al 15 de setembre a la pàgina web hj-crono.es
URL:https://diaridelmaestrat.com/agenda/vinaros-5k-10-k-nocturn-llagosti-de-vinaros/
LOCATION:Vinaròs
CATEGORIES:Esports,VINARÒS
ATTACH;FMTTYPE=image/jpeg:https://diaridelmaestrat.com/wp-content/uploads/2024/07/10K24.jpg
END:VEVENT
BEGIN:VEVENT
DTSTART;TZID=Europe/Helsinki:20240921T200000
DTEND;TZID=Europe/Helsinki:20240921T213000
DTSTAMP:20260422T173107
CREATED:20240909T120121Z
LAST-MODIFIED:20240909T120121Z
UID:355797-1726948800-1726954200@diaridelmaestrat.com
SUMMARY:Vinaròs - Espectacle de Dansa de la companyia RODA
DESCRIPTION:
URL:https://diaridelmaestrat.com/agenda/vinaros-espectacle-de-dansa-de-la-companyia-roda/
LOCATION:Pèrgola del Passeig Blasco Ibáñez
CATEGORIES:Espectacle de Dansa,VINARÒS
ATTACH;FMTTYPE=image/jpeg:https://diaridelmaestrat.com/wp-content/uploads/2024/09/CArtell-713x1024-2.jpg
END:VEVENT
BEGIN:VEVENT
DTSTART;TZID=Europe/Helsinki:20240921T210000
DTEND;TZID=Europe/Helsinki:20240921T220000
DTSTAMP:20260422T173107
CREATED:20240909T120616Z
LAST-MODIFIED:20240918T110020Z
UID:355799-1726952400-1726956000@diaridelmaestrat.com
SUMMARY:Vinaròs - Concert d'orgue i soprano
DESCRIPTION:A càrrec de Francisco Javier López\, organista de la Catedral d’Àvila i Sara Matarranz\, professora de Cant de l’Escola Superior de Cant de Madrid
URL:https://diaridelmaestrat.com/agenda/vinaros-concert-dorgue-i-soprano/
LOCATION:Esglesia Arxiprestal de Vinaròs
CATEGORIES:Concerts,VINARÒS
ATTACH;FMTTYPE=image/jpeg:https://diaridelmaestrat.com/wp-content/uploads/2024/09/460352817_872899378300488_4082896726047050062_n.jpg
END:VEVENT
END:VCALENDAR