BEGIN:VCALENDAR
VERSION:2.0
PRODID:-//Diari del Maestrat - ECPv6.4.0//NONSGML v1.0//EN
CALSCALE:GREGORIAN
METHOD:PUBLISH
X-WR-CALNAME:Diari del Maestrat
X-ORIGINAL-URL:https://diaridelmaestrat.com
X-WR-CALDESC:Events for Diari del Maestrat
REFRESH-INTERVAL;VALUE=DURATION:PT1H
X-Robots-Tag:noindex
X-PUBLISHED-TTL:PT1H
BEGIN:VTIMEZONE
TZID:Europe/Helsinki
BEGIN:DAYLIGHT
TZOFFSETFROM:+0200
TZOFFSETTO:+0300
TZNAME:EEST
DTSTART:20240331T010000
END:DAYLIGHT
BEGIN:STANDARD
TZOFFSETFROM:+0300
TZOFFSETTO:+0200
TZNAME:EET
DTSTART:20241027T010000
END:STANDARD
END:VTIMEZONE
BEGIN:VEVENT
DTSTART;TZID=Europe/Helsinki:20240913T080000
DTEND;TZID=Europe/Helsinki:20240929T170000
DTSTAMP:20260422T173107
CREATED:20240911T110541Z
LAST-MODIFIED:20240911T110541Z
UID:356482-1726214400-1727629200@diaridelmaestrat.com
SUMMARY:Vinaròs - "Vinaròs de Tapa en Tapa"
DESCRIPTION:
URL:https://diaridelmaestrat.com/agenda/vinaros-vinaros-de-tapa-en-tapa/
LOCATION:Vinaròs
CATEGORIES:Gastronomia,VINARÒS
ATTACH;FMTTYPE=image/jpeg:https://diaridelmaestrat.com/wp-content/uploads/2024/09/Cartell-Tapa-en-Tapa.jpg
END:VEVENT
BEGIN:VEVENT
DTSTART;TZID=Europe/Helsinki:20240916T090000
DTEND;TZID=Europe/Helsinki:20241008T170000
DTSTAMP:20260422T173107
CREATED:20240917T113558Z
LAST-MODIFIED:20240917T113558Z
UID:357949-1726477200-1728406800@diaridelmaestrat.com
SUMMARY:Vinaròs - II Jornades de Cuina de la Tonyina Roja
DESCRIPTION:
URL:https://diaridelmaestrat.com/agenda/vinaros-ii-jornades-de-cuina-de-la-tonyina-roja/
LOCATION:Vinaròs
CATEGORIES:Gastronomia,VINARÒS
ATTACH;FMTTYPE=image/jpeg:https://diaridelmaestrat.com/wp-content/uploads/2024/09/Jornadas-Gastronomicas-del-Atun-Rojo-Vinaros-2024_0.jpg
END:VEVENT
BEGIN:VEVENT
DTSTART;TZID=Europe/Helsinki:20240926T080000
DTEND;TZID=Europe/Helsinki:20241002T170000
DTSTAMP:20260422T173107
CREATED:20240909T130300Z
LAST-MODIFIED:20240909T130300Z
UID:355845-1727337600-1727888400@diaridelmaestrat.com
SUMMARY:Vinaròs - Exposició "Maria Ibars: Un Paisatge de Paraules"
DESCRIPTION:Exposició itinerant de l’Acadèmia Valenciana de la Llengua dedicada a Maria Ibars\, Escriptora de l’Any 2024.
URL:https://diaridelmaestrat.com/agenda/vinaros-exposicio-maria-ibars-un-paisatge-de-paraules/
LOCATION:Biblioteca Municipal de Vinaròs
CATEGORIES:Exposicions,VINARÒS
ATTACH;FMTTYPE=image/jpeg:https://diaridelmaestrat.com/wp-content/uploads/2024/09/CArtell-713x1024-2.jpg
END:VEVENT
BEGIN:VEVENT
DTSTART;TZID=Europe/Helsinki:20240926T080000
DTEND;TZID=Europe/Helsinki:20241013T170000
DTSTAMP:20260422T173107
CREATED:20240909T130102Z
LAST-MODIFIED:20240909T130102Z
UID:355843-1727337600-1728838800@diaridelmaestrat.com
SUMMARY:Vinaròs - Exposició sobre La Carta Pobla
DESCRIPTION:
URL:https://diaridelmaestrat.com/agenda/vinaros-exposicio-sobre-la-carta-pobla/
LOCATION:Auditori Municipal Wenceslao Ayguals de Izco\, Plaça de Sant Agustí\, 7\, 12500 Vinaròs\, Vinaròs\, Castellón\, 12500\, España
CATEGORIES:Exposicions,VINARÒS
ATTACH;FMTTYPE=image/jpeg:https://diaridelmaestrat.com/wp-content/uploads/2024/09/CArtell-713x1024-2.jpg
END:VEVENT
BEGIN:VEVENT
DTSTART;TZID=Europe/Helsinki:20240927T220000
DTEND;TZID=Europe/Helsinki:20240928T220000
DTSTAMP:20260422T173107
CREATED:20240909T122255Z
LAST-MODIFIED:20240909T122413Z
UID:355811-1727474400-1727560800@diaridelmaestrat.com
SUMMARY:Vinaròs - Concert Candlelight
DESCRIPTION:Concert de piano a càrrec de David Gómez. \n\n 
URL:https://diaridelmaestrat.com/agenda/vinaros-concert-candlelight/
LOCATION:Pèrgola del Passeig Blasco Ibáñez
CATEGORIES:Concerts,VINARÒS
ATTACH;FMTTYPE=image/jpeg:https://diaridelmaestrat.com/wp-content/uploads/2024/09/CArtell-713x1024-2.jpg
END:VEVENT
BEGIN:VEVENT
DTSTART;TZID=Europe/Helsinki:20240928T100000
DTEND;TZID=Europe/Helsinki:20240928T110000
DTSTAMP:20260422T173107
CREATED:20240918T113205Z
LAST-MODIFIED:20240918T113205Z
UID:358203-1727517600-1727521200@diaridelmaestrat.com
SUMMARY:Peníscola - Marxa Solidària a Peu per l'ELA
DESCRIPTION:Una hora abans es poden recollir els dorsals.
URL:https://diaridelmaestrat.com/agenda/peniscola-marxa-solidaria-a-peu-per-lela/
LOCATION:Passeig Marítim Peníscola\, Passeig Marítim 12580\, Peníscola\, Castellón\, 12580\, España
CATEGORIES:Esports,PENÍSCOLA
ATTACH;FMTTYPE=image/jpeg:https://diaridelmaestrat.com/wp-content/uploads/2024/09/imagen15270g.jpg
END:VEVENT
BEGIN:VEVENT
DTSTART;TZID=Europe/Helsinki:20240928T100000
DTEND;TZID=Europe/Helsinki:20240928T220000
DTSTAMP:20260422T173107
CREATED:20240522T132300Z
LAST-MODIFIED:20240522T132300Z
UID:335978-1727517600-1727560800@diaridelmaestrat.com
SUMMARY:Peníscola - Botigues Al Carrer
DESCRIPTION:
URL:https://diaridelmaestrat.com/agenda/peniscola-botigues-al-carrer-2/
LOCATION:Passeig Marítim Peníscola\, Passeig Marítim 12580\, Peníscola\, Castellón\, 12580\, España
CATEGORIES:PENÍSCOLA
ATTACH;FMTTYPE=image/jpeg:https://diaridelmaestrat.com/wp-content/uploads/2024/05/tendes_carrer_cartell_sensepapa.jpg
END:VEVENT
BEGIN:VEVENT
DTSTART;TZID=Europe/Helsinki:20240928T110000
DTEND;TZID=Europe/Helsinki:20240928T130000
DTSTAMP:20260422T173107
CREATED:20240909T122652Z
LAST-MODIFIED:20240909T122652Z
UID:355815-1727521200-1727528400@diaridelmaestrat.com
SUMMARY:Vinaròs - Recreació històrica sobre el Barroc
DESCRIPTION:Recreació històrica teatralitzada de carrer sobre el Barroc: “Vida i costums del Barroc a l’eclosió de les esglésies” a càrrec de l’alumnat de Puro Teatro\, arts escèniques. \nAmbientació en moviment pel centre històric amb pinzellades de la literatura\, música i cultura dels grans autors del segle XVII\, per descobrir-ne l’empremta als edificis clàssics com la portalada barroca de l’arxiprestal.
URL:https://diaridelmaestrat.com/agenda/vinaros-recreacio-historica-sobre-el-barroc/
LOCATION:Plaça Parroquial
CATEGORIES:Recreació Històrica,VINARÒS
END:VEVENT
BEGIN:VEVENT
DTSTART;TZID=Europe/Helsinki:20240928T123000
DTEND;TZID=Europe/Helsinki:20240928T133000
DTSTAMP:20260422T173107
CREATED:20240918T113458Z
LAST-MODIFIED:20240918T113458Z
UID:358207-1727526600-1727530200@diaridelmaestrat.com
SUMMARY:Peníscola - Marxa Solidària a Peu per l'ELA (Xerrada de Juan Carlos Unzué)
DESCRIPTION:El preu de la inscripció i la xerrada és de 12 euros. \nTots els beneficis es destinaran a la investigació de l’enfermetat de l’ELA
URL:https://diaridelmaestrat.com/agenda/peniscola-marxa-solidaria-a-peu-per-lela-xerrada-de-juan-carlos-unzue/
LOCATION:Saló de Plens
CATEGORIES:PENÍSCOLA,Xerrades
ATTACH;FMTTYPE=image/jpeg:https://diaridelmaestrat.com/wp-content/uploads/2024/09/imagen15270g.jpg
END:VEVENT
BEGIN:VEVENT
DTSTART;TZID=Europe/Helsinki:20240928T180000
DTEND;TZID=Europe/Helsinki:20240928T193000
DTSTAMP:20260422T173107
CREATED:20240909T123048Z
LAST-MODIFIED:20240909T123048Z
UID:355817-1727546400-1727551800@diaridelmaestrat.com
SUMMARY:Vinaròs - Concert d'Intercanvi "Dolçainers i Tabaleters Borriol i Nanos i Gegants de Vinaròs"
DESCRIPTION:
URL:https://diaridelmaestrat.com/agenda/vinaros-concert-dintercanvi-dolcainers-i-tabaleters-borriol-i-nanos-i-gegants-de-vinaros/
LOCATION:Passeig de Blasco Ibáñez
CATEGORIES:Concerts,VINARÒS
ATTACH;FMTTYPE=image/jpeg:https://diaridelmaestrat.com/wp-content/uploads/2024/09/CArtell-713x1024-2.jpg
END:VEVENT
BEGIN:VEVENT
DTSTART;TZID=Europe/Helsinki:20240928T200000
DTEND;TZID=Europe/Helsinki:20240928T210000
DTSTAMP:20260422T173107
CREATED:20240909T123703Z
LAST-MODIFIED:20240909T123703Z
UID:355820-1727553600-1727557200@diaridelmaestrat.com
SUMMARY:Vinaròs - Concert d'Intercanvi Coral García Julbe i la Colla de Dolçaina i Tabal de Vinaròs
DESCRIPTION:
URL:https://diaridelmaestrat.com/agenda/vinaros-concert-dintercanvi-coral-garcia-julbe-i-la-colla-de-dolcaina-i-tabal-de-vinaros/
LOCATION:Auditori Municipal Wenceslao Ayguals de Izco\, Plaça de Sant Agustí\, 7\, 12500 Vinaròs\, Vinaròs\, Castellón\, 12500\, España
CATEGORIES:Concerts,VINARÒS
ATTACH;FMTTYPE=image/jpeg:https://diaridelmaestrat.com/wp-content/uploads/2024/09/CArtell-713x1024-2.jpg
END:VEVENT
END:VCALENDAR