BEGIN:VCALENDAR
VERSION:2.0
PRODID:-//Diari del Maestrat - ECPv6.4.0//NONSGML v1.0//EN
CALSCALE:GREGORIAN
METHOD:PUBLISH
X-WR-CALNAME:Diari del Maestrat
X-ORIGINAL-URL:https://diaridelmaestrat.com
X-WR-CALDESC:Events for Diari del Maestrat
REFRESH-INTERVAL;VALUE=DURATION:PT1H
X-Robots-Tag:noindex
X-PUBLISHED-TTL:PT1H
BEGIN:VTIMEZONE
TZID:Europe/Helsinki
BEGIN:DAYLIGHT
TZOFFSETFROM:+0200
TZOFFSETTO:+0300
TZNAME:EEST
DTSTART:20240331T010000
END:DAYLIGHT
BEGIN:STANDARD
TZOFFSETFROM:+0300
TZOFFSETTO:+0200
TZNAME:EET
DTSTART:20241027T010000
END:STANDARD
END:VTIMEZONE
BEGIN:VEVENT
DTSTART;TZID=Europe/Helsinki:20240913T080000
DTEND;TZID=Europe/Helsinki:20240929T170000
DTSTAMP:20260422T173107
CREATED:20240911T110541Z
LAST-MODIFIED:20240911T110541Z
UID:356482-1726214400-1727629200@diaridelmaestrat.com
SUMMARY:Vinaròs - "Vinaròs de Tapa en Tapa"
DESCRIPTION:
URL:https://diaridelmaestrat.com/agenda/vinaros-vinaros-de-tapa-en-tapa/
LOCATION:Vinaròs
CATEGORIES:Gastronomia,VINARÒS
ATTACH;FMTTYPE=image/jpeg:https://diaridelmaestrat.com/wp-content/uploads/2024/09/Cartell-Tapa-en-Tapa.jpg
END:VEVENT
BEGIN:VEVENT
DTSTART;TZID=Europe/Helsinki:20240916T090000
DTEND;TZID=Europe/Helsinki:20241008T170000
DTSTAMP:20260422T173107
CREATED:20240917T113558Z
LAST-MODIFIED:20240917T113558Z
UID:357949-1726477200-1728406800@diaridelmaestrat.com
SUMMARY:Vinaròs - II Jornades de Cuina de la Tonyina Roja
DESCRIPTION:
URL:https://diaridelmaestrat.com/agenda/vinaros-ii-jornades-de-cuina-de-la-tonyina-roja/
LOCATION:Vinaròs
CATEGORIES:Gastronomia,VINARÒS
ATTACH;FMTTYPE=image/jpeg:https://diaridelmaestrat.com/wp-content/uploads/2024/09/Jornadas-Gastronomicas-del-Atun-Rojo-Vinaros-2024_0.jpg
END:VEVENT
BEGIN:VEVENT
DTSTART;TZID=Europe/Helsinki:20240926T080000
DTEND;TZID=Europe/Helsinki:20241002T170000
DTSTAMP:20260422T173107
CREATED:20240909T130300Z
LAST-MODIFIED:20240909T130300Z
UID:355845-1727337600-1727888400@diaridelmaestrat.com
SUMMARY:Vinaròs - Exposició "Maria Ibars: Un Paisatge de Paraules"
DESCRIPTION:Exposició itinerant de l’Acadèmia Valenciana de la Llengua dedicada a Maria Ibars\, Escriptora de l’Any 2024.
URL:https://diaridelmaestrat.com/agenda/vinaros-exposicio-maria-ibars-un-paisatge-de-paraules/
LOCATION:Biblioteca Municipal de Vinaròs
CATEGORIES:Exposicions,VINARÒS
ATTACH;FMTTYPE=image/jpeg:https://diaridelmaestrat.com/wp-content/uploads/2024/09/CArtell-713x1024-2.jpg
END:VEVENT
BEGIN:VEVENT
DTSTART;TZID=Europe/Helsinki:20240926T080000
DTEND;TZID=Europe/Helsinki:20241013T170000
DTSTAMP:20260422T173107
CREATED:20240909T130102Z
LAST-MODIFIED:20240909T130102Z
UID:355843-1727337600-1728838800@diaridelmaestrat.com
SUMMARY:Vinaròs - Exposició sobre La Carta Pobla
DESCRIPTION:
URL:https://diaridelmaestrat.com/agenda/vinaros-exposicio-sobre-la-carta-pobla/
LOCATION:Auditori Municipal Wenceslao Ayguals de Izco\, Plaça de Sant Agustí\, 7\, 12500 Vinaròs\, Vinaròs\, Castellón\, 12500\, España
CATEGORIES:Exposicions,VINARÒS
ATTACH;FMTTYPE=image/jpeg:https://diaridelmaestrat.com/wp-content/uploads/2024/09/CArtell-713x1024-2.jpg
END:VEVENT
BEGIN:VEVENT
DTSTART;TZID=Europe/Helsinki:20240929T120000
DTEND;TZID=Europe/Helsinki:20240929T130000
DTSTAMP:20260422T173107
CREATED:20240909T124742Z
LAST-MODIFIED:20240909T124742Z
UID:355824-1727611200-1727614800@diaridelmaestrat.com
SUMMARY:Vinaròs - Concert de la Banda Simfònica "La Alianza"
DESCRIPTION:
URL:https://diaridelmaestrat.com/agenda/vinaros-concert-de-la-banda-simfonica-la-alianza/
LOCATION:Auditori Municipal Wenceslao Ayguals de Izco\, Plaça de Sant Agustí\, 7\, 12500 Vinaròs\, Vinaròs\, Castellón\, 12500\, España
CATEGORIES:Concerts,VINARÒS
ATTACH;FMTTYPE=image/jpeg:https://diaridelmaestrat.com/wp-content/uploads/2024/09/CArtell-713x1024-2.jpg
END:VEVENT
BEGIN:VEVENT
DTSTART;TZID=Europe/Helsinki:20240929T190000
DTEND;TZID=Europe/Helsinki:20240929T200000
DTSTAMP:20260422T173107
CREATED:20240909T124918Z
LAST-MODIFIED:20240909T124918Z
UID:355830-1727636400-1727640000@diaridelmaestrat.com
SUMMARY:Vinaròs - Dansa del Grup Folklòric Les Camaraes
DESCRIPTION:
URL:https://diaridelmaestrat.com/agenda/vinaros-dansa-del-grup-folkloric-les-camaraes/
LOCATION:Plaça Parroquial
CATEGORIES:Danses,VINARÒS
ATTACH;FMTTYPE=image/jpeg:https://diaridelmaestrat.com/wp-content/uploads/2024/09/CArtell-713x1024-2.jpg
END:VEVENT
BEGIN:VEVENT
DTSTART;TZID=Europe/Helsinki:20240929T190000
DTEND;TZID=Europe/Helsinki:20240929T203000
DTSTAMP:20260422T173107
CREATED:20240918T113825Z
LAST-MODIFIED:20240918T113825Z
UID:358211-1727636400-1727641800@diaridelmaestrat.com
SUMMARY:Peníscola - Cicle de Concerts de Música Clàssica (Orquesta Simfònica de Peníscola)
DESCRIPTION:PROGRAMA \nI parte \nConcierto para clarinete y orquesta nº 1\, op. 73 | Carl Mª von Weber (1786 – 1826) \nI. Allegro \nII. Adagio ma non troppo \nIII.Rondó – Allegretto \nII parte \nSinfonía nº 9 en mi menor\, Op. 95\, del nuevo mundo | Antonín Dvořák (1841-1904) \nI. Adagio – Allegro molto \nII. Largo \nIII. Scherzo – Molto vivace \nIV. Allegro con fuoco
URL:https://diaridelmaestrat.com/agenda/peniscola-cicle-de-concerts-de-musica-classica-orquesta-simfonica-de-peniscola/
LOCATION:Palau de Congressos de Peníscola
CATEGORIES:Concerts,PENÍSCOLA
ATTACH;FMTTYPE=image/jpeg:https://diaridelmaestrat.com/wp-content/uploads/2024/09/imagen15283p.jpg
END:VEVENT
BEGIN:VEVENT
DTSTART;TZID=Europe/Helsinki:20240929T200000
DTEND;TZID=Europe/Helsinki:20240929T210000
DTSTAMP:20260422T173107
CREATED:20240909T125056Z
LAST-MODIFIED:20240909T125056Z
UID:355832-1727640000-1727643600@diaridelmaestrat.com
SUMMARY:Vinaròs - Missa i Tedèum
DESCRIPTION:Tedèum. Càntic litúrgic de lloança i d’acció de gràcies a Déu. \nA càrrec de la Coral García Julbe
URL:https://diaridelmaestrat.com/agenda/vinaros-missa-i-tedeum/
LOCATION:Esglesia Arxiprestal de Vinaròs
CATEGORIES:Concerts,VINARÒS
ATTACH;FMTTYPE=image/jpeg:https://diaridelmaestrat.com/wp-content/uploads/2024/09/CArtell-713x1024-2.jpg
END:VEVENT
BEGIN:VEVENT
DTSTART;TZID=Europe/Helsinki:20240929T210000
DTEND;TZID=Europe/Helsinki:20240929T220000
DTSTAMP:20260422T173107
CREATED:20240909T125220Z
LAST-MODIFIED:20240909T125220Z
UID:355834-1727643600-1727647200@diaridelmaestrat.com
SUMMARY:Vinaròs - Repartiment del pastís
DESCRIPTION:Elaborat per l’Associació de Pastissers de Vinaròs\, dedicat al 783 aniversari de la Carta de Poblament
URL:https://diaridelmaestrat.com/agenda/vinaros-repartiment-del-pastis/
LOCATION:Plaça Parroquial
CATEGORIES:VINARÒS
ATTACH;FMTTYPE=image/jpeg:https://diaridelmaestrat.com/wp-content/uploads/2024/09/CArtell-713x1024-2.jpg
END:VEVENT
END:VCALENDAR