BEGIN:VCALENDAR
VERSION:2.0
PRODID:-//Diari del Maestrat - ECPv6.4.0//NONSGML v1.0//EN
CALSCALE:GREGORIAN
METHOD:PUBLISH
X-WR-CALNAME:Diari del Maestrat
X-ORIGINAL-URL:https://diaridelmaestrat.com
X-WR-CALDESC:Events for Diari del Maestrat
REFRESH-INTERVAL;VALUE=DURATION:PT1H
X-Robots-Tag:noindex
X-PUBLISHED-TTL:PT1H
BEGIN:VTIMEZONE
TZID:Europe/Helsinki
BEGIN:DAYLIGHT
TZOFFSETFROM:+0200
TZOFFSETTO:+0300
TZNAME:EEST
DTSTART:20240331T010000
END:DAYLIGHT
BEGIN:STANDARD
TZOFFSETFROM:+0300
TZOFFSETTO:+0200
TZNAME:EET
DTSTART:20241027T010000
END:STANDARD
END:VTIMEZONE
BEGIN:VEVENT
DTSTART;TZID=Europe/Helsinki:20240916T090000
DTEND;TZID=Europe/Helsinki:20241008T170000
DTSTAMP:20260422T160436
CREATED:20240917T113558Z
LAST-MODIFIED:20240917T113558Z
UID:357949-1726477200-1728406800@diaridelmaestrat.com
SUMMARY:Vinaròs - II Jornades de Cuina de la Tonyina Roja
DESCRIPTION:
URL:https://diaridelmaestrat.com/agenda/vinaros-ii-jornades-de-cuina-de-la-tonyina-roja/
LOCATION:Vinaròs
CATEGORIES:Gastronomia,VINARÒS
ATTACH;FMTTYPE=image/jpeg:https://diaridelmaestrat.com/wp-content/uploads/2024/09/Jornadas-Gastronomicas-del-Atun-Rojo-Vinaros-2024_0.jpg
END:VEVENT
BEGIN:VEVENT
DTSTART;TZID=Europe/Helsinki:20240926T080000
DTEND;TZID=Europe/Helsinki:20241013T170000
DTSTAMP:20260422T160436
CREATED:20240909T130102Z
LAST-MODIFIED:20240909T130102Z
UID:355843-1727337600-1728838800@diaridelmaestrat.com
SUMMARY:Vinaròs - Exposició sobre La Carta Pobla
DESCRIPTION:
URL:https://diaridelmaestrat.com/agenda/vinaros-exposicio-sobre-la-carta-pobla/
LOCATION:Auditori Municipal Wenceslao Ayguals de Izco\, Plaça de Sant Agustí\, 7\, 12500 Vinaròs\, Vinaròs\, Castellón\, 12500\, España
CATEGORIES:Exposicions,VINARÒS
ATTACH;FMTTYPE=image/jpeg:https://diaridelmaestrat.com/wp-content/uploads/2024/09/CArtell-713x1024-2.jpg
END:VEVENT
BEGIN:VEVENT
DTSTART;TZID=Europe/Helsinki:20241003T173000
DTEND;TZID=Europe/Helsinki:20241003T183000
DTSTAMP:20260422T160436
CREATED:20240909T125443Z
LAST-MODIFIED:20240930T114933Z
UID:355836-1727976600-1727980200@diaridelmaestrat.com
SUMMARY:Vinaròs - Tertúlia Literària Àgora "El Jardinero"
DESCRIPTION:El jardiner és un dels llibres més coneguts del poeta Rabindranath Tagore. Els seus textos\, de caràcter líric\, són reflexions sobre la vida\, l’amor\, la naturalesa i donen testimoniatge de l’espiritualitat i l’exquisida sensibilitat del poeta. ç \nPublicats originalment l’any 1913\, el suggeriment és una de les majors qualitats d’esta poesia\, de gran brevetat i bellesa\, que expressa els sentiments més primordials i purs
URL:https://diaridelmaestrat.com/agenda/vinaros-tertulia-literaria-agora-el-jardinero/
LOCATION:Saló d’Actes de la Biblioteca de Vinaròs
CATEGORIES:Tertulia Literaria,VINARÒS
ATTACH;FMTTYPE=image/jpeg:https://diaridelmaestrat.com/wp-content/uploads/2024/09/CArtell-713x1024-2.jpg
END:VEVENT
END:VCALENDAR