BEGIN:VCALENDAR
VERSION:2.0
PRODID:-//Diari del Maestrat - ECPv6.4.0//NONSGML v1.0//EN
CALSCALE:GREGORIAN
METHOD:PUBLISH
X-WR-CALNAME:Diari del Maestrat
X-ORIGINAL-URL:https://diaridelmaestrat.com
X-WR-CALDESC:Events for Diari del Maestrat
REFRESH-INTERVAL;VALUE=DURATION:PT1H
X-Robots-Tag:noindex
X-PUBLISHED-TTL:PT1H
BEGIN:VTIMEZONE
TZID:Europe/Helsinki
BEGIN:DAYLIGHT
TZOFFSETFROM:+0200
TZOFFSETTO:+0300
TZNAME:EEST
DTSTART:20240331T010000
END:DAYLIGHT
BEGIN:STANDARD
TZOFFSETFROM:+0300
TZOFFSETTO:+0200
TZNAME:EET
DTSTART:20241027T010000
END:STANDARD
END:VTIMEZONE
BEGIN:VEVENT
DTSTART;VALUE=DATE:20241017
DTEND;VALUE=DATE:20241104
DTSTAMP:20260422T160436
CREATED:20241016T120827Z
LAST-MODIFIED:20241016T120827Z
UID:363481-1729123200-1730678399@diaridelmaestrat.com
SUMMARY:Vinaròs - Exposició "L'Ermita de Vinaròs"
DESCRIPTION:
URL:https://diaridelmaestrat.com/agenda/vinaros-exposicio-lermita-de-vinaros/
LOCATION:Auditori Municipal Wenceslao Ayguals de Izco\, Plaça de Sant Agustí\, 7\, 12500 Vinaròs\, Vinaròs\, Castellón\, 12500\, España
CATEGORIES:Exposicions,VINARÒS
ATTACH;FMTTYPE=image/webp:https://diaridelmaestrat.com/wp-content/uploads/2024/10/69888a2eb7b498813f78f5d0ee066bdc-scaled-e1729080504231.webp
END:VEVENT
BEGIN:VEVENT
DTSTART;TZID=Europe/Helsinki:20241018T090000
DTEND;TZID=Europe/Helsinki:20241020T170000
DTSTAMP:20260422T160436
CREATED:20240930T115754Z
LAST-MODIFIED:20240930T115754Z
UID:361540-1729242000-1729443600@diaridelmaestrat.com
SUMMARY:Vinaròs - Gàmesis 2k24
DESCRIPTION:
URL:https://diaridelmaestrat.com/agenda/vinaros-gamesis-2k24/
LOCATION:Vinalab
CATEGORIES:VINARÒS
ATTACH;FMTTYPE=image/jpeg:https://diaridelmaestrat.com/wp-content/uploads/2024/09/Gamesis-2k24.jpg
END:VEVENT
BEGIN:VEVENT
DTSTART;TZID=Europe/Helsinki:20241018T173000
DTEND;TZID=Europe/Helsinki:20241018T183000
DTSTAMP:20260422T160436
CREATED:20241007T183011Z
LAST-MODIFIED:20241007T183011Z
UID:363025-1729272600-1729276200@diaridelmaestrat.com
SUMMARY:Vinaròs - Tertúlia Literària Àgora
DESCRIPTION:Obra: “Nunca Me Abandones”\, de Kazuo Ishiguro.\nLloc: Sala d’Actes Biblioteca Municipal Vinaròs.\nCol·labora: Ajuntament Vinaròs.\n\nSinopsi: \nEn la seua aparent neciesa s’amaga el mestratge d’Ishiguro\, qui ofereix una novel·la que sembla girar entorn d’n romanç juvenil\, però que darrere retrata una societat abstreta per la seua salut a costa de la vida d’uns altres. \nIshiguro és un mestre per a contar històries sòrdides a través d’ambients lluminosos i un llenguatge que sembla transparent. La claredat de la seua ploma despulla els costats més foscos de l’home contemporani
URL:https://diaridelmaestrat.com/agenda/vinaros-tertulia-literaria-agora/
LOCATION:Saló d’Actes de la Biblioteca de Vinaròs
CATEGORIES:Tertulia Literaria,VINARÒS
ATTACH;FMTTYPE=image/jpeg:https://diaridelmaestrat.com/wp-content/uploads/2024/10/thumb_24518_portadas_big.jpeg
END:VEVENT
BEGIN:VEVENT
DTSTART;TZID=Europe/Helsinki:20241018T190000
DTEND;TZID=Europe/Helsinki:20241018T200000
DTSTAMP:20260422T160436
CREATED:20240930T114618Z
LAST-MODIFIED:20240930T114618Z
UID:361515-1729278000-1729281600@diaridelmaestrat.com
SUMMARY:Vinaròs - Conferència "La Història Evolutiva Dels Equinoderms"
DESCRIPTION:
URL:https://diaridelmaestrat.com/agenda/vinaros-conferencia-la-historia-evolutiva-dels-equinoderms/
LOCATION:Auditori Carles Santos\, C/Socors\, 64\, Vinaròs\, Castellón\, 12500\, España
CATEGORIES:Conferències,VINARÒS
ATTACH;FMTTYPE=image/jpeg:https://diaridelmaestrat.com/wp-content/uploads/2024/09/cartell-definitiu-scaled.jpg
END:VEVENT
END:VCALENDAR