BEGIN:VCALENDAR
VERSION:2.0
PRODID:-//Diari del Maestrat - ECPv6.4.0//NONSGML v1.0//EN
CALSCALE:GREGORIAN
METHOD:PUBLISH
X-WR-CALNAME:Diari del Maestrat
X-ORIGINAL-URL:https://diaridelmaestrat.com
X-WR-CALDESC:Events for Diari del Maestrat
REFRESH-INTERVAL;VALUE=DURATION:PT1H
X-Robots-Tag:noindex
X-PUBLISHED-TTL:PT1H
BEGIN:VTIMEZONE
TZID:Europe/Helsinki
BEGIN:DAYLIGHT
TZOFFSETFROM:+0200
TZOFFSETTO:+0300
TZNAME:EEST
DTSTART:20240331T010000
END:DAYLIGHT
BEGIN:STANDARD
TZOFFSETFROM:+0300
TZOFFSETTO:+0200
TZNAME:EET
DTSTART:20241027T010000
END:STANDARD
END:VTIMEZONE
BEGIN:VEVENT
DTSTART;VALUE=DATE:20241017
DTEND;VALUE=DATE:20241104
DTSTAMP:20260422T160436
CREATED:20241016T120827Z
LAST-MODIFIED:20241016T120827Z
UID:363481-1729123200-1730678399@diaridelmaestrat.com
SUMMARY:Vinaròs - Exposició "L'Ermita de Vinaròs"
DESCRIPTION:
URL:https://diaridelmaestrat.com/agenda/vinaros-exposicio-lermita-de-vinaros/
LOCATION:Auditori Municipal Wenceslao Ayguals de Izco\, Plaça de Sant Agustí\, 7\, 12500 Vinaròs\, Vinaròs\, Castellón\, 12500\, España
CATEGORIES:Exposicions,VINARÒS
ATTACH;FMTTYPE=image/webp:https://diaridelmaestrat.com/wp-content/uploads/2024/10/69888a2eb7b498813f78f5d0ee066bdc-scaled-e1729080504231.webp
END:VEVENT
BEGIN:VEVENT
DTSTART;TZID=Europe/Helsinki:20241026T093000
DTEND;TZID=Europe/Helsinki:20241026T113000
DTSTAMP:20260422T160436
CREATED:20241017T115314Z
LAST-MODIFIED:20241017T115314Z
UID:364622-1729935000-1729942200@diaridelmaestrat.com
SUMMARY:Serra d'Irta - Activitat d'observació d'aus migratòries a la Serra d'Irta
DESCRIPTION:Amb motiu del Dia Mundial de les Aus Migratòries \, i en col·laboració amb APNAL- Ecologistes en Acció de Vinaròs\, aprendrem a identificar algunes de les espècies de l’entorn natural de la desembocadura del riu Sant Miquel i descobrirem el fascinant comportament d’aquestes incansables viatgeres. \nDADES DE L’ACTIVITAT \n\nDATA: Dissabte 26 d’octubre de 2024\nHORA: 09.30 h a 11.30 h\nLLOC: Desembocadura del riu Sant Miquel (Alcossebre) (enllaç del punt de trobada)\nINFORMACIÓ I INSCRIPCIONS: Als telèfons del parc natural 964 336 791 / 679 196 398 de 09.00 a 15.00 h.\nOBSERVACIONS: ACTIVITAT GRATUÏTA i per a TOTS ELS PÚBLICS.\nIMPORTANT: Les places són limitades i la inscripció és obligatòria.\n\nRecomanem portar roba i calçat adequat\, prismàtics\, esmorzar i aigua. \nAnima’t a participar!
URL:https://diaridelmaestrat.com/agenda/serra-dirta-activitat-dobservacio-daus-migratories-a-la-serra-dirta/
LOCATION:Desembocadura del riu Sant Miquel
CATEGORIES:COMARQUES,Visites Guiades
ATTACH;FMTTYPE=image/png:https://diaridelmaestrat.com/wp-content/uploads/2024/10/Cartel_AVES-MIGRATORIAS_26-10-2024-1.png
END:VEVENT
BEGIN:VEVENT
DTSTART;TZID=Europe/Helsinki:20241026T180000
DTEND;TZID=Europe/Helsinki:20241026T190000
DTSTAMP:20260422T160436
CREATED:20241011T103444Z
LAST-MODIFIED:20241024T092232Z
UID:363422-1729965600-1729969200@diaridelmaestrat.com
SUMMARY:Vinaròs - Representació de l'obra "On Vas\, Moby Dick?"
DESCRIPTION:Companyia: Centre de titelles de Lleida Produccions.\nLloc: Auditori Municipal.\nDuració: 45 min.\nPúblic: De 3 a 8 anys.\nPreu: 3€.\nIdioma: Valencià.\n\nSINOPSI \nA Tim li agrada molt veure el mar. Per això\, sempre que pot\, visita la seua àvia al seu poble de pescadors. Allí coneixerà Kalin\, una nena de la seua edat\, que li explicarà la història de Moby Dick. Tot jugant i fent volar la imaginació\, Tim i Kalin reviuran les aventures de la gran balena blanca per lliurar-se dels arpons del capità Ahab i seguir nedant lliure pels 7 mars.
URL:https://diaridelmaestrat.com/agenda/vinaros-representacio-de-lobra-on-vas-moby-dick/
LOCATION:Auditori Municipal Wenceslao Ayguals de Izco\, Plaça de Sant Agustí\, 7\, 12500 Vinaròs\, Vinaròs\, Castellón\, 12500\, España
CATEGORIES:Representacions,VINARÒS
ATTACH;FMTTYPE=image/jpeg:https://diaridelmaestrat.com/wp-content/uploads/2024/10/cq5dam.web_.1280.1280.jpeg
END:VEVENT
END:VCALENDAR