BEGIN:VCALENDAR
VERSION:2.0
PRODID:-//Diari del Maestrat - ECPv6.4.0//NONSGML v1.0//EN
CALSCALE:GREGORIAN
METHOD:PUBLISH
X-ORIGINAL-URL:https://diaridelmaestrat.com
X-WR-CALDESC:Events for Diari del Maestrat
REFRESH-INTERVAL;VALUE=DURATION:PT1H
X-Robots-Tag:noindex
X-PUBLISHED-TTL:PT1H
BEGIN:VTIMEZONE
TZID:Europe/Helsinki
BEGIN:DAYLIGHT
TZOFFSETFROM:+0200
TZOFFSETTO:+0300
TZNAME:EEST
DTSTART:20240331T010000
END:DAYLIGHT
BEGIN:STANDARD
TZOFFSETFROM:+0300
TZOFFSETTO:+0200
TZNAME:EET
DTSTART:20241027T010000
END:STANDARD
END:VTIMEZONE
BEGIN:VEVENT
DTSTART;VALUE=DATE:20241017
DTEND;VALUE=DATE:20241104
DTSTAMP:20260422T173140
CREATED:20241016T120827Z
LAST-MODIFIED:20241016T120827Z
UID:363481-1729123200-1730678399@diaridelmaestrat.com
SUMMARY:Vinaròs - Exposició "L'Ermita de Vinaròs"
DESCRIPTION:
URL:https://diaridelmaestrat.com/agenda/vinaros-exposicio-lermita-de-vinaros/
LOCATION:Auditori Municipal Wenceslao Ayguals de Izco\, Plaça de Sant Agustí\, 7\, 12500 Vinaròs\, Vinaròs\, Castellón\, 12500\, España
CATEGORIES:Exposicions,VINARÒS
ATTACH;FMTTYPE=image/webp:https://diaridelmaestrat.com/wp-content/uploads/2024/10/69888a2eb7b498813f78f5d0ee066bdc-scaled-e1729080504231.webp
END:VEVENT
BEGIN:VEVENT
DTSTART;TZID=Europe/Helsinki:20241027T100000
DTEND;TZID=Europe/Helsinki:20241027T130000
DTSTAMP:20260422T173140
CREATED:20240909T112715Z
LAST-MODIFIED:20240909T112715Z
UID:355752-1730023200-1730034000@diaridelmaestrat.com
SUMMARY:Vinaròs - II Marxa Contra El Càncer
DESCRIPTION:
URL:https://diaridelmaestrat.com/agenda/vinaros-ii-marxa-contra-el-cancer/
LOCATION:Envelat de l’Atlèntic
CATEGORIES:Esports,VINARÒS
ATTACH;FMTTYPE=image/jpeg:https://diaridelmaestrat.com/wp-content/uploads/2024/09/a567677c-966d-436b-93ab-63eab560b711.jpeg
END:VEVENT
BEGIN:VEVENT
DTSTART;TZID=Europe/Helsinki:20241027T193000
DTEND;TZID=Europe/Helsinki:20241027T203000
DTSTAMP:20260422T173140
CREATED:20241011T104204Z
LAST-MODIFIED:20241011T104204Z
UID:363424-1730057400-1730061000@diaridelmaestrat.com
SUMMARY:Vinaròs - Concert de David Ledesma
DESCRIPTION:Públic: Tots els públics.\nPreu: 5 euros.\nEstil: Contemporània\, versions conegudes.
URL:https://diaridelmaestrat.com/agenda/vinaros-concert-de-david-ledesma/
LOCATION:Auditori Municipal Wenceslao Ayguals de Izco\, Plaça de Sant Agustí\, 7\, 12500 Vinaròs\, Vinaròs\, Castellón\, 12500\, España
CATEGORIES:Concerts,VINARÒS
ATTACH;FMTTYPE=image/jpeg:https://diaridelmaestrat.com/wp-content/uploads/2024/10/David-Ledesma.jpg
END:VEVENT
END:VCALENDAR