BEGIN:VCALENDAR
VERSION:2.0
PRODID:-//Diari del Maestrat - ECPv6.4.0//NONSGML v1.0//EN
CALSCALE:GREGORIAN
METHOD:PUBLISH
X-WR-CALNAME:Diari del Maestrat
X-ORIGINAL-URL:https://diaridelmaestrat.com
X-WR-CALDESC:Events for Diari del Maestrat
REFRESH-INTERVAL;VALUE=DURATION:PT1H
X-Robots-Tag:noindex
X-PUBLISHED-TTL:PT1H
BEGIN:VTIMEZONE
TZID:Europe/Helsinki
BEGIN:DAYLIGHT
TZOFFSETFROM:+0200
TZOFFSETTO:+0300
TZNAME:EEST
DTSTART:20240331T010000
END:DAYLIGHT
BEGIN:STANDARD
TZOFFSETFROM:+0300
TZOFFSETTO:+0200
TZNAME:EET
DTSTART:20241027T010000
END:STANDARD
END:VTIMEZONE
BEGIN:VEVENT
DTSTART;TZID=Europe/Helsinki:20241102T113000
DTEND;TZID=Europe/Helsinki:20241125T130000
DTSTAMP:20260422T143149
CREATED:20241013T162851Z
LAST-MODIFIED:20241013T171417Z
UID:363428-1730547000-1732539600@diaridelmaestrat.com
SUMMARY:Vinaròs - VII Trobada de Muixerangues de Vinaròs
DESCRIPTION:Amb la participació de: \n\nLa Muixeranga de Barcelona.\nLa Muixeranga del Carraixet de València.\nLa Muixeranga de Vinaròs.\n\nHORARI \n\n11:30 h: Recepció.\n12:00 h: Cercavila pels carrers de costum.\n12:30 h: Actuació
URL:https://diaridelmaestrat.com/agenda/vinaros-vii-trobada-de-muixerangues-de-vinaros/
LOCATION:Plaça Parroquial
CATEGORIES:Folklore,VINARÒS
ATTACH;FMTTYPE=image/jpeg:https://diaridelmaestrat.com/wp-content/uploads/2024/10/vinaros-03.jpg
END:VEVENT
BEGIN:VEVENT
DTSTART;TZID=Europe/Helsinki:20241109T193000
DTEND;TZID=Europe/Helsinki:20241113T203000
DTSTAMP:20260422T143149
CREATED:20241105T142243Z
LAST-MODIFIED:20241105T142243Z
UID:367879-1731180600-1731529800@diaridelmaestrat.com
SUMMARY:Vinaròs - Conferència "Vinaròs - Mathausen: La Història Obligada Dels Triangles Blaus"
DESCRIPTION:
URL:https://diaridelmaestrat.com/agenda/vinaros-conferencia-vinaros-mathausen-la-historia-obligada-dels-triangles-blaus/
LOCATION:Auditori Carles Santos\, C/Socors\, 64\, Vinaròs\, Castellón\, 12500\, España
CATEGORIES:Conferències,VINARÒS
ATTACH;FMTTYPE=image/jpeg:https://diaridelmaestrat.com/wp-content/uploads/2024/11/cartell-Tana.jpg
END:VEVENT
BEGIN:VEVENT
DTSTART;TZID=Europe/Helsinki:20241112T080000
DTEND;TZID=Europe/Helsinki:20241124T170000
DTSTAMP:20260422T143149
CREATED:20241016T133001Z
LAST-MODIFIED:20241016T133001Z
UID:363487-1731398400-1732467600@diaridelmaestrat.com
SUMMARY:Vinaròs - Exposició del Certmamen d'Aquarel·la Puig Roda
DESCRIPTION:
URL:https://diaridelmaestrat.com/agenda/vinaros-exposicio-del-certmamen-daquarel%c2%b7la-puig-roda/
LOCATION:Seu de l’Associació Amics de Vinaròs
CATEGORIES:Exposicions,VINARÒS
ATTACH;FMTTYPE=image/webp:https://diaridelmaestrat.com/wp-content/uploads/2024/05/1700909165441-scaled-e1700910992712.jpg.webp
END:VEVENT
END:VCALENDAR