BEGIN:VCALENDAR
VERSION:2.0
PRODID:-//Diari del Maestrat - ECPv6.4.0//NONSGML v1.0//EN
CALSCALE:GREGORIAN
METHOD:PUBLISH
X-WR-CALNAME:Diari del Maestrat
X-ORIGINAL-URL:https://diaridelmaestrat.com
X-WR-CALDESC:Events for Diari del Maestrat
REFRESH-INTERVAL;VALUE=DURATION:PT1H
X-Robots-Tag:noindex
X-PUBLISHED-TTL:PT1H
BEGIN:VTIMEZONE
TZID:Europe/Helsinki
BEGIN:DAYLIGHT
TZOFFSETFROM:+0200
TZOFFSETTO:+0300
TZNAME:EEST
DTSTART:20240331T010000
END:DAYLIGHT
BEGIN:STANDARD
TZOFFSETFROM:+0300
TZOFFSETTO:+0200
TZNAME:EET
DTSTART:20241027T010000
END:STANDARD
END:VTIMEZONE
BEGIN:VEVENT
DTSTART;TZID=Europe/Helsinki:20241125T080000
DTEND;TZID=Europe/Helsinki:20241213T170000
DTSTAMP:20260422T131415
CREATED:20241210T133619Z
LAST-MODIFIED:20241210T133619Z
UID:374604-1732521600-1734109200@diaridelmaestrat.com
SUMMARY:Vinaròs - Exposició "Emplea Habilidad"
DESCRIPTION:“Emplea Habilitat” captura moments que reflecteixen les habilitats i talents de les persones amb discapacitat en el món laboral. \nA través d’històries reals i somiades\, aquesta exposició demostra que l’ocupació i la discapacitat són compatibles
URL:https://diaridelmaestrat.com/agenda/vinaros-exposicio-emplea-habilidad/
LOCATION:Biblioteca Municipal de Vinaròs
CATEGORIES:Exposicions,Nadal,VINARÒS
ATTACH;FMTTYPE=image/webp:https://diaridelmaestrat.com/wp-content/uploads/2024/12/Muestra-Fotografica-1.png.webp
END:VEVENT
BEGIN:VEVENT
DTSTART;VALUE=DATE:20241128
DTEND;VALUE=DATE:20241209
DTSTAMP:20260422T131415
CREATED:20241016T120539Z
LAST-MODIFIED:20241016T120539Z
UID:363483-1732752000-1733702399@diaridelmaestrat.com
SUMMARY:Vinaròs - Exposició de pintures d'Antonio Sastre
DESCRIPTION:
URL:https://diaridelmaestrat.com/agenda/vinaros-exposicio-de-pintures-dantonio-sastre/
LOCATION:Auditori Municipal Wenceslao Ayguals de Izco\, Plaça de Sant Agustí\, 7\, 12500 Vinaròs\, Vinaròs\, Castellón\, 12500\, España
CATEGORIES:Exposicions,VINARÒS
ATTACH;FMTTYPE=image/jpeg:https://diaridelmaestrat.com/wp-content/uploads/2024/10/expo-Antonio-Sastre_640.jpg
END:VEVENT
BEGIN:VEVENT
DTSTART;VALUE=DATE:20241128
DTEND;VALUE=DATE:20241216
DTSTAMP:20260422T131415
CREATED:20241210T133902Z
LAST-MODIFIED:20241210T133902Z
UID:374608-1732752000-1734307199@diaridelmaestrat.com
SUMMARY:Vinaròs - Exposició Pintures a l'Oli d'Antonio Sastre
DESCRIPTION:
URL:https://diaridelmaestrat.com/agenda/vinaros-exposicio-pintures-a-loli-dantonio-sastre/
LOCATION:Auditori Municipal Wenceslao Ayguals de Izco\, Plaça de Sant Agustí\, 7\, 12500 Vinaròs\, Vinaròs\, Castellón\, 12500\, España
CATEGORIES:Exposicions,Nadal,VINARÒS
ATTACH;FMTTYPE=image/jpeg:https://diaridelmaestrat.com/wp-content/uploads/2024/12/expo-audtorio-para-web-724x1024-1.jpg
END:VEVENT
BEGIN:VEVENT
DTSTART;TZID=Europe/Helsinki:20241201T193000
DTEND;TZID=Europe/Helsinki:20241201T213000
DTSTAMP:20260422T131415
CREATED:20241015T141707Z
LAST-MODIFIED:20241015T141707Z
UID:363462-1733081400-1733088600@diaridelmaestrat.com
SUMMARY:Vinaròs - Representació Teatral de l'obra "Regala'm Esta Nit"
DESCRIPTION:Companyia: Albena Produccions\nLloc: Auditori Municipal\nDuració: 80 min\nPúblic: Jove i adult\nPreu: 5 €\nIdioma: Valencià\n\nSINOPSI \nJoan i Laura\, dos vells amants a prop dels cinquanta\, es retroben vint anys després. La vida els ha portat per camins ben diferents\, però\, quan Laura li proposa començar de nou\, aquella nit es converteix en la més bonica de les seues vides. Només hi\nha un problema: Joan està somniant aquell encontre. En realitat\, Laura ha anat a veure’l perquè pateix una malaltia terminal i no vol acomiadar-se d’ell mentre passa al seu costat la darrera nit de la seua vida. Joan li fa viure una nit inoblidable\, com si la vida poguera ser com una obra de teatre on les coses sempre acaben bé. \nPerò\, ves per on\, Joan també està somniant tot allò. Finalment\, quan Laura realment arriba\, descobrim que és Joan qui té una malaltia terminal i potser aquella serà la darrera nit de la seua vida.
URL:https://diaridelmaestrat.com/agenda/vinaros-representacio-teatral-de-lobra-regalam-esta-nit/
LOCATION:Auditori Municipal Wenceslao Ayguals de Izco\, Plaça de Sant Agustí\, 7\, 12500 Vinaròs\, Vinaròs\, Castellón\, 12500\, España
CATEGORIES:Teatre,VINARÒS
ATTACH;FMTTYPE=image/jpeg:https://diaridelmaestrat.com/wp-content/uploads/2024/10/Regalam-Esta-Nit.jpg
END:VEVENT
END:VCALENDAR