BEGIN:VCALENDAR
VERSION:2.0
PRODID:-//Diari del Maestrat - ECPv6.4.0//NONSGML v1.0//EN
CALSCALE:GREGORIAN
METHOD:PUBLISH
X-ORIGINAL-URL:https://diaridelmaestrat.com
X-WR-CALDESC:Events for Diari del Maestrat
REFRESH-INTERVAL;VALUE=DURATION:PT1H
X-Robots-Tag:noindex
X-PUBLISHED-TTL:PT1H
BEGIN:VTIMEZONE
TZID:Europe/Helsinki
BEGIN:DAYLIGHT
TZOFFSETFROM:+0200
TZOFFSETTO:+0300
TZNAME:EEST
DTSTART:20240331T010000
END:DAYLIGHT
BEGIN:STANDARD
TZOFFSETFROM:+0300
TZOFFSETTO:+0200
TZNAME:EET
DTSTART:20241027T010000
END:STANDARD
BEGIN:DAYLIGHT
TZOFFSETFROM:+0200
TZOFFSETTO:+0300
TZNAME:EEST
DTSTART:20250330T010000
END:DAYLIGHT
BEGIN:STANDARD
TZOFFSETFROM:+0300
TZOFFSETTO:+0200
TZNAME:EET
DTSTART:20251026T010000
END:STANDARD
END:VTIMEZONE
BEGIN:VEVENT
DTSTART;VALUE=DATE:20241218
DTEND;VALUE=DATE:20250120
DTSTAMP:20260422T131546
CREATED:20241016T112242Z
LAST-MODIFIED:20241016T112242Z
UID:363485-1734480000-1737331199@diaridelmaestrat.com
SUMMARY:Vinaròs - Exposició de pinutres d'AFOVINA
DESCRIPTION:
URL:https://diaridelmaestrat.com/agenda/vinaros-exposicio-de-pinutres-dafovina/
LOCATION:Auditori Municipal Wenceslao Ayguals de Izco\, Plaça de Sant Agustí\, 7\, 12500 Vinaròs\, Vinaròs\, Castellón\, 12500\, España
CATEGORIES:Exposicions,VINARÒS
ATTACH;FMTTYPE=image/jpeg:https://diaridelmaestrat.com/wp-content/uploads/2024/10/20221221_190405-750x350-1.jpg
END:VEVENT
BEGIN:VEVENT
DTSTART;VALUE=DATE:20241220
DTEND;VALUE=DATE:20250102
DTSTAMP:20260422T131546
CREATED:20241210T134057Z
LAST-MODIFIED:20241210T134057Z
UID:374611-1734652800-1735775999@diaridelmaestrat.com
SUMMARY:Vinaròs - "III Exposició de Figures En Miniatura de Nanos I Gegants"
DESCRIPTION:
URL:https://diaridelmaestrat.com/agenda/vinaros-iii-exposicio-de-figures-en-miniatura-de-nanos-i-gegants/
LOCATION:Capella Santa Victòria
CATEGORIES:Exposicions,Nadal,VINARÒS
ATTACH;FMTTYPE=image/jpeg:https://diaridelmaestrat.com/wp-content/uploads/2024/12/img_PCfEKBv.jpg
END:VEVENT
BEGIN:VEVENT
DTSTART;VALUE=DATE:20241227
DTEND;VALUE=DATE:20241230
DTSTAMP:20260422T131546
CREATED:20241210T125710Z
LAST-MODIFIED:20241210T125710Z
UID:374567-1735257600-1735516799@diaridelmaestrat.com
SUMMARY:Vinaròs - Teatre Musical "Sonrisas y Lágrimas\, El Recital"
DESCRIPTION:Sinopsi: Una adaptació de la pel·lícula musical de 1965 protagonitzada per Julie Andrews\, basada en el musical de Rodgers i Hammerstein on es recullen les memòries de la família Von Trapp en plena annexió d’Àustria per part d’Alemanya. Alumnes i exalumnes dels grups adults i infantils de teatre i musical i alumnat de tècnica vocal commemoren així el 10 aniversari del despatx amb esta versió recital del musical on s’entremesclen els números musicals més icònics i escenes de la coneguda pel·lícula \nHoraris \n\nDivendres 27 de desembre 19.00 h \nDissabte 28 de desembre 19.00 h\nDiumenge 29 de desembre 17.00 h \n\nLloc: Auditori municipal \nEntrades a la venda a 15 € a Puro Teatro\, arts escèniques
URL:https://diaridelmaestrat.com/agenda/vinaros-teatre-musical-sonrisas-y-lagrimas-el-recital/
LOCATION:Auditori Municipal Wenceslao Ayguals de Izco\, Plaça de Sant Agustí\, 7\, 12500 Vinaròs\, Vinaròs\, Castellón\, 12500\, España
CATEGORIES:VINARÒS
ATTACH;FMTTYPE=image/png:https://diaridelmaestrat.com/wp-content/uploads/2024/12/images.png
END:VEVENT
BEGIN:VEVENT
DTSTART;VALUE=DATE:20241227
DTEND;VALUE=DATE:20241231
DTSTAMP:20260422T131546
CREATED:20241210T124558Z
LAST-MODIFIED:20241210T124558Z
UID:374557-1735257600-1735603199@diaridelmaestrat.com
SUMMARY:Vinaròs - Parc de Nadal
DESCRIPTION:
URL:https://diaridelmaestrat.com/agenda/vinaros-parc-de-nadal/
LOCATION:CEIP Assumpció
CATEGORIES:Nadal,VINARÒS
ATTACH;FMTTYPE=image/jpeg:https://diaridelmaestrat.com/wp-content/uploads/2024/12/20231226_123603-1024x577-1.jpg
END:VEVENT
BEGIN:VEVENT
DTSTART;TZID=Europe/Helsinki:20241227T173000
DTEND;TZID=Europe/Helsinki:20241227T183000
DTSTAMP:20260422T131546
CREATED:20241210T124940Z
LAST-MODIFIED:20241210T124940Z
UID:374561-1735320600-1735324200@diaridelmaestrat.com
SUMMARY:Vinaròs - Taller "Hagamos un Dulce Navideño"
DESCRIPTION:A càrrec de Moustache Café.\n\nPer a participar en els tallers cal preinscripció i tindre el carnet de la Xarxa Jove de Lectura Pública Valenciana.
URL:https://diaridelmaestrat.com/agenda/vinaros-taller-hagamos-un-dulce-navideno/
LOCATION:Saló d’Actes de la Biblioteca de Vinaròs
CATEGORIES:Nadal,VINARÒS
ATTACH;FMTTYPE=image/png:https://diaridelmaestrat.com/wp-content/uploads/2024/12/moustache-013.png
END:VEVENT
BEGIN:VEVENT
DTSTART;TZID=Europe/Helsinki:20241227T193000
DTEND;TZID=Europe/Helsinki:20241227T203000
DTSTAMP:20260422T131546
CREATED:20241210T125246Z
LAST-MODIFIED:20241210T125246Z
UID:374564-1735327800-1735331400@diaridelmaestrat.com
SUMMARY:Vinaròs - Tardeo amb Música
DESCRIPTION:Inspirat en la movida madrileña amb el grup de versions Noche Ochentera.
URL:https://diaridelmaestrat.com/agenda/vinaros-tardeo-amb-musica/
LOCATION:Espai de Nadal
CATEGORIES:Concerts,Nadal,VINARÒS
ATTACH;FMTTYPE=image/jpeg:https://diaridelmaestrat.com/wp-content/uploads/2024/12/NOCHE-OCHENTERA_1.jpg
END:VEVENT
END:VCALENDAR