BEGIN:VCALENDAR
VERSION:2.0
PRODID:-//Diari del Maestrat - ECPv6.4.0//NONSGML v1.0//EN
CALSCALE:GREGORIAN
METHOD:PUBLISH
X-ORIGINAL-URL:https://diaridelmaestrat.com
X-WR-CALDESC:Events for Diari del Maestrat
REFRESH-INTERVAL;VALUE=DURATION:PT1H
X-Robots-Tag:noindex
X-PUBLISHED-TTL:PT1H
BEGIN:VTIMEZONE
TZID:Europe/Helsinki
BEGIN:DAYLIGHT
TZOFFSETFROM:+0200
TZOFFSETTO:+0300
TZNAME:EEST
DTSTART:20240331T010000
END:DAYLIGHT
BEGIN:STANDARD
TZOFFSETFROM:+0300
TZOFFSETTO:+0200
TZNAME:EET
DTSTART:20241027T010000
END:STANDARD
BEGIN:DAYLIGHT
TZOFFSETFROM:+0200
TZOFFSETTO:+0300
TZNAME:EEST
DTSTART:20250330T010000
END:DAYLIGHT
BEGIN:STANDARD
TZOFFSETFROM:+0300
TZOFFSETTO:+0200
TZNAME:EET
DTSTART:20251026T010000
END:STANDARD
END:VTIMEZONE
BEGIN:VEVENT
DTSTART;VALUE=DATE:20241218
DTEND;VALUE=DATE:20250120
DTSTAMP:20260422T115628
CREATED:20241016T112242Z
LAST-MODIFIED:20241016T112242Z
UID:363485-1734480000-1737331199@diaridelmaestrat.com
SUMMARY:Vinaròs - Exposició de pinutres d'AFOVINA
DESCRIPTION:
URL:https://diaridelmaestrat.com/agenda/vinaros-exposicio-de-pinutres-dafovina/
LOCATION:Auditori Municipal Wenceslao Ayguals de Izco\, Plaça de Sant Agustí\, 7\, 12500 Vinaròs\, Vinaròs\, Castellón\, 12500\, España
CATEGORIES:Exposicions,VINARÒS
ATTACH;FMTTYPE=image/jpeg:https://diaridelmaestrat.com/wp-content/uploads/2024/10/20221221_190405-750x350-1.jpg
END:VEVENT
BEGIN:VEVENT
DTSTART;VALUE=DATE:20241220
DTEND;VALUE=DATE:20250102
DTSTAMP:20260422T115628
CREATED:20241210T134057Z
LAST-MODIFIED:20241210T134057Z
UID:374611-1734652800-1735775999@diaridelmaestrat.com
SUMMARY:Vinaròs - "III Exposició de Figures En Miniatura de Nanos I Gegants"
DESCRIPTION:
URL:https://diaridelmaestrat.com/agenda/vinaros-iii-exposicio-de-figures-en-miniatura-de-nanos-i-gegants/
LOCATION:Capella Santa Victòria
CATEGORIES:Exposicions,Nadal,VINARÒS
ATTACH;FMTTYPE=image/jpeg:https://diaridelmaestrat.com/wp-content/uploads/2024/12/img_PCfEKBv.jpg
END:VEVENT
BEGIN:VEVENT
DTSTART;TZID=Europe/Helsinki:20241231T120000
DTEND;TZID=Europe/Helsinki:20241231T130000
DTSTAMP:20260422T115628
CREATED:20241210T130214Z
LAST-MODIFIED:20241210T130214Z
UID:374576-1735646400-1735650000@diaridelmaestrat.com
SUMMARY:Vinaròs - Arribada de L'Home Dels Nassos
DESCRIPTION:Un home amb tants nassos com dies té l’any!!! El podreu trobar?\n\nHora: 12.00 \nPlaça dels Tres Reis. Cercavila pels carrers del centre i acomiadament de l’home dels nassos a l’Espai de Nadal (plaça de Sant Antoni)
URL:https://diaridelmaestrat.com/agenda/vinaros-arribada-de-lhome-dels-nassos/
LOCATION:Plaça dels Tres Reis
CATEGORIES:Cultura,Nadal,VINARÒS
ATTACH;FMTTYPE=image/jpeg:https://diaridelmaestrat.com/wp-content/uploads/2024/12/469201972_2239105153128091_6643210251680757199_n-1.jpg
END:VEVENT
END:VCALENDAR