BEGIN:VCALENDAR
VERSION:2.0
PRODID:-//Diari del Maestrat - ECPv6.4.0//NONSGML v1.0//EN
CALSCALE:GREGORIAN
METHOD:PUBLISH
X-WR-CALNAME:Diari del Maestrat
X-ORIGINAL-URL:https://diaridelmaestrat.com
X-WR-CALDESC:Events for Diari del Maestrat
REFRESH-INTERVAL;VALUE=DURATION:PT1H
X-Robots-Tag:noindex
X-PUBLISHED-TTL:PT1H
BEGIN:VTIMEZONE
TZID:Europe/Helsinki
BEGIN:DAYLIGHT
TZOFFSETFROM:+0200
TZOFFSETTO:+0300
TZNAME:EEST
DTSTART:20240331T010000
END:DAYLIGHT
BEGIN:STANDARD
TZOFFSETFROM:+0300
TZOFFSETTO:+0200
TZNAME:EET
DTSTART:20241027T010000
END:STANDARD
BEGIN:DAYLIGHT
TZOFFSETFROM:+0200
TZOFFSETTO:+0300
TZNAME:EEST
DTSTART:20250330T010000
END:DAYLIGHT
BEGIN:STANDARD
TZOFFSETFROM:+0300
TZOFFSETTO:+0200
TZNAME:EET
DTSTART:20251026T010000
END:STANDARD
END:VTIMEZONE
BEGIN:VEVENT
DTSTART;VALUE=DATE:20241218
DTEND;VALUE=DATE:20250120
DTSTAMP:20260422T120941
CREATED:20241016T112242Z
LAST-MODIFIED:20241016T112242Z
UID:363485-1734480000-1737331199@diaridelmaestrat.com
SUMMARY:Vinaròs - Exposició de pinutres d'AFOVINA
DESCRIPTION:
URL:https://diaridelmaestrat.com/agenda/vinaros-exposicio-de-pinutres-dafovina/
LOCATION:Auditori Municipal Wenceslao Ayguals de Izco\, Plaça de Sant Agustí\, 7\, 12500 Vinaròs\, Vinaròs\, Castellón\, 12500\, España
CATEGORIES:Exposicions,VINARÒS
ATTACH;FMTTYPE=image/jpeg:https://diaridelmaestrat.com/wp-content/uploads/2024/10/20221221_190405-750x350-1.jpg
END:VEVENT
BEGIN:VEVENT
DTSTART;TZID=Europe/Helsinki:20250104T100000
DTEND;TZID=Europe/Helsinki:20250104T200000
DTSTAMP:20260422T120941
CREATED:20241210T133021Z
LAST-MODIFIED:20241210T133021Z
UID:374597-1735984800-1736020800@diaridelmaestrat.com
SUMMARY:Vinaròs - Recepció dels Patges Reials
DESCRIPTION:Hora: De 10.00 a 13.30 i de 17.00 a 20.00
URL:https://diaridelmaestrat.com/agenda/vinaros-recepcio-dels-patges-reials/
LOCATION:Espai de Nadal
CATEGORIES:Nadal,VINARÒS
ATTACH;FMTTYPE=image/webp:https://diaridelmaestrat.com/wp-content/uploads/2024/12/Sin-titulo-1-copia.webp
END:VEVENT
BEGIN:VEVENT
DTSTART;TZID=Europe/Helsinki:20250104T110000
DTEND;TZID=Europe/Helsinki:20250104T130000
DTSTAMP:20260422T120941
CREATED:20241210T132821Z
LAST-MODIFIED:20241210T132821Z
UID:374594-1735988400-1735995600@diaridelmaestrat.com
SUMMARY:Vinaròs - Construcció de Mòbil de Nadal
DESCRIPTION:A càrrec d’Arte & Maña.\n\nPer a participar en els tallers cal preinscripció i tindre el carnet de la Xarxa de Lectura Pública Valenciana
URL:https://diaridelmaestrat.com/agenda/vinaros-construccio-de-mobil-de-nadal/
LOCATION:Mercat Municipal de Vinaròs\, Plaça de Sant Agustí\, 8\, Vinaròs\, Castellón\, 12500\, España
CATEGORIES:Nadal,VINARÒS
ATTACH;FMTTYPE=image/jpeg:https://diaridelmaestrat.com/wp-content/uploads/2024/12/73093d212f000c79f209b209f9e75b0f.jpg
END:VEVENT
END:VCALENDAR