BEGIN:VCALENDAR
VERSION:2.0
PRODID:-//Diari del Maestrat - ECPv6.4.0//NONSGML v1.0//EN
CALSCALE:GREGORIAN
METHOD:PUBLISH
X-WR-CALNAME:Diari del Maestrat
X-ORIGINAL-URL:https://diaridelmaestrat.com
X-WR-CALDESC:Events for Diari del Maestrat
REFRESH-INTERVAL;VALUE=DURATION:PT1H
X-Robots-Tag:noindex
X-PUBLISHED-TTL:PT1H
BEGIN:VTIMEZONE
TZID:Europe/Helsinki
BEGIN:DAYLIGHT
TZOFFSETFROM:+0200
TZOFFSETTO:+0300
TZNAME:EEST
DTSTART:20250330T010000
END:DAYLIGHT
BEGIN:STANDARD
TZOFFSETFROM:+0300
TZOFFSETTO:+0200
TZNAME:EET
DTSTART:20251026T010000
END:STANDARD
END:VTIMEZONE
BEGIN:VEVENT
DTSTART;TZID=Europe/Helsinki:20250125T100000
DTEND;TZID=Europe/Helsinki:20250125T130000
DTSTAMP:20260422T120940
CREATED:20250108T145635Z
LAST-MODIFIED:20250108T145635Z
UID:379727-1737799200-1737810000@diaridelmaestrat.com
SUMMARY:Vinaròs - XII Trobada d'Intercanvi de Plaques de Cava i Taps Corona
DESCRIPTION:Per cada ampolla de cava venuda es destinaran 2 € per l’A.C. Escola de Dolçaina i Percussió “Aquatrequaranta” de Catarroja.
URL:https://diaridelmaestrat.com/agenda/vinaros-xii-trobada-dintercanvi-de-plaques-de-cava-i-taps-corona/
LOCATION:Plaça Cardenal Tarancón
CATEGORIES:VINARÒS
ATTACH;FMTTYPE=image/jpeg:https://diaridelmaestrat.com/wp-content/uploads/2025/01/472373878_1064032078856214_7977186910606824161_n-1.jpg
END:VEVENT
BEGIN:VEVENT
DTSTART;TZID=Europe/Helsinki:20250125T190000
DTEND;TZID=Europe/Helsinki:20250125T200000
DTSTAMP:20260422T120940
CREATED:20250108T145802Z
LAST-MODIFIED:20250108T145802Z
UID:379731-1737831600-1737835200@diaridelmaestrat.com
SUMMARY:Vinaròs - Inauguració Exposició Fotogràfica "Un Passeig Per Les Illes Columbretes"
DESCRIPTION:
URL:https://diaridelmaestrat.com/agenda/vinaros-inauguracio-exposicio-fotografica-un-passeig-per-les-illes-columbretes/
LOCATION:Sala José Córdoba\, C/Socors\, 64\, Vinaròs\, Castellón\, 12500\, España
CATEGORIES:Exposicions,VINARÒS
ATTACH;FMTTYPE=image/jpeg:https://diaridelmaestrat.com/wp-content/uploads/2025/01/472390817_1064034508855971_1396590322982872780_n-1.jpg
END:VEVENT
END:VCALENDAR