BEGIN:VCALENDAR
VERSION:2.0
PRODID:-//Diari del Maestrat - ECPv6.4.0//NONSGML v1.0//EN
CALSCALE:GREGORIAN
METHOD:PUBLISH
X-ORIGINAL-URL:https://diaridelmaestrat.com
X-WR-CALDESC:Events for Diari del Maestrat
REFRESH-INTERVAL;VALUE=DURATION:PT1H
X-Robots-Tag:noindex
X-PUBLISHED-TTL:PT1H
BEGIN:VTIMEZONE
TZID:Europe/Helsinki
BEGIN:DAYLIGHT
TZOFFSETFROM:+0200
TZOFFSETTO:+0300
TZNAME:EEST
DTSTART:20250330T010000
END:DAYLIGHT
BEGIN:STANDARD
TZOFFSETFROM:+0300
TZOFFSETTO:+0200
TZNAME:EET
DTSTART:20251026T010000
END:STANDARD
END:VTIMEZONE
BEGIN:VEVENT
DTSTART;TZID=Europe/Helsinki:20250130T193000
DTEND;TZID=Europe/Helsinki:20250130T203000
DTSTAMP:20260422T101610
CREATED:20250108T150241Z
LAST-MODIFIED:20250108T150241Z
UID:379734-1738265400-1738269000@diaridelmaestrat.com
SUMMARY:Vinaròs - Presentació del llibre "La Decisió"
DESCRIPTION:A càrrec de l’autora Elena Fora\, amb la col·laboració de Josep Maria Pla i Mariona Alvila Terzi
URL:https://diaridelmaestrat.com/agenda/vinaros-presentacio-del-llibre-la-decisio/
LOCATION:Auditori Carles Santos\, C/Socors\, 64\, Vinaròs\, Castellón\, 12500\, España
CATEGORIES:Presentació de Llibres,VINARÒS
ATTACH;FMTTYPE=image/jpeg:https://diaridelmaestrat.com/wp-content/uploads/2025/01/472529471_1064035322189223_8720643224219800939_n-1.jpg
END:VEVENT
END:VCALENDAR