BEGIN:VCALENDAR
VERSION:2.0
PRODID:-//Diari del Maestrat - ECPv6.4.0//NONSGML v1.0//EN
CALSCALE:GREGORIAN
METHOD:PUBLISH
X-WR-CALNAME:Diari del Maestrat
X-ORIGINAL-URL:https://diaridelmaestrat.com
X-WR-CALDESC:Events for Diari del Maestrat
REFRESH-INTERVAL;VALUE=DURATION:PT1H
X-Robots-Tag:noindex
X-PUBLISHED-TTL:PT1H
BEGIN:VTIMEZONE
TZID:Europe/Helsinki
BEGIN:DAYLIGHT
TZOFFSETFROM:+0200
TZOFFSETTO:+0300
TZNAME:EEST
DTSTART:20250330T010000
END:DAYLIGHT
BEGIN:STANDARD
TZOFFSETFROM:+0300
TZOFFSETTO:+0200
TZNAME:EET
DTSTART:20251026T010000
END:STANDARD
END:VTIMEZONE
BEGIN:VEVENT
DTSTART;TZID=Europe/Helsinki:20250210T103000
DTEND;TZID=Europe/Helsinki:20250210T140000
DTSTAMP:20260422T101610
CREATED:20250210T124018Z
LAST-MODIFIED:20250210T124018Z
UID:385524-1739183400-1739196000@diaridelmaestrat.com
SUMMARY:Vinaròs - Jornada de presentación de Consulta
DESCRIPTION:IDENTIFICACIÓN DE SOLUCIONES INNOVADORAS PARA EL RETO \nSistema para la explotación de manera  unificada de las bases de datos de gestión  municipal para la mejora de la toma de decisiones y la gestión más eficiente y eficaz. \n\n10:30 h:  Apertura y bienvenida institucional Mª Dolores Miralles Mir\, alcaldesa del  Ayuntamiento de Vinaròs\n10:45 h:  ¿Qué es la Compra Pública de Innovación y la  Consulta Preliminar de Mercado? Concepto\,  oportunidades y beneficios Dª Laura Soto\, manager de Innovación Urbana en TECH Friendly\n11:00 h: Charla inspiradora: Conectando el futuro: BBDD  e integración de sistemas para una  administración interconectada  D. Pep Budi\, jefe del Dep. de Informática  del Ayuntamiento de Tarragona.\n11:20 h: XarxaTec D. José Bort\, presidente de XarxaTec\n11:40 h: Presentación del reto: Sistema para la  explotación de manera unificada de las bases de  datos de gestión municipal D. César Mones Valanzuela\, ingeniero informático\,  Dep. Informática del Ayuntamiento de Vinaròs  D. Jordi Tolosà Bel\, técnico nuevas tecnologías\,  Dep. Informática del Ayuntamiento de Vinaròs\n12:00 h: ¿Cómo participar en la Consulta Preliminar al Mercado? Dª. Laura Soto Frances\, manager de  Innovación Urbana de TECH Friendly\n12:15 h: Ruegos y preguntas.\n12:30 h: Aperitivo networking.
URL:https://diaridelmaestrat.com/agenda/vinaros-jornada-de-presentacion-de-consulta/
LOCATION:Centre de Coneixement de Vinaròs
CATEGORIES:VINARÒS,Xerrades
ATTACH;FMTTYPE=image/jpeg:https://diaridelmaestrat.com/wp-content/uploads/2025/02/475926862_615801117762623_7337232299481721246_n.jpg
END:VEVENT
END:VCALENDAR