BEGIN:VCALENDAR
VERSION:2.0
PRODID:-//Diari del Maestrat - ECPv6.4.0//NONSGML v1.0//EN
CALSCALE:GREGORIAN
METHOD:PUBLISH
X-WR-CALNAME:Diari del Maestrat
X-ORIGINAL-URL:https://diaridelmaestrat.com
X-WR-CALDESC:Events for Diari del Maestrat
REFRESH-INTERVAL;VALUE=DURATION:PT1H
X-Robots-Tag:noindex
X-PUBLISHED-TTL:PT1H
BEGIN:VTIMEZONE
TZID:Europe/Helsinki
BEGIN:DAYLIGHT
TZOFFSETFROM:+0200
TZOFFSETTO:+0300
TZNAME:EEST
DTSTART:20250330T010000
END:DAYLIGHT
BEGIN:STANDARD
TZOFFSETFROM:+0300
TZOFFSETTO:+0200
TZNAME:EET
DTSTART:20251026T010000
END:STANDARD
END:VTIMEZONE
BEGIN:VEVENT
DTSTART;TZID=Europe/Helsinki:20250214T193000
DTEND;TZID=Europe/Helsinki:20250214T203000
DTSTAMP:20260422T101610
CREATED:20250206T113159Z
LAST-MODIFIED:20250206T113159Z
UID:384912-1739561400-1739565000@diaridelmaestrat.com
SUMMARY:Vinaròs - Conferència "El Triunfo de la Igualdad en la Edad Media"
DESCRIPTION:
URL:https://diaridelmaestrat.com/agenda/vinaros-conferencia-el-triunfo-de-la-igualdad-en-la-edad-media/
LOCATION:Auditori Carles Santos\, C/Socors\, 64\, Vinaròs\, Castellón\, 12500\, España
CATEGORIES:Conferències,Cultura,VINARÒS
ATTACH;FMTTYPE=image/jpeg:https://diaridelmaestrat.com/wp-content/uploads/2025/02/conferencia-trangol-javier-mas-1.jpg
END:VEVENT
END:VCALENDAR