BEGIN:VCALENDAR
VERSION:2.0
PRODID:-//Diari del Maestrat - ECPv6.4.0//NONSGML v1.0//EN
CALSCALE:GREGORIAN
METHOD:PUBLISH
X-ORIGINAL-URL:https://diaridelmaestrat.com
X-WR-CALDESC:Events for Diari del Maestrat
REFRESH-INTERVAL;VALUE=DURATION:PT1H
X-Robots-Tag:noindex
X-PUBLISHED-TTL:PT1H
BEGIN:VTIMEZONE
TZID:Europe/Helsinki
BEGIN:DAYLIGHT
TZOFFSETFROM:+0200
TZOFFSETTO:+0300
TZNAME:EEST
DTSTART:20250330T010000
END:DAYLIGHT
BEGIN:STANDARD
TZOFFSETFROM:+0300
TZOFFSETTO:+0200
TZNAME:EET
DTSTART:20251026T010000
END:STANDARD
END:VTIMEZONE
BEGIN:VEVENT
DTSTART;TZID=Europe/Helsinki:20250226T183000
DTEND;TZID=Europe/Helsinki:20250226T193000
DTSTAMP:20260422T084836
CREATED:20250124T135753Z
LAST-MODIFIED:20250124T135753Z
UID:382554-1740594600-1740598200@diaridelmaestrat.com
SUMMARY:Vinaròs - Xerrada “Visibilització i prevenció de les violències a les xarxes socials i protecció front a la pornografia”
DESCRIPTION:
URL:https://diaridelmaestrat.com/agenda/vinaros-xerrada-visibilitzacio-i-prevencio-de-les-violencies-a-les-xarxes-socials-i-proteccio-front-a-la-pornografia/
LOCATION:Saló d’Actes de la Biblioteca de Vinaròs
CATEGORIES:VINARÒS,Xerrades
END:VEVENT
BEGIN:VEVENT
DTSTART;TZID=Europe/Helsinki:20250226T183000
DTEND;TZID=Europe/Helsinki:20250226T193000
DTSTAMP:20260422T084836
CREATED:20250224T112338Z
LAST-MODIFIED:20250224T112338Z
UID:388080-1740594600-1740598200@diaridelmaestrat.com
SUMMARY:Vinaròs - Xerrada "Visibilización y prevención de las violencias en redes sociales y protección frente a la pornografía"
DESCRIPTION:
URL:https://diaridelmaestrat.com/agenda/vinaros-xerrada-visibilizacion-y-prevencion-de-las-violencias-en-redes-sociales-y-proteccion-frente-a-la-pornografia/
LOCATION:Saló d’Actes de la Biblioteca de Vinaròs
CATEGORIES:VINARÒS,Xerrades
ATTACH;FMTTYPE=image/jpeg:https://diaridelmaestrat.com/wp-content/uploads/2025/02/480878550_993275139596244_7092244290264233406_n.jpg
END:VEVENT
END:VCALENDAR