BEGIN:VCALENDAR
VERSION:2.0
PRODID:-//Diari del Maestrat - ECPv6.4.0//NONSGML v1.0//EN
CALSCALE:GREGORIAN
METHOD:PUBLISH
X-WR-CALNAME:Diari del Maestrat
X-ORIGINAL-URL:https://diaridelmaestrat.com
X-WR-CALDESC:Events for Diari del Maestrat
REFRESH-INTERVAL;VALUE=DURATION:PT1H
X-Robots-Tag:noindex
X-PUBLISHED-TTL:PT1H
BEGIN:VTIMEZONE
TZID:Europe/Helsinki
BEGIN:DAYLIGHT
TZOFFSETFROM:+0200
TZOFFSETTO:+0300
TZNAME:EEST
DTSTART:20250330T010000
END:DAYLIGHT
BEGIN:STANDARD
TZOFFSETFROM:+0300
TZOFFSETTO:+0200
TZNAME:EET
DTSTART:20251026T010000
END:STANDARD
END:VTIMEZONE
BEGIN:VEVENT
DTSTART;TZID=Europe/Helsinki:20250306T171500
DTEND;TZID=Europe/Helsinki:20250306T181500
DTSTAMP:20260422T084812
CREATED:20250305T131609Z
LAST-MODIFIED:20250305T131609Z
UID:390211-1741281300-1741284900@diaridelmaestrat.com
SUMMARY:Vinaròs - Conferència "Recursos destinats a la dona en Serveis Socials"
DESCRIPTION:A càrrec de les tècniques de Serveis Socials\, Teresa Octavio i Sandra Vejarano.
URL:https://diaridelmaestrat.com/agenda/vinaros-conferencia-recursos-destinats-a-la-dona-en-serveis-socials/
LOCATION:Local de l’Associació de Mestresses de Casa
CATEGORIES:Conferències,VINARÒS
ATTACH;FMTTYPE=image/jpeg:https://diaridelmaestrat.com/wp-content/uploads/2025/03/Captura-1.jpg
END:VEVENT
BEGIN:VEVENT
DTSTART;TZID=Europe/Helsinki:20250306T193000
DTEND;TZID=Europe/Helsinki:20250306T203000
DTSTAMP:20260422T084812
CREATED:20250305T131901Z
LAST-MODIFIED:20250305T131901Z
UID:390215-1741289400-1741293000@diaridelmaestrat.com
SUMMARY:Vinaròs - Projecció del documental "Nasrin"
DESCRIPTION:
URL:https://diaridelmaestrat.com/agenda/vinaros-projeccio-del-documental-nasrin/
LOCATION:Auditori Carles Santos\, C/Socors\, 64\, Vinaròs\, Castellón\, 12500\, España
CATEGORIES:Cinema,VINARÒS
ATTACH;FMTTYPE=image/jpeg:https://diaridelmaestrat.com/wp-content/uploads/2025/03/NASRIN-copia-1.jpg
END:VEVENT
END:VCALENDAR