BEGIN:VCALENDAR
VERSION:2.0
PRODID:-//Diari del Maestrat - ECPv6.4.0//NONSGML v1.0//EN
CALSCALE:GREGORIAN
METHOD:PUBLISH
X-ORIGINAL-URL:https://diaridelmaestrat.com
X-WR-CALDESC:Events for Diari del Maestrat
REFRESH-INTERVAL;VALUE=DURATION:PT1H
X-Robots-Tag:noindex
X-PUBLISHED-TTL:PT1H
BEGIN:VTIMEZONE
TZID:Europe/Helsinki
BEGIN:DAYLIGHT
TZOFFSETFROM:+0200
TZOFFSETTO:+0300
TZNAME:EEST
DTSTART:20250330T010000
END:DAYLIGHT
BEGIN:STANDARD
TZOFFSETFROM:+0300
TZOFFSETTO:+0200
TZNAME:EET
DTSTART:20251026T010000
END:STANDARD
END:VTIMEZONE
BEGIN:VEVENT
DTSTART;TZID=Europe/Helsinki:20250307T120000
DTEND;TZID=Europe/Helsinki:20250307T123000
DTSTAMP:20260422T084835
CREATED:20250305T133238Z
LAST-MODIFIED:20250305T133238Z
UID:390225-1741348800-1741350600@diaridelmaestrat.com
SUMMARY:Vinaròs - Lectura del Manifest del Dia de la Dona
DESCRIPTION:
URL:https://diaridelmaestrat.com/agenda/vinaros-lectura-del-manifest-del-dia-de-la-dona/
LOCATION:Dependències de Serveis Socials
CATEGORIES:Lectura Manifest,VINARÒS
ATTACH;FMTTYPE=image/webp:https://diaridelmaestrat.com/wp-content/uploads/2025/03/22328f69-030d-4fd6-9b8f-5fc3dbbe8587.webp
END:VEVENT
BEGIN:VEVENT
DTSTART;TZID=Europe/Helsinki:20250307T183000
DTEND;TZID=Europe/Helsinki:20250307T193000
DTSTAMP:20260422T084835
CREATED:20250305T133424Z
LAST-MODIFIED:20250305T133424Z
UID:390229-1741372200-1741375800@diaridelmaestrat.com
SUMMARY:Vinaròs - Conferència "L'Evolució De La Moda Femenina Al Llarg Del Temps"
DESCRIPTION:Impartida per Conxa Solans
URL:https://diaridelmaestrat.com/agenda/vinaros-conferencia-levolucio-de-la-moda-femenina-al-llarg-del-temps/
LOCATION:Saló d’Actes de la Biblioteca de Vinaròs
CATEGORIES:Conferències,VINARÒS
ATTACH;FMTTYPE=image/jpeg:https://diaridelmaestrat.com/wp-content/uploads/2024/04/281c7d0c-1165-4801-a417-37722ac80790jpg3.jpg
END:VEVENT
END:VCALENDAR