BEGIN:VCALENDAR
VERSION:2.0
PRODID:-//Diari del Maestrat - ECPv6.4.0//NONSGML v1.0//EN
CALSCALE:GREGORIAN
METHOD:PUBLISH
X-WR-CALNAME:Diari del Maestrat
X-ORIGINAL-URL:https://diaridelmaestrat.com
X-WR-CALDESC:Events for Diari del Maestrat
REFRESH-INTERVAL;VALUE=DURATION:PT1H
X-Robots-Tag:noindex
X-PUBLISHED-TTL:PT1H
BEGIN:VTIMEZONE
TZID:Europe/Helsinki
BEGIN:DAYLIGHT
TZOFFSETFROM:+0200
TZOFFSETTO:+0300
TZNAME:EEST
DTSTART:20250330T010000
END:DAYLIGHT
BEGIN:STANDARD
TZOFFSETFROM:+0300
TZOFFSETTO:+0200
TZNAME:EET
DTSTART:20251026T010000
END:STANDARD
END:VTIMEZONE
BEGIN:VEVENT
DTSTART;TZID=Europe/Helsinki:20250308T110000
DTEND;TZID=Europe/Helsinki:20250308T120000
DTSTAMP:20260422T084812
CREATED:20250305T133749Z
LAST-MODIFIED:20250305T133749Z
UID:390231-1741431600-1741435200@diaridelmaestrat.com
SUMMARY:Vinaròs - Conferència "Las Geishas"
DESCRIPTION:Impartida per Pilar Bellés Pitarch. \nPresenta la regidora Mercedes García Baila.
URL:https://diaridelmaestrat.com/agenda/vinaros-conferencia-las-geishas/
LOCATION:Saló d’Actes de la Biblioteca de Vinaròs
CATEGORIES:Conferències,VINARÒS
ATTACH;FMTTYPE=image/jpeg:https://diaridelmaestrat.com/wp-content/uploads/2025/03/poemas-historias-y-leyendas.jpg
END:VEVENT
BEGIN:VEVENT
DTSTART;TZID=Europe/Helsinki:20250308T180000
DTEND;TZID=Europe/Helsinki:20250308T200000
DTSTAMP:20260422T084812
CREATED:20250303T120455Z
LAST-MODIFIED:20250303T120455Z
UID:389787-1741456800-1741464000@diaridelmaestrat.com
SUMMARY:Benicarló - Cavalcada del Ninot
DESCRIPTION:
URL:https://diaridelmaestrat.com/agenda/benicarlo-cavalcada-del-ninot/
LOCATION:Plaça de la Constitució de Benicarló
CATEGORIES:BENICARLÓ,Falles
ATTACH;FMTTYPE=image/jpeg:https://diaridelmaestrat.com/wp-content/uploads/2025/03/d2cdc8ba-f24f-42ed-a336-8715ec88c729jpg97.jpg
END:VEVENT
BEGIN:VEVENT
DTSTART;TZID=Europe/Helsinki:20250308T190000
DTEND;TZID=Europe/Helsinki:20250308T190000
DTSTAMP:20260422T084812
CREATED:20250305T134026Z
LAST-MODIFIED:20250305T134026Z
UID:390235-1741460400-1741460400@diaridelmaestrat.com
SUMMARY:Vinaròs - Manifestació Feminista del 8-M
DESCRIPTION:Organitzada per Femme Força Vinaròs\, Mènades d’Irta i L’Íbera.
URL:https://diaridelmaestrat.com/agenda/vinaros-manifestacio-feminista-del-8-m/
LOCATION:Plaça de l’Ajuntament
CATEGORIES:Manifestació,VINARÒS
ATTACH;FMTTYPE=image/webp:https://diaridelmaestrat.com/wp-content/uploads/2025/03/9a9219c2-34ab-4025-87ac-f5ce6c594c46.webp
END:VEVENT
BEGIN:VEVENT
DTSTART;TZID=Europe/Helsinki:20250308T201500
DTEND;TZID=Europe/Helsinki:20250308T211500
DTSTAMP:20260422T084813
CREATED:20250305T134303Z
LAST-MODIFIED:20250305T134303Z
UID:390239-1741464900-1741468500@diaridelmaestrat.com
SUMMARY:Vinaròs - Concert 8M a càrrec de la Coral García Julbe
DESCRIPTION:Dirigida per Marie Vallageas.
URL:https://diaridelmaestrat.com/agenda/vinaros-concert-8m-a-carrec-de-la-coral-garcia-julbe/
LOCATION:Església de Santa Magdalena
CATEGORIES:Concerts,VINARÒS
ATTACH;FMTTYPE=image/webp:https://diaridelmaestrat.com/wp-content/uploads/2023/09/IMG_1742.webp
END:VEVENT
END:VCALENDAR