BEGIN:VCALENDAR
VERSION:2.0
PRODID:-//Diari del Maestrat - ECPv6.4.0//NONSGML v1.0//EN
CALSCALE:GREGORIAN
METHOD:PUBLISH
X-WR-CALNAME:Diari del Maestrat
X-ORIGINAL-URL:https://diaridelmaestrat.com
X-WR-CALDESC:Events for Diari del Maestrat
REFRESH-INTERVAL;VALUE=DURATION:PT1H
X-Robots-Tag:noindex
X-PUBLISHED-TTL:PT1H
BEGIN:VTIMEZONE
TZID:Europe/Helsinki
BEGIN:DAYLIGHT
TZOFFSETFROM:+0200
TZOFFSETTO:+0300
TZNAME:EEST
DTSTART:20250330T010000
END:DAYLIGHT
BEGIN:STANDARD
TZOFFSETFROM:+0300
TZOFFSETTO:+0200
TZNAME:EET
DTSTART:20251026T010000
END:STANDARD
END:VTIMEZONE
BEGIN:VEVENT
DTSTART;TZID=Europe/Helsinki:20250320T180000
DTEND;TZID=Europe/Helsinki:20250320T190000
DTSTAMP:20260422T084812
CREATED:20250314T135000Z
LAST-MODIFIED:20250314T135000Z
UID:392360-1742493600-1742497200@diaridelmaestrat.com
SUMMARY:Vinaròs - Club de lectura "Les Ones"
DESCRIPTION:Llibre de Meravelles\, de Vicent Andrés Estellés. \n\nHora: 18.00\nLloc: Sala d’Actes Biblioteca Municipal\nOrganitza: Associació Cultural Dijous d’Arts\n\nSinopsi: El Llibre de meravelles de l’escriptor valencià Vicent Andrés Estellés\, és un poemari de 1971 considerat com un dels poemaris més emblemàtics de la poesia valenciana. És l’obra més famosa de l’escriptor valencià i la que el va portar a ser reconegut com el millor poeta valencià des d’Ausiàs March. Imprescindible\, fàcil de llegir\, bellíssim. Autor dels versos populars ‘No hi havia a València / dos amants com nosaltres…’
URL:https://diaridelmaestrat.com/agenda/vinaros-club-de-lectura-les-ones-2/
LOCATION:Saló d’Actes de la Biblioteca de Vinaròs
CATEGORIES:Cultura,VINARÒS
ATTACH;FMTTYPE=image/jpeg:https://diaridelmaestrat.com/wp-content/uploads/2025/03/61r8iluM6IL._AC_UF8941000_QL80_.jpg
END:VEVENT
END:VCALENDAR