BEGIN:VCALENDAR
VERSION:2.0
PRODID:-//Diari del Maestrat - ECPv6.4.0//NONSGML v1.0//EN
CALSCALE:GREGORIAN
METHOD:PUBLISH
X-ORIGINAL-URL:https://diaridelmaestrat.com
X-WR-CALDESC:Events for Diari del Maestrat
REFRESH-INTERVAL;VALUE=DURATION:PT1H
X-Robots-Tag:noindex
X-PUBLISHED-TTL:PT1H
BEGIN:VTIMEZONE
TZID:Europe/Helsinki
BEGIN:DAYLIGHT
TZOFFSETFROM:+0200
TZOFFSETTO:+0300
TZNAME:EEST
DTSTART:20250330T010000
END:DAYLIGHT
BEGIN:STANDARD
TZOFFSETFROM:+0300
TZOFFSETTO:+0200
TZNAME:EET
DTSTART:20251026T010000
END:STANDARD
END:VTIMEZONE
BEGIN:VEVENT
DTSTART;TZID=Europe/Helsinki:20250326T180000
DTEND;TZID=Europe/Helsinki:20250326T190000
DTSTAMP:20260422T085423
CREATED:20250124T135953Z
LAST-MODIFIED:20250325T142318Z
UID:382556-1743012000-1743015600@diaridelmaestrat.com
SUMMARY:Vinaròs - Xerrada “Què és l'atenció ràpida? Aprendre a identificar les principals fites del desenvolupament dels nens i nenes entre 0-6 anys així com les senyals d'alarma o "red flags""”
DESCRIPTION:
URL:https://diaridelmaestrat.com/agenda/vinaros-xerrada-que-es-latencio-rapida-aprendre-a-identificar-les-principals-fites-del-desenvolupament-dels-nens-i-nenes-entre-0-6-anys-aixi-com-les-senyals-dalarma-o-red-flags/
LOCATION:Saló d’Actes de la Biblioteca de Vinaròs
CATEGORIES:VINARÒS,Xerrades
ATTACH;FMTTYPE=image/jpeg:https://diaridelmaestrat.com/wp-content/uploads/2025/03/486619509_1016145337309224_7162924173550691424_n.jpg
END:VEVENT
END:VCALENDAR