BEGIN:VCALENDAR
VERSION:2.0
PRODID:-//Diari del Maestrat - ECPv6.4.0//NONSGML v1.0//EN
CALSCALE:GREGORIAN
METHOD:PUBLISH
X-WR-CALNAME:Diari del Maestrat
X-ORIGINAL-URL:https://diaridelmaestrat.com
X-WR-CALDESC:Events for Diari del Maestrat
REFRESH-INTERVAL;VALUE=DURATION:PT1H
X-Robots-Tag:noindex
X-PUBLISHED-TTL:PT1H
BEGIN:VTIMEZONE
TZID:Europe/Helsinki
BEGIN:DAYLIGHT
TZOFFSETFROM:+0200
TZOFFSETTO:+0300
TZNAME:EEST
DTSTART:20250330T010000
END:DAYLIGHT
BEGIN:STANDARD
TZOFFSETFROM:+0300
TZOFFSETTO:+0200
TZNAME:EET
DTSTART:20251026T010000
END:STANDARD
END:VTIMEZONE
BEGIN:VEVENT
DTSTART;TZID=Europe/Helsinki:20250328T213000
DTEND;TZID=Europe/Helsinki:20250328T223000
DTSTAMP:20260422T084812
CREATED:20250314T141101Z
LAST-MODIFIED:20250314T141101Z
UID:392376-1743197400-1743201000@diaridelmaestrat.com
SUMMARY:Vinaròs - Processó i lectura de les 7 Paraules
DESCRIPTION:XXXV Festivitat de la Serena Majestat del Crist dels Mariners. \nBaixada des de la Capella del Carme fins a la cala dels Pinets\, acompanyats per la Banda de Bombos i Tambors Crist dels Mariners.
URL:https://diaridelmaestrat.com/agenda/vinaros-processo-i-lectura-de-les-7-paraules/
LOCATION:Capella del Carme
CATEGORIES:Setmana Santa,VINARÒS
ATTACH;FMTTYPE=image/jpeg:https://diaridelmaestrat.com/wp-content/uploads/2025/03/IMG_2766-1400x934-1.jpg
END:VEVENT
END:VCALENDAR