BEGIN:VCALENDAR
VERSION:2.0
PRODID:-//Diari del Maestrat - ECPv6.4.0//NONSGML v1.0//EN
CALSCALE:GREGORIAN
METHOD:PUBLISH
X-WR-CALNAME:Diari del Maestrat
X-ORIGINAL-URL:https://diaridelmaestrat.com
X-WR-CALDESC:Events for Diari del Maestrat
REFRESH-INTERVAL;VALUE=DURATION:PT1H
X-Robots-Tag:noindex
X-PUBLISHED-TTL:PT1H
BEGIN:VTIMEZONE
TZID:Europe/Helsinki
BEGIN:DAYLIGHT
TZOFFSETFROM:+0200
TZOFFSETTO:+0300
TZNAME:EEST
DTSTART:20250330T010000
END:DAYLIGHT
BEGIN:STANDARD
TZOFFSETFROM:+0300
TZOFFSETTO:+0200
TZNAME:EET
DTSTART:20251026T010000
END:STANDARD
END:VTIMEZONE
BEGIN:VEVENT
DTSTART;TZID=Europe/Helsinki:20250329T190000
DTEND;TZID=Europe/Helsinki:20250329T200000
DTSTAMP:20260422T084813
CREATED:20250305T141329Z
LAST-MODIFIED:20250305T141416Z
UID:390261-1743274800-1743278400@diaridelmaestrat.com
SUMMARY:Vinaròs - Conferència de Mabel Lozano
DESCRIPTION:A càrrec de Mabel Lozano: Biografia del cadáver de una mujer (guanyador del Goya 2021) i Ava (guanyador del Goya 2024). Dirigit al públic en general
URL:https://diaridelmaestrat.com/agenda/vinaros-conferencia-de-mabel-lozano/
LOCATION:Saló d’Actes del Vinalab
CATEGORIES:Conferències,VINARÒS
ATTACH;FMTTYPE=image/jpeg:https://diaridelmaestrat.com/wp-content/uploads/2025/03/Mabel-Lozano-retrato2.jpg
END:VEVENT
BEGIN:VEVENT
DTSTART;TZID=Europe/Helsinki:20250329T200000
DTEND;TZID=Europe/Helsinki:20250329T210000
DTSTAMP:20260422T084813
CREATED:20250314T141420Z
LAST-MODIFIED:20250314T141420Z
UID:392381-1743278400-1743282000@diaridelmaestrat.com
SUMMARY:Vinaròs - Concert d’orgue i orquestra
DESCRIPTION:Organista: Augusto Belau \nOrquestra: Societat Musical La Alianza de Vinaròs \nDirectora: Sofía Zarzoso Castelló
URL:https://diaridelmaestrat.com/agenda/vinaros-concert-dorgue-i-orquestra/
LOCATION:Esglesia Arxiprestal de Vinaròs
CATEGORIES:Concerts,VINARÒS
ATTACH;FMTTYPE=image/jpeg:https://diaridelmaestrat.com/wp-content/uploads/2025/03/IMG_4010-1-750x350-1.jpg
END:VEVENT
END:VCALENDAR