BEGIN:VCALENDAR
VERSION:2.0
PRODID:-//Diari del Maestrat - ECPv6.4.0//NONSGML v1.0//EN
CALSCALE:GREGORIAN
METHOD:PUBLISH
X-ORIGINAL-URL:https://diaridelmaestrat.com
X-WR-CALDESC:Events for Diari del Maestrat
REFRESH-INTERVAL;VALUE=DURATION:PT1H
X-Robots-Tag:noindex
X-PUBLISHED-TTL:PT1H
BEGIN:VTIMEZONE
TZID:Europe/Helsinki
BEGIN:DAYLIGHT
TZOFFSETFROM:+0200
TZOFFSETTO:+0300
TZNAME:EEST
DTSTART:20250330T010000
END:DAYLIGHT
BEGIN:STANDARD
TZOFFSETFROM:+0300
TZOFFSETTO:+0200
TZNAME:EET
DTSTART:20251026T010000
END:STANDARD
END:VTIMEZONE
BEGIN:VEVENT
DTSTART;TZID=Europe/Helsinki:20250405T120000
DTEND;TZID=Europe/Helsinki:20250405T130000
DTSTAMP:20260422T072358
CREATED:20250318T110058Z
LAST-MODIFIED:20250318T111210Z
UID:393543-1743854400-1743858000@diaridelmaestrat.com
SUMMARY:Vinaròs - Teatre Professional Infantil "Voilà"
DESCRIPTION:Voilà \n\nCompanyia: JM Gestió Teatral Hora: 12.00\nLloc: Auditori Municipal Preu: 3 €\nPúblic: Familiar Idioma: Valencià\nGènere: Teatre d’objectes\, titelles\, ombres\, música i cançons\n\n Sinopsi. Dani es presenta davant de Fran\, el nou mestre de l’escola\, per parlar-li del seu fill de vuit anys: un xiquet amb certes dificultats per poder entaular relacions socials amb els altres companys. Fran\, lluny de veure la diferència de personalitat com una inconveniència\, li mostra un panorama completament enriquidor i ple de possibilitats. Malgrat els esforços de Fran\, Dani està preocupat a causa d’una història que va viure quan era xicotet i que no voldria que es tornara a repetir ara amb el seu fill. Sempre que hi ha un problema… hi ha una solució!
URL:https://diaridelmaestrat.com/agenda/vinaros-teatre-professional-infantil/
LOCATION:Auditori Municipal Wenceslao Ayguals de Izco\, Plaça de Sant Agustí\, 7\, 12500 Vinaròs\, Vinaròs\, Castellón\, 12500\, España
CATEGORIES:Teatre Infantil,VINARÒS
ATTACH;FMTTYPE=image/jpeg:https://diaridelmaestrat.com/wp-content/uploads/2025/03/Teatre.jpg
END:VEVENT
BEGIN:VEVENT
DTSTART;TZID=Europe/Helsinki:20250405T200000
DTEND;TZID=Europe/Helsinki:20250405T210000
DTSTAMP:20260422T072358
CREATED:20250318T110331Z
LAST-MODIFIED:20250318T110331Z
UID:393548-1743883200-1743886800@diaridelmaestrat.com
SUMMARY:Vinaròs - Concert de la Banda Simfònica de "La Alianza"
DESCRIPTION:
URL:https://diaridelmaestrat.com/agenda/vinaros-concert-de-la-banda-simfonica-de-la-alianza/
LOCATION:Auditori Municipal Wenceslao Ayguals de Izco\, Plaça de Sant Agustí\, 7\, 12500 Vinaròs\, Vinaròs\, Castellón\, 12500\, España
CATEGORIES:Concerts,VINARÒS
ATTACH;FMTTYPE=image/jpeg:https://diaridelmaestrat.com/wp-content/uploads/2025/03/IMG_20240929_124640-scaled-1.jpg
END:VEVENT
END:VCALENDAR