BEGIN:VCALENDAR
VERSION:2.0
PRODID:-//Diari del Maestrat - ECPv6.4.0//NONSGML v1.0//EN
CALSCALE:GREGORIAN
METHOD:PUBLISH
X-WR-CALNAME:Diari del Maestrat
X-ORIGINAL-URL:https://diaridelmaestrat.com
X-WR-CALDESC:Events for Diari del Maestrat
REFRESH-INTERVAL;VALUE=DURATION:PT1H
X-Robots-Tag:noindex
X-PUBLISHED-TTL:PT1H
BEGIN:VTIMEZONE
TZID:Europe/Helsinki
BEGIN:DAYLIGHT
TZOFFSETFROM:+0200
TZOFFSETTO:+0300
TZNAME:EEST
DTSTART:20250330T010000
END:DAYLIGHT
BEGIN:STANDARD
TZOFFSETFROM:+0300
TZOFFSETTO:+0200
TZNAME:EET
DTSTART:20251026T010000
END:STANDARD
END:VTIMEZONE
BEGIN:VEVENT
DTSTART;TZID=Europe/Helsinki:20250412T183000
DTEND;TZID=Europe/Helsinki:20250412T193000
DTSTAMP:20260422T072329
CREATED:20250318T111831Z
LAST-MODIFIED:20250318T111831Z
UID:393565-1744482600-1744486200@diaridelmaestrat.com
SUMMARY:Vinaròs - Representació De La Passió d’Ulldecona
DESCRIPTION:Declarada Tresor del Patrimoni Cultural Immaterial de Catalunya i Andorra. \nAmb la col·laboració de la Coral García Julbe i l’Orquestra de la Societat Musical La Alianza. \n Església Arxiprestal\, plaça de Sant Valent i plaça Parroquial
URL:https://diaridelmaestrat.com/agenda/vinaros-representacio-de-la-passio-dulldecona/
LOCATION:Esglesia Arxiprestal de Vinaròs
CATEGORIES:Setmana Santa,Ulldecona,VINARÒS
ATTACH;FMTTYPE=image/jpeg:https://diaridelmaestrat.com/wp-content/uploads/2025/03/foto2016-03-1.jpg
END:VEVENT
BEGIN:VEVENT
DTSTART;TZID=Europe/Helsinki:20250412T200000
DTEND;TZID=Europe/Helsinki:20250412T210000
DTSTAMP:20260422T072329
CREATED:20250318T112028Z
LAST-MODIFIED:20250318T112028Z
UID:393568-1744488000-1744491600@diaridelmaestrat.com
SUMMARY:Vinaròs - Reconeixement a l’Excel·lència Acadèmica
DESCRIPTION:
URL:https://diaridelmaestrat.com/agenda/vinaros-reconeixement-a-lexcel%c2%b7lencia-academica/
LOCATION:Auditori Municipal Wenceslao Ayguals de Izco\, Plaça de Sant Agustí\, 7\, 12500 Vinaròs\, Vinaròs\, Castellón\, 12500\, España
CATEGORIES:VINARÒS
ATTACH;FMTTYPE=image/jpeg:https://diaridelmaestrat.com/wp-content/uploads/2025/03/Grup_0.jpg
END:VEVENT
END:VCALENDAR