BEGIN:VCALENDAR
VERSION:2.0
PRODID:-//Diari del Maestrat - ECPv6.4.0//NONSGML v1.0//EN
CALSCALE:GREGORIAN
METHOD:PUBLISH
X-ORIGINAL-URL:https://diaridelmaestrat.com
X-WR-CALDESC:Events for Diari del Maestrat
REFRESH-INTERVAL;VALUE=DURATION:PT1H
X-Robots-Tag:noindex
X-PUBLISHED-TTL:PT1H
BEGIN:VTIMEZONE
TZID:Europe/Helsinki
BEGIN:DAYLIGHT
TZOFFSETFROM:+0200
TZOFFSETTO:+0300
TZNAME:EEST
DTSTART:20250330T010000
END:DAYLIGHT
BEGIN:STANDARD
TZOFFSETFROM:+0300
TZOFFSETTO:+0200
TZNAME:EET
DTSTART:20251026T010000
END:STANDARD
END:VTIMEZONE
BEGIN:VEVENT
DTSTART;TZID=Europe/Helsinki:20250424T193000
DTEND;TZID=Europe/Helsinki:20250424T213000
DTSTAMP:20260422T072358
CREATED:20250305T134739Z
LAST-MODIFIED:20250305T141948Z
UID:390247-1745523000-1745530200@diaridelmaestrat.com
SUMMARY:Vinaròs - Mirades de dona al cinema
DESCRIPTION:Projecció de la pel·lícula “Olvido” (2023)
URL:https://diaridelmaestrat.com/agenda/vinaros-mirades-de-dona-al-cinema-2/
LOCATION:Auditori Carles Santos\, C/Socors\, 64\, Vinaròs\, Castellón\, 12500\, España
CATEGORIES:Pel·lícules,VINARÒS
ATTACH;FMTTYPE=image/jpeg:https://diaridelmaestrat.com/wp-content/uploads/2025/03/MV5BNzIzZDQ5NDMtMThmMC00Y2JlLWFjYTMtOWYyNjQwMzQxZWY2XkEyXkFqcGc@._V1_FMjpg_UX1000_.jpg
END:VEVENT
END:VCALENDAR