BEGIN:VCALENDAR
VERSION:2.0
PRODID:-//Diari del Maestrat - ECPv6.4.0//NONSGML v1.0//EN
CALSCALE:GREGORIAN
METHOD:PUBLISH
X-WR-CALNAME:Diari del Maestrat
X-ORIGINAL-URL:https://diaridelmaestrat.com
X-WR-CALDESC:Events for Diari del Maestrat
REFRESH-INTERVAL;VALUE=DURATION:PT1H
X-Robots-Tag:noindex
X-PUBLISHED-TTL:PT1H
BEGIN:VTIMEZONE
TZID:Europe/Helsinki
BEGIN:DAYLIGHT
TZOFFSETFROM:+0200
TZOFFSETTO:+0300
TZNAME:EEST
DTSTART:20250330T010000
END:DAYLIGHT
BEGIN:STANDARD
TZOFFSETFROM:+0300
TZOFFSETTO:+0200
TZNAME:EET
DTSTART:20251026T010000
END:STANDARD
END:VTIMEZONE
BEGIN:VEVENT
DTSTART;TZID=Europe/Helsinki:20250426T190000
DTEND;TZID=Europe/Helsinki:20250426T200000
DTSTAMP:20260422T072329
CREATED:20250305T135446Z
LAST-MODIFIED:20250305T142104Z
UID:390255-1745694000-1745697600@diaridelmaestrat.com
SUMMARY:Vinaròs - Conferència d'Irene Roig Liverato
DESCRIPTION:A càrrec d’Inés Roig Liverato\, dissenyadora de vestuari per a cinema.
URL:https://diaridelmaestrat.com/agenda/vinaros-conferencia-direne-roig-liverato/
LOCATION:Auditori Carles Santos\, C/Socors\, 64\, Vinaròs\, Castellón\, 12500\, España
CATEGORIES:Conferències,VINARÒS
ATTACH;FMTTYPE=image/webp:https://diaridelmaestrat.com/wp-content/uploads/2025/03/INES.webp
END:VEVENT
END:VCALENDAR