BEGIN:VCALENDAR
VERSION:2.0
PRODID:-//Diari del Maestrat - ECPv6.4.0//NONSGML v1.0//EN
CALSCALE:GREGORIAN
METHOD:PUBLISH
X-ORIGINAL-URL:https://diaridelmaestrat.com
X-WR-CALDESC:Events for Diari del Maestrat
REFRESH-INTERVAL;VALUE=DURATION:PT1H
X-Robots-Tag:noindex
X-PUBLISHED-TTL:PT1H
BEGIN:VTIMEZONE
TZID:Europe/Helsinki
BEGIN:DAYLIGHT
TZOFFSETFROM:+0200
TZOFFSETTO:+0300
TZNAME:EEST
DTSTART:20250330T010000
END:DAYLIGHT
BEGIN:STANDARD
TZOFFSETFROM:+0300
TZOFFSETTO:+0200
TZNAME:EET
DTSTART:20251026T010000
END:STANDARD
END:VTIMEZONE
BEGIN:VEVENT
DTSTART;TZID=Europe/Helsinki:20250430T090000
DTEND;TZID=Europe/Helsinki:20250430T140000
DTSTAMP:20260422T055754
CREATED:20250305T141603Z
LAST-MODIFIED:20250305T142156Z
UID:390269-1746003600-1746021600@diaridelmaestrat.com
SUMMARY:Vinaròs - Conferència de Mabel Lozano per a l'alumnat
DESCRIPTION:A càrrec de Mabel Lozano\, per a alumnat de 4t ESO i 1r Batxillerat: Biografia del cadáver de una mujer; Con la Trata No Hay Trato; TikTok Trata; Ponte en su Piel; Trata\, manadas y prostitución 2.0
URL:https://diaridelmaestrat.com/agenda/vinaros-conferencia-de-mabel-lozano-per-a-lalumnat/
LOCATION:Saló d’Actes del Vinalab
CATEGORIES:Conferències,VINARÒS
ATTACH;FMTTYPE=image/jpeg:https://diaridelmaestrat.com/wp-content/uploads/2025/03/Mabel-Lozano-retrato2.jpg
END:VEVENT
END:VCALENDAR