BEGIN:VCALENDAR
VERSION:2.0
PRODID:-//Diari del Maestrat - ECPv6.4.0//NONSGML v1.0//EN
CALSCALE:GREGORIAN
METHOD:PUBLISH
X-WR-CALNAME:Diari del Maestrat
X-ORIGINAL-URL:https://diaridelmaestrat.com
X-WR-CALDESC:Events for Diari del Maestrat
REFRESH-INTERVAL;VALUE=DURATION:PT1H
X-Robots-Tag:noindex
X-PUBLISHED-TTL:PT1H
BEGIN:VTIMEZONE
TZID:Europe/Helsinki
BEGIN:DAYLIGHT
TZOFFSETFROM:+0200
TZOFFSETTO:+0300
TZNAME:EEST
DTSTART:20250330T010000
END:DAYLIGHT
BEGIN:STANDARD
TZOFFSETFROM:+0300
TZOFFSETTO:+0200
TZNAME:EET
DTSTART:20251026T010000
END:STANDARD
END:VTIMEZONE
BEGIN:VEVENT
DTSTART;VALUE=DATE:20250903
DTEND;VALUE=DATE:20250908
DTSTAMP:20260421T235946
CREATED:20250903T075519Z
LAST-MODIFIED:20250903T080247Z
UID:433526-1756857600-1757289599@diaridelmaestrat.com
SUMMARY:XXX Festa del Rei Jaume I (SALOU 2025)
DESCRIPTION: 
URL:https://diaridelmaestrat.com/agenda/xxx-festa-del-rei-jaume-i-salou-2025/
LOCATION:Castellón
CATEGORIES:COMARQUES
END:VEVENT
BEGIN:VEVENT
DTSTART;VALUE=DATE:20250905
DTEND;VALUE=DATE:20250908
DTSTAMP:20260421T235946
CREATED:20250903T075231Z
LAST-MODIFIED:20250903T075231Z
UID:433524-1757030400-1757289599@diaridelmaestrat.com
SUMMARY:Festes de la Balma a Rossell 2025
DESCRIPTION:Festes de la Balma a Rossell 2025 – Dies 5\, 6 i 7 de setembre \n \n 
URL:https://diaridelmaestrat.com/agenda/festes-de-la-balma-a-rossell-2025/
LOCATION:Castellón
CATEGORIES:COMARQUES,Rossell
END:VEVENT
BEGIN:VEVENT
DTSTART;TZID=Europe/Helsinki:20250906T180000
DTEND;TZID=Europe/Helsinki:20250906T203000
DTSTAMP:20260421T235946
CREATED:20250904T111047Z
LAST-MODIFIED:20250904T111047Z
UID:433796-1757181600-1757190600@diaridelmaestrat.com
SUMMARY:Vinaròs - Partit de "La Nostra Copa" entre l'U.D Sant Mateu i el Vinaròs C.F.
DESCRIPTION:
URL:https://diaridelmaestrat.com/agenda/vinaros-partit-de-la-nostra-copa-entre-lu-d-sant-mateu-i-el-vinaros-c-f/
LOCATION:Castellón
CATEGORIES:Futbol,VINARÒS
ATTACH;FMTTYPE=image/jpeg:https://diaridelmaestrat.com/wp-content/uploads/2025/09/541577506_17851103097541612_1770589097859217153_n.jpg
END:VEVENT
END:VCALENDAR