BEGIN:VCALENDAR
VERSION:2.0
PRODID:-//Diari del Maestrat - ECPv6.4.0//NONSGML v1.0//EN
CALSCALE:GREGORIAN
METHOD:PUBLISH
X-ORIGINAL-URL:https://diaridelmaestrat.com
X-WR-CALDESC:Events for Diari del Maestrat
REFRESH-INTERVAL;VALUE=DURATION:PT1H
X-Robots-Tag:noindex
X-PUBLISHED-TTL:PT1H
BEGIN:VTIMEZONE
TZID:Europe/Helsinki
BEGIN:DAYLIGHT
TZOFFSETFROM:+0200
TZOFFSETTO:+0300
TZNAME:EEST
DTSTART:20250330T010000
END:DAYLIGHT
BEGIN:STANDARD
TZOFFSETFROM:+0300
TZOFFSETTO:+0200
TZNAME:EET
DTSTART:20251026T010000
END:STANDARD
END:VTIMEZONE
BEGIN:VEVENT
DTSTART;VALUE=DATE:20250907
DTEND;VALUE=DATE:20250915
DTSTAMP:20260422T000214
CREATED:20250826T122013Z
LAST-MODIFIED:20250826T122013Z
UID:432250-1757203200-1757894399@diaridelmaestrat.com
SUMMARY:Peníscola - Festes Patronals
DESCRIPTION:
URL:https://diaridelmaestrat.com/agenda/peniscola-festes-patronals/
LOCATION:Castellón
CATEGORIES:Festes,PENÍSCOLA
ATTACH;FMTTYPE=image/png:https://diaridelmaestrat.com/wp-content/uploads/2025/08/imagen16353g.png
END:VEVENT
BEGIN:VEVENT
DTSTART;TZID=Europe/Helsinki:20250912T080000
DTEND;TZID=Europe/Helsinki:20250928T170000
DTSTAMP:20260422T000214
CREATED:20250904T100852Z
LAST-MODIFIED:20250904T100909Z
UID:433759-1757664000-1759078800@diaridelmaestrat.com
SUMMARY:Vinaròs - Nova Edició de "Vinaròs de Tapa En Tapa"
DESCRIPTION:
URL:https://diaridelmaestrat.com/agenda/vinaros-nova-edicio-de-vinaros-de-tapa-en-tapa/
LOCATION:Vinaròs
CATEGORIES:Rutes Gastronòmiques,VINARÒS
ATTACH;FMTTYPE=image/jpeg:https://diaridelmaestrat.com/wp-content/uploads/2025/09/VINAROS-DE-TAPA-EN-TAPA.jpeg
END:VEVENT
BEGIN:VEVENT
DTSTART;TZID=Europe/Helsinki:20250913T110000
DTEND;TZID=Europe/Helsinki:20250913T130000
DTSTAMP:20260422T000214
CREATED:20250903T102611Z
LAST-MODIFIED:20250903T102611Z
UID:433557-1757761200-1757768400@diaridelmaestrat.com
SUMMARY:Vinaròs - Taller d’introducció al circ
DESCRIPTION:MALABARS\, EQUILIBRIS\, CLOWN… \n\nPúblic: Familiar de 3 a 12 anys\nDuració: 120 minuts \nSinopsi \nVine a tocar el circ amb les mans! Una activitat lúdica on descobrir els elements del circ mitjançant el joc i l’experimentació. \nConeixerem les tècniques bàsiques dels malabars\, les acrobàcies i els equilibris en un ambient divertit i participatiu. \nTot el món pot ser artista per un dia!
URL:https://diaridelmaestrat.com/agenda/vinaros-taller-dintroduccio-al-circ/
LOCATION:Biblioplatja de Vinaròs
CATEGORIES:Circ,Festivals,VINARÒS
ATTACH;FMTTYPE=image/jpeg:https://diaridelmaestrat.com/wp-content/uploads/2025/09/Foto-Agenda-3.jpg
END:VEVENT
BEGIN:VEVENT
DTSTART;TZID=Europe/Helsinki:20250913T190000
DTEND;TZID=Europe/Helsinki:20250913T190000
DTSTAMP:20260422T000214
CREATED:20250903T102913Z
LAST-MODIFIED:20250903T102913Z
UID:433560-1757790000-1757790000@diaridelmaestrat.com
SUMMARY:Vinaròs - Save the temazo
DESCRIPTION:Companyia: Col·lectiu F.R.E.N.È.T.I.C.\nIdioma: Valencià i castellà Públic: Tots els públics\n\nSinopsi \nA mig camí entre la realitat i la ficció\, entre el teatre i el circ\, el Col·lectiu F.R.E.N.È.T.I.C presenta una ONG molt particular. \nSave the Temazo és una ONG que investiga les interrelacions entre la música\, les emocions i la festa en general. Per a difondre tan noble labor\, la delegació de Circ està realitzant el rodatge d’un vídeo promocional on el públic participa activament. \nTrapezis\, dansa vertical\, equilibris impossibles… tota una sèrie d’experiències que fan estremir la percepció de la realitat. \nFitxa artística \n\nIdea i creació: Col·lectiu F.R.E.N.È.T.I.C \nDirecció: Jimena Cavaletti \nIntèrprets: Gonzalo Fernández\, Raúl García\, Suso Imbernón\, Matías Marré\, Marilén Ribot\nEscenografia: Col·lectiu F.R.E.N.È.T.I.C \nVestuari: Sara Recatalà
URL:https://diaridelmaestrat.com/agenda/vinaros-save-the-temazo/
LOCATION:Pèrgola del Passeig Colom
CATEGORIES:Circ,Cultura,Festivals,VINARÒS
ATTACH;FMTTYPE=image/jpeg:https://diaridelmaestrat.com/wp-content/uploads/2025/09/Foto-Agenda-4.jpg
END:VEVENT
BEGIN:VEVENT
DTSTART;TZID=Europe/Helsinki:20250913T200000
DTEND;TZID=Europe/Helsinki:20250913T210000
DTSTAMP:20260422T000214
CREATED:20250911T201628Z
LAST-MODIFIED:20250911T201628Z
UID:435840-1757793600-1757797200@diaridelmaestrat.com
SUMMARY:Vinaròs - Concert d'Intercanvi entre la Coral Garcia Julbe i Les Camaraes
DESCRIPTION:
URL:https://diaridelmaestrat.com/agenda/vinaros-concert-dintercanvi-entre-la-coral-garcia-julbe-i-les-camaraes/
LOCATION:Auditori Municipal Wenceslao Ayguals de Izco\, Plaça de Sant Agustí\, 7\, 12500 Vinaròs\, Vinaròs\, Castellón\, 12500\, España
CATEGORIES:Concerts,Cultura,VINARÒS
ATTACH;FMTTYPE=image/jpeg:https://diaridelmaestrat.com/wp-content/uploads/2025/09/Auditori.jpeg
END:VEVENT
END:VCALENDAR