BEGIN:VCALENDAR
VERSION:2.0
PRODID:-//Diari del Maestrat - ECPv6.4.0//NONSGML v1.0//EN
CALSCALE:GREGORIAN
METHOD:PUBLISH
X-ORIGINAL-URL:https://diaridelmaestrat.com
X-WR-CALDESC:Events for Diari del Maestrat
REFRESH-INTERVAL;VALUE=DURATION:PT1H
X-Robots-Tag:noindex
X-PUBLISHED-TTL:PT1H
BEGIN:VTIMEZONE
TZID:Europe/Helsinki
BEGIN:DAYLIGHT
TZOFFSETFROM:+0200
TZOFFSETTO:+0300
TZNAME:EEST
DTSTART:20250330T010000
END:DAYLIGHT
BEGIN:STANDARD
TZOFFSETFROM:+0300
TZOFFSETTO:+0200
TZNAME:EET
DTSTART:20251026T010000
END:STANDARD
END:VTIMEZONE
BEGIN:VEVENT
DTSTART;VALUE=DATE:20250907
DTEND;VALUE=DATE:20250915
DTSTAMP:20260422T000116
CREATED:20250826T122013Z
LAST-MODIFIED:20250826T122013Z
UID:432250-1757203200-1757894399@diaridelmaestrat.com
SUMMARY:Peníscola - Festes Patronals
DESCRIPTION:
URL:https://diaridelmaestrat.com/agenda/peniscola-festes-patronals/
LOCATION:Castellón
CATEGORIES:Festes,PENÍSCOLA
ATTACH;FMTTYPE=image/png:https://diaridelmaestrat.com/wp-content/uploads/2025/08/imagen16353g.png
END:VEVENT
BEGIN:VEVENT
DTSTART;TZID=Europe/Helsinki:20250912T080000
DTEND;TZID=Europe/Helsinki:20250928T170000
DTSTAMP:20260422T000116
CREATED:20250904T100852Z
LAST-MODIFIED:20250904T100909Z
UID:433759-1757664000-1759078800@diaridelmaestrat.com
SUMMARY:Vinaròs - Nova Edició de "Vinaròs de Tapa En Tapa"
DESCRIPTION:
URL:https://diaridelmaestrat.com/agenda/vinaros-nova-edicio-de-vinaros-de-tapa-en-tapa/
LOCATION:Vinaròs
CATEGORIES:Rutes Gastronòmiques,VINARÒS
ATTACH;FMTTYPE=image/jpeg:https://diaridelmaestrat.com/wp-content/uploads/2025/09/VINAROS-DE-TAPA-EN-TAPA.jpeg
END:VEVENT
BEGIN:VEVENT
DTSTART;TZID=Europe/Helsinki:20250914T120000
DTEND;TZID=Europe/Helsinki:20250914T130000
DTSTAMP:20260422T000116
CREATED:20250904T102158Z
LAST-MODIFIED:20250904T102158Z
UID:433762-1757851200-1757854800@diaridelmaestrat.com
SUMMARY:Peñíscola - XLI Cicle de Concerts Música Clàssica (Missa i Plegària del Pescador)
DESCRIPTION:Coral Polifónica de Peñíscola.\nOrquesta de Cámara Santa María.\nRaquel Bayarri Bayarri\, directora.\n\nPrograma de concierto\nMisa y plegaria del Pescador\nMúsica: Vittorio cacciatori\nLetra: Juan Bautista Simó\n1. Kyrie\n2. Gloria\n3. Sanctus\n4. Agnus dei\n5. Plegaria del pescador \nLetra de la plegaria:\nEstem ací\, Nostre Senyor\ndes de la pedra\nsempre la mar.\nEstem ací\, Nostre Senyor\na l’albada blava del cel i mar\,\namb nostres xarxes i il·lusions.\nSalva’ns del naufragi\nPare Totpoderós;\na la barca que és la vida\nsigues nostre patró\,\ni allunyant-nos de boirines\nporta’ns per les clarors.\nAmaina la mar\, adreça el timó.\nGlòria a Déu!\nanem a Pescar
URL:https://diaridelmaestrat.com/agenda/peniscola-xli-cicle-de-concerts-musica-classica-missa-i-plegaria-del-pescador/
LOCATION:Església de Santa Maria de Peníscola
CATEGORIES:Concerts,PENÍSCOLA
ATTACH;FMTTYPE=image/jpeg:https://diaridelmaestrat.com/wp-content/uploads/2025/09/Foto-Agenda-1-1.jpg
END:VEVENT
END:VCALENDAR