BEGIN:VCALENDAR
VERSION:2.0
PRODID:-//Diari del Maestrat - ECPv6.4.0//NONSGML v1.0//EN
CALSCALE:GREGORIAN
METHOD:PUBLISH
X-ORIGINAL-URL:https://diaridelmaestrat.com
X-WR-CALDESC:Events for Diari del Maestrat
REFRESH-INTERVAL;VALUE=DURATION:PT1H
X-Robots-Tag:noindex
X-PUBLISHED-TTL:PT1H
BEGIN:VTIMEZONE
TZID:Europe/Helsinki
BEGIN:DAYLIGHT
TZOFFSETFROM:+0200
TZOFFSETTO:+0300
TZNAME:EEST
DTSTART:20250330T010000
END:DAYLIGHT
BEGIN:STANDARD
TZOFFSETFROM:+0300
TZOFFSETTO:+0200
TZNAME:EET
DTSTART:20251026T010000
END:STANDARD
END:VTIMEZONE
BEGIN:VEVENT
DTSTART;TZID=Europe/Helsinki:20250912T080000
DTEND;TZID=Europe/Helsinki:20250928T170000
DTSTAMP:20260422T000116
CREATED:20250904T100852Z
LAST-MODIFIED:20250904T100909Z
UID:433759-1757664000-1759078800@diaridelmaestrat.com
SUMMARY:Vinaròs - Nova Edició de "Vinaròs de Tapa En Tapa"
DESCRIPTION:
URL:https://diaridelmaestrat.com/agenda/vinaros-nova-edicio-de-vinaros-de-tapa-en-tapa/
LOCATION:Vinaròs
CATEGORIES:Rutes Gastronòmiques,VINARÒS
ATTACH;FMTTYPE=image/jpeg:https://diaridelmaestrat.com/wp-content/uploads/2025/09/VINAROS-DE-TAPA-EN-TAPA.jpeg
END:VEVENT
BEGIN:VEVENT
DTSTART;TZID=Europe/Helsinki:20250918T190000
DTEND;TZID=Europe/Helsinki:20250918T200000
DTSTAMP:20260422T000116
CREATED:20250904T102738Z
LAST-MODIFIED:20250904T103015Z
UID:433769-1758222000-1758225600@diaridelmaestrat.com
SUMMARY:Peñíscola - XLI Cicle de Concerts Música Clàssica (Quintet de la Orquesta de Cámara de la Sociedad Filarmónica de Valencia)
DESCRIPTION:Irene Vilanova\, violín.\nCristina Sánchez\, violín.\nHéctor Rossell\, viola.\nSamuel C. Ledesma\, chelo.\nCelia Fernández\, chelo.\n\nPrograma de concierto \nQuinteto para cuerdas | franz schuBert\nen Do mayor D. 956 (1797-1828)\nI. Allegro ma non troppo\nII. Adagio\nIII. Scherzo. Presto – Trio.\nAndante sostenuto\nIV. Allegretto\nQuinteto de cuerda | luigi Boccherini\nop. 11 n.º 5\, G. 275 (1743-1805)\nIII. Minuetto \nEntrada: 5 €.
URL:https://diaridelmaestrat.com/agenda/peniscola-xli-cicle-de-concerts-musica-classica-quintet-de-la-orquesta-de-camara-de-la-sociedad-filarmonica-de-valencia/
LOCATION:Saló Gòtic del Castell
CATEGORIES:Concerts,PENÍSCOLA
ATTACH;FMTTYPE=image/jpeg:https://diaridelmaestrat.com/wp-content/uploads/2025/09/Foto-Agenda-3-1.jpg
END:VEVENT
BEGIN:VEVENT
DTSTART;TZID=Europe/Helsinki:20250918T200000
DTEND;TZID=Europe/Helsinki:20250918T200000
DTSTAMP:20260422T000116
CREATED:20250903T104051Z
LAST-MODIFIED:20250903T104051Z
UID:433563-1758225600-1758225600@diaridelmaestrat.com
SUMMARY:Vinaròs - Rube
DESCRIPTION:Companyia: Alodeyá Circo Danza.\n\nPreu: 3 € \nAbonament Circuit Cultural  \nPúblic: Tots els públics \nSinopsi: \nUna màquina de Rube Goldberg que desencadena sorprenents i divertits efectes dominó\, serà muntada sobre l’escenari a poc a poc durant l’espectacle. Aquesta és la trama. \nQuan veges volar els objectes\, pensa que el secret està en la física. \nMoviments hipnòtics dels malabars amb tubs imantats\, pilotes\, diàbolos i maces de llum programades al mil·lisegon formen un espectacle basat en les lleis de la física dut a terme per dos enginyers amb gairebé vint anys de trajectòria escènica. \nFísica i circ es fonen amb l’humor per posar en escena Rube. \nFitxa artística \n\nDirecció: David Ardid.\nAutors: Eduardo Lostal\, Ignacio Pons i David Ardid \nIntèrprets: Ignacio Pons i Eduardo Lostal
URL:https://diaridelmaestrat.com/agenda/vinaros-rube/
LOCATION:Auditori Municipal Wenceslao Ayguals de Izco\, Plaça de Sant Agustí\, 7\, 12500 Vinaròs\, Vinaròs\, Castellón\, 12500\, España
CATEGORIES:Cultura,Festivals,VINARÒS
ATTACH;FMTTYPE=image/jpeg:https://diaridelmaestrat.com/wp-content/uploads/2025/09/Foto-Agenda-5.jpg
END:VEVENT
END:VCALENDAR