BEGIN:VCALENDAR
VERSION:2.0
PRODID:-//Diari del Maestrat - ECPv6.4.0//NONSGML v1.0//EN
CALSCALE:GREGORIAN
METHOD:PUBLISH
X-WR-CALNAME:Diari del Maestrat
X-ORIGINAL-URL:https://diaridelmaestrat.com
X-WR-CALDESC:Events for Diari del Maestrat
REFRESH-INTERVAL;VALUE=DURATION:PT1H
X-Robots-Tag:noindex
X-PUBLISHED-TTL:PT1H
BEGIN:VTIMEZONE
TZID:Europe/Helsinki
BEGIN:DAYLIGHT
TZOFFSETFROM:+0200
TZOFFSETTO:+0300
TZNAME:EEST
DTSTART:20250330T010000
END:DAYLIGHT
BEGIN:STANDARD
TZOFFSETFROM:+0300
TZOFFSETTO:+0200
TZNAME:EET
DTSTART:20251026T010000
END:STANDARD
END:VTIMEZONE
BEGIN:VEVENT
DTSTART;TZID=Europe/Helsinki:20250912T080000
DTEND;TZID=Europe/Helsinki:20250928T170000
DTSTAMP:20260422T000028
CREATED:20250904T100852Z
LAST-MODIFIED:20250904T100909Z
UID:433759-1757664000-1759078800@diaridelmaestrat.com
SUMMARY:Vinaròs - Nova Edició de "Vinaròs de Tapa En Tapa"
DESCRIPTION:
URL:https://diaridelmaestrat.com/agenda/vinaros-nova-edicio-de-vinaros-de-tapa-en-tapa/
LOCATION:Vinaròs
CATEGORIES:Rutes Gastronòmiques,VINARÒS
ATTACH;FMTTYPE=image/jpeg:https://diaridelmaestrat.com/wp-content/uploads/2025/09/VINAROS-DE-TAPA-EN-TAPA.jpeg
END:VEVENT
BEGIN:VEVENT
DTSTART;TZID=Europe/Helsinki:20250919T190000
DTEND;TZID=Europe/Helsinki:20250919T200000
DTSTAMP:20260422T000028
CREATED:20250903T120025Z
LAST-MODIFIED:20250903T120025Z
UID:433623-1758308400-1758312000@diaridelmaestrat.com
SUMMARY:Vinaròs - Presentació del llibre "El Arca de Noé: La Iglesia del Papa Luna"
DESCRIPTION:A càrrec de Custodio Ballester Bielsa
URL:https://diaridelmaestrat.com/agenda/vinaros-presentacio-del-llibre-el-arca-de-noe-la-iglesia-del-papa-luna/
LOCATION:Biblioteca de Vinaròs
CATEGORIES:Cultura,Presentació de Llibres,VINARÒS
ATTACH;FMTTYPE=image/jpeg:https://diaridelmaestrat.com/wp-content/uploads/2025/09/093b5201-a751-4ad6-bad6-564ed019d44f.jpeg
END:VEVENT
BEGIN:VEVENT
DTSTART;TZID=Europe/Helsinki:20250919T200000
DTEND;TZID=Europe/Helsinki:20250919T220000
DTSTAMP:20260422T000028
CREATED:20250903T104351Z
LAST-MODIFIED:20250903T104351Z
UID:433567-1758312000-1758319200@diaridelmaestrat.com
SUMMARY:Vinaròs - Mar\, o cómo sobrevivir a un tsunami
DESCRIPTION:Companyia: Rebe al rebés.\nPreu: 5 € Abonament Circuit Cultural\nPúblic: A partir de 12 anys\, joves i adults\n\nSinopsi \nMar\, o cómo sobrevivir a un tsunami és gairebé una tragicomèdia. Un espectacle honest que se submergeix en una mar de cordes com qui navega pels records\, i que s’enfronta a emocions en calma absoluta i en forta maror. Com sobreviure al buit que deixen els que ja no estan? No sabem com. Només que la vida passa. A vegades per soleá\, unes altres per bulería. En aquesta peça es dilueixen els conceptes del teatre físic\, el circ\, la música en directe i la plàstica escènica en un ritual gairebé humorístic\, gairebé poètic\, gairebé flamenc i gairebé dramàtic. Mar\, o cómo sobrevivir a un tsunami és un viatge entre l’humor absurd i el drama\, un acte de rebel·lia enfront del tabú de parlar sobre la mort. És un acte de resiliència. Un homenatge. \nFitxa artística \n\nDirecció: Ana Donoso Mora\nAutoria: Rebe al Rebes\, Ana Donoso Mora i Javier Prieto \nIntèrprets: Rebeca Pérez i Javier Prieto\n\nPremis \n\nMillor Música original – Talía 2024 \nMillor espectacle nocturn – Feten 2024 \nPremi Lorca al Millor Espectacle de Circ 2024\nPremi PACA de Circ d’Andalusia 2023 a la Millor Interpretació: Rebeca Pérez \nMenció Especial del Jurat – Panorama Circada 2021 (peça breu)
URL:https://diaridelmaestrat.com/agenda/vinaros-mar-o-como-sobrevivir-a-un-tsunami/
LOCATION:Auditori Municipal Wenceslao Ayguals de Izco\, Plaça de Sant Agustí\, 7\, 12500 Vinaròs\, Vinaròs\, Castellón\, 12500\, España
CATEGORIES:Circ,Cultura,Fira,VINARÒS
ATTACH;FMTTYPE=image/jpeg:https://diaridelmaestrat.com/wp-content/uploads/2025/09/Foto-Agenda-6.jpg
END:VEVENT
END:VCALENDAR