BEGIN:VCALENDAR
VERSION:2.0
PRODID:-//Diari del Maestrat - ECPv6.4.0//NONSGML v1.0//EN
CALSCALE:GREGORIAN
METHOD:PUBLISH
X-ORIGINAL-URL:https://diaridelmaestrat.com
X-WR-CALDESC:Events for Diari del Maestrat
REFRESH-INTERVAL;VALUE=DURATION:PT1H
X-Robots-Tag:noindex
X-PUBLISHED-TTL:PT1H
BEGIN:VTIMEZONE
TZID:Europe/Helsinki
BEGIN:DAYLIGHT
TZOFFSETFROM:+0200
TZOFFSETTO:+0300
TZNAME:EEST
DTSTART:20250330T010000
END:DAYLIGHT
BEGIN:STANDARD
TZOFFSETFROM:+0300
TZOFFSETTO:+0200
TZNAME:EET
DTSTART:20251026T010000
END:STANDARD
END:VTIMEZONE
BEGIN:VEVENT
DTSTART;TZID=Europe/Helsinki:20250912T080000
DTEND;TZID=Europe/Helsinki:20250928T170000
DTSTAMP:20260422T000116
CREATED:20250904T100852Z
LAST-MODIFIED:20250904T100909Z
UID:433759-1757664000-1759078800@diaridelmaestrat.com
SUMMARY:Vinaròs - Nova Edició de "Vinaròs de Tapa En Tapa"
DESCRIPTION:
URL:https://diaridelmaestrat.com/agenda/vinaros-nova-edicio-de-vinaros-de-tapa-en-tapa/
LOCATION:Vinaròs
CATEGORIES:Rutes Gastronòmiques,VINARÒS
ATTACH;FMTTYPE=image/jpeg:https://diaridelmaestrat.com/wp-content/uploads/2025/09/VINAROS-DE-TAPA-EN-TAPA.jpeg
END:VEVENT
BEGIN:VEVENT
DTSTART;TZID=Europe/Helsinki:20250927T110000
DTEND;TZID=Europe/Helsinki:20250927T200000
DTSTAMP:20260422T000116
CREATED:20250911T202306Z
LAST-MODIFIED:20250911T202336Z
UID:435844-1758970800-1759003200@diaridelmaestrat.com
SUMMARY:Vinaròs - Nanos Al Carrer
DESCRIPTION:D’11:00 a 13:30: Tallers.\nDe 17:00 a 19:00 h: Tallers\n19:00 h: Globotà i cercavila
URL:https://diaridelmaestrat.com/agenda/vinaros-nanos-al-carrer-2/
LOCATION:Pèrgola del Passeig Colom
CATEGORIES:Nanos i Gegants,VINARÒS
ATTACH;FMTTYPE=image/jpeg:https://diaridelmaestrat.com/wp-content/uploads/2023/02/nanos.jpg
END:VEVENT
BEGIN:VEVENT
DTSTART;TZID=Europe/Helsinki:20250927T113000
DTEND;TZID=Europe/Helsinki:20250927T140000
DTSTAMP:20260422T000116
CREATED:20250911T203142Z
LAST-MODIFIED:20250911T203142Z
UID:435846-1758972600-1758981600@diaridelmaestrat.com
SUMMARY:Vinaròs - Taller de cal·ligrafia medieval
DESCRIPTION:“La Vida Dins d’un Scriptorium” \n\nPúblic: De 4 a 10 anys.\nDuració: 90 min.\nIdioma: València.\nPreu: Gratuït. (Cal inscripció prèvia)
URL:https://diaridelmaestrat.com/agenda/vinaros-taller-de-cal%c2%b7ligrafia-medieval/
LOCATION:Biblioplatja de Vinaròs
CATEGORIES:Cultura,Tallers,VINARÒS
ATTACH;FMTTYPE=image/webp:https://diaridelmaestrat.com/wp-content/uploads/2025/07/Biblioplatja.webp
END:VEVENT
BEGIN:VEVENT
DTSTART;TZID=Europe/Helsinki:20250927T200000
DTEND;TZID=Europe/Helsinki:20250927T210000
DTSTAMP:20260422T000116
CREATED:20250911T203546Z
LAST-MODIFIED:20250911T203546Z
UID:435848-1759003200-1759006800@diaridelmaestrat.com
SUMMARY:Vinaròs - Concert d'intercanvi entre l'Orfeó Vinarossenc i Gent Gran de Benicarló
DESCRIPTION:
URL:https://diaridelmaestrat.com/agenda/vinaros-concert-dintercanvi-entre-lorfeo-vinarossenc-i-gent-gran-de-benicarlo/
LOCATION:Església de Santa Magdalena
CATEGORIES:Concerts,Cultura,VINARÒS
ATTACH;FMTTYPE=image/jpeg:https://diaridelmaestrat.com/wp-content/uploads/2025/09/magdalena-01-810x540-1.jpg
END:VEVENT
END:VCALENDAR