BEGIN:VCALENDAR
VERSION:2.0
PRODID:-//Diari del Maestrat - ECPv6.4.0//NONSGML v1.0//EN
CALSCALE:GREGORIAN
METHOD:PUBLISH
X-ORIGINAL-URL:https://diaridelmaestrat.com
X-WR-CALDESC:Events for Diari del Maestrat
REFRESH-INTERVAL;VALUE=DURATION:PT1H
X-Robots-Tag:noindex
X-PUBLISHED-TTL:PT1H
BEGIN:VTIMEZONE
TZID:Europe/Helsinki
BEGIN:DAYLIGHT
TZOFFSETFROM:+0200
TZOFFSETTO:+0300
TZNAME:EEST
DTSTART:20250330T010000
END:DAYLIGHT
BEGIN:STANDARD
TZOFFSETFROM:+0300
TZOFFSETTO:+0200
TZNAME:EET
DTSTART:20251026T010000
END:STANDARD
END:VTIMEZONE
BEGIN:VEVENT
DTSTART;TZID=Europe/Helsinki:20250912T080000
DTEND;TZID=Europe/Helsinki:20250928T170000
DTSTAMP:20260422T000117
CREATED:20250904T100852Z
LAST-MODIFIED:20250904T100909Z
UID:433759-1757664000-1759078800@diaridelmaestrat.com
SUMMARY:Vinaròs - Nova Edició de "Vinaròs de Tapa En Tapa"
DESCRIPTION:
URL:https://diaridelmaestrat.com/agenda/vinaros-nova-edicio-de-vinaros-de-tapa-en-tapa/
LOCATION:Vinaròs
CATEGORIES:Rutes Gastronòmiques,VINARÒS
ATTACH;FMTTYPE=image/jpeg:https://diaridelmaestrat.com/wp-content/uploads/2025/09/VINAROS-DE-TAPA-EN-TAPA.jpeg
END:VEVENT
BEGIN:VEVENT
DTSTART;TZID=Europe/Helsinki:20250928T120000
DTEND;TZID=Europe/Helsinki:20250928T130000
DTSTAMP:20260422T000117
CREATED:20250911T204028Z
LAST-MODIFIED:20250911T204028Z
UID:435852-1759060800-1759064400@diaridelmaestrat.com
SUMMARY:Vinaròs - Concert XXIII Campanya Concerts Intercanvis Musicals
DESCRIPTION:Colla Dolçainers Tabaleters i Trabucaires de Xaloc a Castelló i la Colla de Nanos i Gegants de Vinaròs. \n 
URL:https://diaridelmaestrat.com/agenda/vinaros-concert-xxiii-campanya-concerts-intercanvis-musicals/
LOCATION:Pèrgola del Passeig Blasco Ibáñez
ATTACH;FMTTYPE=image/jpeg:https://diaridelmaestrat.com/wp-content/uploads/2025/09/Pergola-del-passeig-de-Colom-Vinaros-2023.jpg
END:VEVENT
BEGIN:VEVENT
DTSTART;TZID=Europe/Helsinki:20250928T190000
DTEND;TZID=Europe/Helsinki:20250928T200000
DTSTAMP:20260422T000117
CREATED:20250904T105100Z
LAST-MODIFIED:20250904T105224Z
UID:433781-1759086000-1759089600@diaridelmaestrat.com
SUMMARY:Peñíscola - XLI Cicle de Concerts Música Clàssica (Orquesta Simfònica de Peñíscola)
DESCRIPTION:Samuel C. Ledesma\, chelo solista\nSalvador García Sorlí\, director\n\nPrograma de concierto \nI PARTE\nLa clemenza di Tito | Wolfgang a. Mozart\nObertura de la ópera (1756-1791)\nConcierto para | caMille saint-saënts\nviolonchelo n.º 1 en (1835-1921)\nla menor\, op. 33\nI. Allegro non tropo\nII. Allegretto con moto\nIII. Tempo primo \nII PARTE\nSinfonía n.º 4 en do | franz schuBert\nmenor\, D. 417\, “Trágica” (1797-1828)\nI. Adagio molto – Allegro vivace\nII. Andante\nIII. Menuetto. Allegro vivace\nIV. Allegro \nEntrada: 10 €.
URL:https://diaridelmaestrat.com/agenda/peniscola-xli-cicle-de-concerts-musica-classica-orquesta-simfonica-de-peniscola/
LOCATION:Palau de Congressos de Peníscola
CATEGORIES:Concerts,PENÍSCOLA
ATTACH;FMTTYPE=image/jpeg:https://diaridelmaestrat.com/wp-content/uploads/2025/09/Foto-Agenda-6-1.jpg
END:VEVENT
BEGIN:VEVENT
DTSTART;TZID=Europe/Helsinki:20250928T193000
DTEND;TZID=Europe/Helsinki:20250928T210000
DTSTAMP:20260422T000117
CREATED:20250903T105116Z
LAST-MODIFIED:20250903T105116Z
UID:433579-1759087800-1759093200@diaridelmaestrat.com
SUMMARY:Vinaròs - Lucretia Borgia
DESCRIPTION:ENTRE LA HISTÒRIA\, EL MITE I LA LLEGENDA. \n\nCompanyia: Capella de Ministrers \nPreu: 5 € Abonament Circuit Cultural \nSinopsi \nTot bon melòman associa el nom de Lucrècia Borja al de Gaetano Donizetti i la seua «òpera seriosa» Lucrezia Borgia\, amb llibret de F. Romani basat en l’obra homònima de Víctor Hugo\, que va ser estrenada en el Teatre de la Scala de Milà al desembre de 1833. El programa de concert que presenta Capella de Ministrers es basa en la música coetània a Lucrècia i ens mostra la seua humanitat\, intentant alliberar-la del clixé de dona dissoluta i incestuosa\, submergint-la en el context històric i en la vida quotidiana de la seua època. \nAmb aquestes músiques es viu en primera persona la fascinació de les corts renaixentistes italianes\, el naixement a Roma de Lucrècia en 1480\, les bodes amb Giovanni Sforza\, Alfons d’Aragó i Alfons d’Este\, i les relacions amb Pietro Bembo\, Isabella i la cort de Ferrara. Lucrècia Borja\, una dona del Renaixement. Una vida entre la història\, el mite i la llegenda. \nFitxa artística \nIntèrprets: Elia Casanova\, veu. Carles Magraner\, viola d’arc i Robert Cases\, guitarra renaixentista i viola  \nDirecció: Carles Magraner
URL:https://diaridelmaestrat.com/agenda/vinaros-lucretia-borgia/
LOCATION:Auditori Municipal Wenceslao Ayguals de Izco\, Plaça de Sant Agustí\, 7\, 12500 Vinaròs\, Vinaròs\, Castellón\, 12500\, España
CATEGORIES:Circ,Cultura,Fira,VINARÒS
ATTACH;FMTTYPE=image/jpeg:https://diaridelmaestrat.com/wp-content/uploads/2025/09/Foto-Agenda-9.jpg
END:VEVENT
END:VCALENDAR