BEGIN:VCALENDAR
VERSION:2.0
PRODID:-//Diari del Maestrat - ECPv6.4.0//NONSGML v1.0//EN
CALSCALE:GREGORIAN
METHOD:PUBLISH
X-ORIGINAL-URL:https://diaridelmaestrat.com
X-WR-CALDESC:Events for Diari del Maestrat
REFRESH-INTERVAL;VALUE=DURATION:PT1H
X-Robots-Tag:noindex
X-PUBLISHED-TTL:PT1H
BEGIN:VTIMEZONE
TZID:Europe/Helsinki
BEGIN:DAYLIGHT
TZOFFSETFROM:+0200
TZOFFSETTO:+0300
TZNAME:EEST
DTSTART:20250330T010000
END:DAYLIGHT
BEGIN:STANDARD
TZOFFSETFROM:+0300
TZOFFSETTO:+0200
TZNAME:EET
DTSTART:20251026T010000
END:STANDARD
END:VTIMEZONE
BEGIN:VEVENT
DTSTART;TZID=Europe/Helsinki:20251121T080000
DTEND;TZID=Europe/Helsinki:20251123T180000
DTSTAMP:20260421T211807
CREATED:20251117T114416Z
LAST-MODIFIED:20251117T114416Z
UID:451575-1763712000-1763920800@diaridelmaestrat.com
SUMMARY:Peníscola - Festes D'Hivern
DESCRIPTION:
URL:https://diaridelmaestrat.com/agenda/peniscola-festes-dhivern/
LOCATION:Castellón
CATEGORIES:Festes,PENÍSCOLA
ATTACH;FMTTYPE=image/jpeg:https://diaridelmaestrat.com/wp-content/uploads/2025/11/Festes-DHivern.jpg
END:VEVENT
BEGIN:VEVENT
DTSTART;VALUE=DATE:20251123
DTEND;VALUE=DATE:20251124
DTSTAMP:20260421T211807
CREATED:20251117T120255Z
LAST-MODIFIED:20251117T120255Z
UID:451593-1763856000-1763942399@diaridelmaestrat.com
SUMMARY:Peníscola - Actes del diumenge de les Festes d'Hivern
DESCRIPTION:11.00h a 14.00h Juegos infantiles.\n14.00h Fideuá popular. Hasta acabar existencias. Precio 2€: Asociación contra el Cáncer de Peñíscola.\n17.00h Animación de encierro infantil. Bou per la Vila.
URL:https://diaridelmaestrat.com/agenda/peniscola-actes-del-diumenge-de-les-festes-dhivern/
LOCATION:Castellón
CATEGORIES:Festes,PENÍSCOLA
END:VEVENT
BEGIN:VEVENT
DTSTART;TZID=Europe/Helsinki:20251123T193000
DTEND;TZID=Europe/Helsinki:20251123T213000
DTSTAMP:20260421T211807
CREATED:20251117T104639Z
LAST-MODIFIED:20251117T104639Z
UID:451535-1763926200-1763933400@diaridelmaestrat.com
SUMMARY:Vinaròs - Obra Teatral "Un Paseo Por España"
DESCRIPTION:Una antologia amb un format complet\, que cuida tots els ingredients de la sarsuela: orquestra\, ballet\, cantants\, actriu… Un passeig musical per Espanya a través de la sarsuela; els fragments més benvolguts pel públic de tota la vida. Un paseo por España\, amb una estètica actual on\, a través de la música\, es fa un recorregut pels principals romances\, intermedis i duos del nostre gènere líric per excel·lència: LA SARSUELA. “La patria chica” de R. Chapí\, “Canción de la verbena de la Paloma” del Barberillo de Lavapiés\, “Canto a Murcia” de la Parranda o “El Trust de los Tenorios” de J. Serrano\, són alguns dels fragments que s’escoltaran. \nUn viatge de sentiments i passions per tota la geografia espanyola guiats per l’actor Carles Roselló\, que entrellaça els seus textos amb la música i dota de ritme tota l’antologia. \nPreu: 5 €
URL:https://diaridelmaestrat.com/agenda/vinaros-obra-teatral-un-paseo-por-espana/
LOCATION:Auditori Municipal Wenceslao Ayguals de Izco\, Plaça de Sant Agustí\, 7\, 12500 Vinaròs\, Vinaròs\, Castellón\, 12500\, España
CATEGORIES:Teatre,VINARÒS
END:VEVENT
END:VCALENDAR