BEGIN:VCALENDAR
VERSION:2.0
PRODID:-//Diari del Maestrat - ECPv6.4.0//NONSGML v1.0//EN
CALSCALE:GREGORIAN
METHOD:PUBLISH
X-WR-CALNAME:Diari del Maestrat
X-ORIGINAL-URL:https://diaridelmaestrat.com
X-WR-CALDESC:Events for Diari del Maestrat
REFRESH-INTERVAL;VALUE=DURATION:PT1H
X-Robots-Tag:noindex
X-PUBLISHED-TTL:PT1H
BEGIN:VTIMEZONE
TZID:Europe/Helsinki
BEGIN:DAYLIGHT
TZOFFSETFROM:+0200
TZOFFSETTO:+0300
TZNAME:EEST
DTSTART:20260329T010000
END:DAYLIGHT
BEGIN:STANDARD
TZOFFSETFROM:+0300
TZOFFSETTO:+0200
TZNAME:EET
DTSTART:20261025T010000
END:STANDARD
END:VTIMEZONE
BEGIN:VEVENT
DTSTART;TZID=Europe/Helsinki:20260109T190000
DTEND;TZID=Europe/Helsinki:20260109T200000
DTSTAMP:20260421T181718
CREATED:20260108T113805Z
LAST-MODIFIED:20260108T113805Z
UID:464297-1767985200-1767988800@diaridelmaestrat.com
SUMMARY:Vinaròs - Col·loqui "De Carles Santos A La Música Experimental Valenciana: Emocions Sonores En Context Internacional"
DESCRIPTION:A càrrec de Josep Lluís Galiana i comptarà amb la col·laboració d’Alfredo Llopico
URL:https://diaridelmaestrat.com/agenda/vinaros-col%c2%b7loqui-de-carles-santos-a-la-musica-experimental-valenciana-emocions-sonores-en-context-internacional/
LOCATION:Auditori Carles Santos\, C/Socors\, 64\, Vinaròs\, Castellón\, 12500\, España
CATEGORIES:Conferències,VINARÒS
ATTACH;FMTTYPE=image/jpeg:https://diaridelmaestrat.com/wp-content/uploads/2026/01/606583369_1346432190616200_6561588434307403283_n.jpg
END:VEVENT
END:VCALENDAR