BEGIN:VCALENDAR
VERSION:2.0
PRODID:-//Diari del Maestrat - ECPv6.4.0//NONSGML v1.0//EN
CALSCALE:GREGORIAN
METHOD:PUBLISH
X-ORIGINAL-URL:https://diaridelmaestrat.com
X-WR-CALDESC:Events for Diari del Maestrat
REFRESH-INTERVAL;VALUE=DURATION:PT1H
X-Robots-Tag:noindex
X-PUBLISHED-TTL:PT1H
BEGIN:VTIMEZONE
TZID:Europe/Helsinki
BEGIN:DAYLIGHT
TZOFFSETFROM:+0200
TZOFFSETTO:+0300
TZNAME:EEST
DTSTART:20260329T010000
END:DAYLIGHT
BEGIN:STANDARD
TZOFFSETFROM:+0300
TZOFFSETTO:+0200
TZNAME:EET
DTSTART:20261025T010000
END:STANDARD
END:VTIMEZONE
BEGIN:VEVENT
DTSTART;TZID=Europe/Helsinki:20260111T110000
DTEND;TZID=Europe/Helsinki:20260111T123000
DTSTAMP:20260421T181717
CREATED:20260108T111643Z
LAST-MODIFIED:20260108T111643Z
UID:464269-1768129200-1768134600@diaridelmaestrat.com
SUMMARY:Peníscola - Sant Antoni - Cercavila
DESCRIPTION:Cercavila dels majorals i membres de la Comissió per a la venda de butlletes de la rifa tradicional\, acompanyats d’una xaranga.
URL:https://diaridelmaestrat.com/agenda/peniscola-sant-antoni-cercavila/
LOCATION:Castellón
CATEGORIES:Festes,PENÍSCOLA
END:VEVENT
BEGIN:VEVENT
DTSTART;TZID=Europe/Helsinki:20260111T120000
DTEND;TZID=Europe/Helsinki:20260111T130000
DTSTAMP:20260421T181717
CREATED:20260108T123856Z
LAST-MODIFIED:20260108T123856Z
UID:464357-1768132800-1768136400@diaridelmaestrat.com
SUMMARY:Benicarló - Falles - Exaltació Falla El Caduf
DESCRIPTION:
URL:https://diaridelmaestrat.com/agenda/benicarlo-falles-exaltacio-falla-el-caduf/
LOCATION:Auditori Pedro Mercader\, Carrer de València\, s/n\, 12580 Benicarló\, Benicarló\, Castellón\, 12580\, España
CATEGORIES:BENICARLÓ,Falles
ATTACH;FMTTYPE=image/jpeg:https://diaridelmaestrat.com/wp-content/uploads/2026/01/B-38.jpg
END:VEVENT
END:VCALENDAR