BEGIN:VCALENDAR
VERSION:2.0
PRODID:-//Diari del Maestrat - ECPv6.4.0//NONSGML v1.0//EN
CALSCALE:GREGORIAN
METHOD:PUBLISH
X-ORIGINAL-URL:https://diaridelmaestrat.com
X-WR-CALDESC:Events for Diari del Maestrat
REFRESH-INTERVAL;VALUE=DURATION:PT1H
X-Robots-Tag:noindex
X-PUBLISHED-TTL:PT1H
BEGIN:VTIMEZONE
TZID:Europe/Helsinki
BEGIN:DAYLIGHT
TZOFFSETFROM:+0200
TZOFFSETTO:+0300
TZNAME:EEST
DTSTART:20260329T010000
END:DAYLIGHT
BEGIN:STANDARD
TZOFFSETFROM:+0300
TZOFFSETTO:+0200
TZNAME:EET
DTSTART:20261025T010000
END:STANDARD
END:VTIMEZONE
BEGIN:VEVENT
DTSTART;VALUE=DATE:20260114
DTEND;VALUE=DATE:20260116
DTSTAMP:20260421T182739
CREATED:20260108T122151Z
LAST-MODIFIED:20260108T122151Z
UID:464342-1768348800-1768521599@diaridelmaestrat.com
SUMMARY:Benicarló - Sant Antoni - Repartiment de coquetes
DESCRIPTION:Visita de la Dama Paula Tena Fresquet i les majorals als diferents organismes i col·legis de la ciutat per repartir les típiques coquetes a tots els xiquets i xiquetes
URL:https://diaridelmaestrat.com/agenda/benicarlo-sant-antoni-repartiment-de-coquetes/
LOCATION:Castellón
CATEGORIES:BENICARLÓ
ATTACH;FMTTYPE=image/jpeg:https://diaridelmaestrat.com/wp-content/uploads/2026/01/C-32.jpg
END:VEVENT
END:VCALENDAR