BEGIN:VCALENDAR
VERSION:2.0
PRODID:-//Diari del Maestrat - ECPv6.4.0//NONSGML v1.0//EN
CALSCALE:GREGORIAN
METHOD:PUBLISH
X-WR-CALNAME:Diari del Maestrat
X-ORIGINAL-URL:https://diaridelmaestrat.com
X-WR-CALDESC:Events for Diari del Maestrat
REFRESH-INTERVAL;VALUE=DURATION:PT1H
X-Robots-Tag:noindex
X-PUBLISHED-TTL:PT1H
BEGIN:VTIMEZONE
TZID:Europe/Helsinki
BEGIN:DAYLIGHT
TZOFFSETFROM:+0200
TZOFFSETTO:+0300
TZNAME:EEST
DTSTART:20260329T010000
END:DAYLIGHT
BEGIN:STANDARD
TZOFFSETFROM:+0300
TZOFFSETTO:+0200
TZNAME:EET
DTSTART:20261025T010000
END:STANDARD
END:VTIMEZONE
BEGIN:VEVENT
DTSTART;VALUE=DATE:20260117
DTEND;VALUE=DATE:20260118
DTSTAMP:20260421T181632
CREATED:20260108T122749Z
LAST-MODIFIED:20260108T122749Z
UID:464348-1768608000-1768694399@diaridelmaestrat.com
SUMMARY:Benicarló - Sant Antoni - Actes de Sant Antoni
DESCRIPTION:🕥 10.30 h – Missa solemne a l’església de Sant Bartomeu en honor a Sant Antoni Abat. \n\n\n\n\nEn finalitzar la missa\, benedicció dels animals \n\n\nA continuació\, el Club Colombòfil Missatger de Benicarló oferirà una solta de coloms \n\n\n\n\n🕛 12.00 h – Sorteig dels premis. \n🕕 18.00 h – Eixida de la cavalcada\, amb: \n\n\n\n\nSegona tirada de coques \n\n\nActe d’homenatge per part de la Confraria a Josep Manuel Galán Foix i Elisa Tena Soriano en reconeixement a la seua aportació a la Festa de Sant Antoni.
URL:https://diaridelmaestrat.com/agenda/benicarlo-sant-antoni-actes-de-sant-antoni/
LOCATION:Castellón
CATEGORIES:BENICARLÓ,Festes
ATTACH;FMTTYPE=image/jpeg:https://diaridelmaestrat.com/wp-content/uploads/2026/01/C-32.jpg
END:VEVENT
BEGIN:VEVENT
DTSTART;TZID=Europe/Helsinki:20260117T090000
DTEND;TZID=Europe/Helsinki:20260117T133000
DTSTAMP:20260421T181632
CREATED:20260108T120651Z
LAST-MODIFIED:20260108T120651Z
UID:464330-1768640400-1768656600@diaridelmaestrat.com
SUMMARY:Vinaròs - Actes centrals de Sant Antoni
DESCRIPTION:09:00 h: Barreja Matinera.\n09:30 h a 12:30 h: Repartiment de l’esmorzar.\n11:00 h: Missa de Sant Antoni.\n12:00 h: Processó i benedicció dels animals.\n13:00 h: Plantada de carrasques.
URL:https://diaridelmaestrat.com/agenda/vinaros-actes-centrals-de-sant-antoni/
LOCATION:Ermita de la Misericòrdia
CATEGORIES:Festes,VINARÒS
ATTACH;FMTTYPE=image/webp:https://diaridelmaestrat.com/wp-content/uploads/2026/01/96b67a4c-51ae-4b82-b931-2b94491eb28a-768x574-1-1.webp
END:VEVENT
BEGIN:VEVENT
DTSTART;TZID=Europe/Helsinki:20260117T103000
DTEND;TZID=Europe/Helsinki:20260117T110000
DTSTAMP:20260421T181632
CREATED:20260108T112136Z
LAST-MODIFIED:20260108T112244Z
UID:464278-1768645800-1768647600@diaridelmaestrat.com
SUMMARY:Peníscola - Sant Antoni - Concentració davant de l'Ajuntament
DESCRIPTION:Concentració a l’Ajuntament. Sortida en processó dels majorals\, membres de la Comissió\, Reina i Cort d’Honor 2025\, autoritats i acompanyants\, amb la imatge del Sant\, cap a l’ermita de Mare de Déu de l’Ermitana.
URL:https://diaridelmaestrat.com/agenda/peniscola-sant-antoni-concentracio/
LOCATION:Ajuntament de Peníscola
CATEGORIES:Festes,PENÍSCOLA
END:VEVENT
BEGIN:VEVENT
DTSTART;TZID=Europe/Helsinki:20260117T120000
DTEND;TZID=Europe/Helsinki:20260117T130000
DTSTAMP:20260421T181632
CREATED:20260108T112417Z
LAST-MODIFIED:20260108T112417Z
UID:464279-1768651200-1768654800@diaridelmaestrat.com
SUMMARY:Peníscola - Sant Antoni - Missa de Sant Antoni
DESCRIPTION:Missa en honor del Nostre Patró Sant Antoni en l’ermita de la Mare de Déu de l’Ermitana. Durant la missa s’imposarà la brusa i el mocador al Majoral de Sant Antoni 2026.
URL:https://diaridelmaestrat.com/agenda/peniscola-sant-antoni-missa-de-sant-antoni/
LOCATION:Castellón
CATEGORIES:Festes,PENÍSCOLA
END:VEVENT
BEGIN:VEVENT
DTSTART;TZID=Europe/Helsinki:20260117T173000
DTEND;TZID=Europe/Helsinki:20260117T183000
DTSTAMP:20260421T181632
CREATED:20260108T124039Z
LAST-MODIFIED:20260108T124039Z
UID:464359-1768671000-1768674600@diaridelmaestrat.com
SUMMARY:Benicarló - Falles - Exaltació Falla l'Embut
DESCRIPTION:
URL:https://diaridelmaestrat.com/agenda/benicarlo-falles-exaltacio-falla-lembut/
LOCATION:Auditori Pedro Mercader\, Carrer de València\, s/n\, 12580 Benicarló\, Benicarló\, Castellón\, 12580\, España
CATEGORIES:BENICARLÓ,Falles
ATTACH;FMTTYPE=image/jpeg:https://diaridelmaestrat.com/wp-content/uploads/2026/01/B-38.jpg
END:VEVENT
END:VCALENDAR